Workbook
Name case: #REF!
Name co: #REF!
Name f: #REF!

Sheet Table of Contents
F1: Case No. 2026-00306
F2: SMRP Table of Contents
A5: Columbia Gas of Kentucky, Inc.
A6: Annual Adjustment to the Safety Modification and Replacement Program ("SMRP")
A7: Forecasted Period Ending December 31, 2027
A8: Table of Contents
A13: Form Number | C13: Description
A14: 1.0 | C14: SMRP Rates by Rate Schedule
A15: 1.1 | C15: Projected Volumes
A16: 2.0 | C16: Revenue Requirement
A17: 2.1 | C17: Cost of Capital
A18: 2.2 | C18: PSC Assessment Conversion Factor
A19: 3.0 | C19: Plant In Service
A20: 4.0 | C20: Accumulated Depreciation
A21: 5.0 | C21: Depreciation Expense
A22: 6.0 | C22: ADIT - Normalized
A23: 6.1 | C23: ADIT - Calculation
A24: 7.0 | C24: Property Tax Expense
A25: 8.0 | C25: O&M Savings

Sheet 1.0 SMRP Rider Calc 
I1: ='Table of Contents'!F1 -> Case No. 2026-00306
I2: SMRP Form 1.0
A4: Columbia Gas of Kentucky, Inc.
A5: Annual Adjustment to the Safety Modification and Replacement Program ("SMRP")
A6: SMRP Rider by Rate Schedule
E8: Billing | F8: Volumetric | G8: Balancing | H8: Total
A9: Line | C9: Allocation | D9: Revenue | E9: Determinant | F9: SMRP | G9: Adjustment | H9: Volumetric
A10: No. | B10: Rate Schedule | C10: Percent (1) | D10: Requirement | E10: Volumes (2) | F10: Rider | G10: SMRP Rider [4] | H10: SMRP Rider
B11: ( A ) | C11: ( B ) | D11: ( C ) | E11: ( D ) | F11: ( E ) | G11: ( F ) | H11: ( G )
A14: 1 | B14: Rate GSR, Rate SVGTS - Residential Service | C14: 0.64795 | D14: =ROUND(C14*$D$22,0) -> 15452444 | E14: ='1.1 Projected Volumes'!C17 -> 8089316 | F14: =ROUND(D14/E14,4) -> 1.9102 | G14: -0.0793 | H14: =F14+G14 -> 1.8309
A16: =A14+1 -> 2 | B16: Rate GSO, Rate GDS, Rate SVGTS - Com. or Ind. Service | C16: 0.27683 | D16: =ROUND(C16*$D$22,0) -> 6601898 | E16: ='1.1 Projected Volumes'!C18 -> 6142657.6 | F16: =ROUND(D16/E16,4) -> 1.0748 | G16: -0.0431 | H16: =F16+G16 -> 1.0317
A18: =A16+1 -> 3 | B18: Rate IUS, Rate IUDS | C18: 0.00029 | D18: =ROUND(C18*$D$22,0) -> 6916 | E18: ='1.1 Projected Volumes'!C19 -> 10601 | F18: =ROUND(D18/E18,4) -> 0.6524 | G18: -0.0508 | H18: =F18+G18 -> 0.6016
A20: =A18+1 -> 4 | B20: Rate IS, Rate DS (3), Rate SAS | C20: 0.07493 | D20: =ROUND(C20*$D$22,0) -> 1786946 | E20: ='1.1 Projected Volumes'!C20 -> 8940413.4 | F20: =ROUND(D20/E20,4) -> 0.1999 | G20: -0.0087 | H20: =F20+G20 -> 0.1912
A22: =A20+1 -> 5 | B22: TOTAL | C22: =SUM(C14:C21) -> 1 | D22: ='2.0 Revenue Req.'!I30 -> 23848204 | E22: =SUM(E14:E21) -> 23182988
A26: Notes:
A27: (1) Allocation percent is based on the as filed overall base revenue distribution in PSC Case No. 2024-00092 Stipulation
A28: (2) Billing Determinants based on projected 2027 volumes
A29: (3) Excluding customers subject to the Flex Provisions of Rate Schedule DS.
A30: (4) Balancing Adjustment - per Case No. 2026-00083

Sheet 1.1 Projected Volumes
C1: ='Table of Contents'!F1 -> Case No. 2026-00306
C2: SMRP Form 1.1
B4: Columbia Gas of Kentucky
B5: Annual Adjustment to the Safety Modification and Replacement Program ("SMRP")
B6: SMRP Rider Billing Determinants by Rate Schedule - Estimated Billing Volumes
B7: For the Twelve Months Ending December 31, 2027
B12: Rate Schedule | C12: Total Mcf
B14: ( A ) | C14: ( B )
B17: GSR /GTR - Residential | C17: =7371963.2+717352.8 -> 8089316
B18: GSO/GTO/GDS - Commercial or Industrial | C18: =316284.8+1139073.4+4687299.4 -> 6142657.6
B19: IUS, IUDS | C19: 10601
B20: IS, DS | C20: 8940413.4
B21: Total | C21: =SUM(C17:C20) -> 23182988

Sheet 2.0 Revenue Req.
K1: ='Table of Contents'!F1 -> Case No. 2026-00306
K2: SMRP Form 2.0
A3: Columbia Gas of Kentucky, Inc.
A4: Annual Adjustment to the Safety Modification and Replacement Program ("SMRP")
A5: Forecasted SMRP Revenue Requirement For the Thirteen Months Ending December 31, 2027
A8: Line | G8: SMRP Investment | I8: Revenue Requirement
A9: No. | G9: 46752 | I9: Calculation | K9: Reference
G10: ( A ) | I10: ( B ) | K10: ( C )
A12: 1 | C12: Plant In Service | G12: ='3.0 Plant in Service'!Q328 -> 1.8953733e+08 | K12: Form 3.0
A13: =A12+1 -> 2 | C13: Accumulated Depreciation | G13: ='4.0 Accumulated Depr'!Q373 -> 15278143 | K13: Form 4.0
A14: 3 | C14: Accumulated Deferred Income Tax | G14: ='6.0 ADIT Normalized '!Q53 -> -28629484 | K14: From 6.0
A15: 4 | D15: Net Rate Base (Line 1 + Line 2 + Line 3) | I15: =SUM(G12:G14) -> 1.7618599e+08 | K15: Line 1 + Line 2 + Line 3
A17: 5 | C17: Rate of Return | I17: ='2.1 ROR '!F20 -> 0.0905 | K17: Form 2.1
A19: 6 | C19: Return on Rate Base | I19: =ROUND(I15*I17,0) -> 15944832 | K19: Line 4 * Line 5
A21: 7 | C21: Depreciation Expense | G21: ='5.0 Depr Expense'!Q381 -> 5015908.8 | K21: Form 5.0
A22: 8 | C22: Property Tax | G22: ='7.0 Property Tax'!G17 -> 2756968 | K22: Form 7.0
A23: =+A22+1 -> 9 | C23: O&M Savings | G23: ='8.0 O&M Savings '!E13 -> 0 | K23: Form 8.0
A24: =+A23+1 -> 10 | D24: Subtotal Depreciation, Property Tax and O&M Savings | I24: =SUM(G21:G23) -> 7772876.8 | K24: Line 7 + Line 8 + Line 9
A26: =+A24+1 -> 11 | C26: Revenue Requirement Before PSC Assessment/Uncollectible | I26: =+I19+I24 -> 23717709 | K26: Line 6 + Line 10
A28: =+A26+1 -> 12 | C28: PSC Assessment & Uncollectible Conversion Factor | I28: 1.005502 | K28: Form 2.2
A30: =+A28+1 -> 13 | C30: Required Return on SMRP Related Investment | I30: =ROUND(I26*I28,0) -> 23848204 | K30: Line 11 * Line 12

Sheet 2.1 ROR 
H1: ='Table of Contents'!F1 -> Case No. 2026-00306
H2: SMRP Form 2.1
A4: Columbia Gas of Kentucky, Inc.
A5: Annual Adjustment to the Safety Modification and Replacement Program
A6: Cost of Capital
F10: Pre-Tax @
A11: Line | E11: Weighted | F11: Effect tax of
A12: No. | B12: Capital Structure | C12: Ratio | D12: Cost | E12: Cost | F12: 0.2495
B13: ( A ) | C13: ( B ) | D13: ( C ) | E13: ( D ) | F13: ( E )
A16: 1 | B16: Short term Debt | C16: 0.0183 | D16: 0.0525 | E16: =+C16*D16 -> 0.00096075 | F16: =E16 -> 0.00096075
A17: =+A16+1 -> 2 | B17: Long term Debt | C17: 0.4553 | D17: 0.048 | E17: =+C17*D17 -> 0.0218544 | F17: =E17 -> 0.0218544
A18: =+A17+1 -> 3 | B18: Equity | C18: 0.52641 | D18: 0.0965 | E18: =+C18*D18 -> 0.050798565 | F18: =ROUND(E18/(1-F12),7) -> 0.0676863
A20: =A18+1 -> 4 | B20: Total | C20: =SUM(C16:C18) -> 1.00001 | E20: =SUM(E16:E18) -> 0.073613715 | F20: =ROUND(SUM(F16:F18),4) -> 0.0905
B23: Reflects Cost of Capital as filed in PSC Case No. 2024-00092 Stipulation

Sheet 2.2 Conversion Factor 
I1: ='Table of Contents'!F1 -> Case No. 2026-00306
I2: SMRP Form 2.2
C4: Columbia Gas of Kentucky, Inc.
C5: Annual Adjustment to the Safety Modification and Replacement Program
C6: Conversion Factor - PSC fees
E10: PERCENTAGE OF
E11: INCREMENTAL
C12: Line No. | D12: DESCRIPTION | E12: GROSS REVENUE
C14: 1 | D14: OPERATING REVENUE | E14: 1
C16: =+C14+1 -> 2 | D16: LESS: UNCOLLECTIBLE EXPENSE | E16: 0.00417
C18: =+C16+1 -> 3 | D18: LESS: PSC FEES | E18: 0.001302
C20: =+C18+1 -> 4 | D20: NET REVENUES | E20: =+E14-E16-E18 -> 0.994528
C22: =+C20+1 -> 5 | D22: GROSS REVENUE CONVERSION FACTOR | E22: =ROUND(1/$E$20,6) -> 1.005502
C25: Reflects Gross Conversion Factor as filed in PSC Case No. 2024-00092 Stipulation

Sheet 3.0 Plant in Service
Q1: ='Table of Contents'!F1 -> Case No. 2026-00306
Q2: SMRP Form 3.0
Q3: Page 1 of 5
A4: Columbia Gas of Kentucky, Inc.
A5: Annual Adjustment to the Safety Modification and Replacement Program ("SMRP")
A6: 2023 Plant In Service
C10: 2022 | D10: =+C10+1 -> 2023 | E10: =+D10 -> 2023 | F10: =+E10 -> 2023 | G10: =+F10 -> 2023 | H10: =+G10 -> 2023 | I10: =+H10 -> 2023 | J10: =+I10 -> 2023 | K10: =+J10 -> 2023 | L10: =+K10 -> 2023 | ... Q10: =+P10 -> 2023
C11: December | D11: January | E11: February | F11: March | G11: April | H11: May | I11: June | J11: July | K11: August | L11: September | M11: October | N11: November | O11: December | P11: Cumulative Total | Q11: 13 Month Average
C12: Cumulative | D12: Actual | E12: Actual | F12: Actual | G12: Actual | H12: Actual | I12: Actual | J12: Actual | K12: Actual | L12: Actual | M12: Actual | N12: Actual | O12: Actual
B14: Additions
B15: 376 Mains | C15: 0 | D15: 79805.64 | E15: 859141.8 | F15: 3925560.6 | G15: 805780.18 | H15: 3005341.4 | I15: 3854453.1 | J15: 3124046.7 | K15: 1345549.6 | L15: 4929452 | M15: 1282582.2 | N15: 3498689.7 | O15: 4263655.3 | P15: =SUM(C15:O15) -> 30974058
B16: 378 Plant Regulators | C16: 0 | P16: =SUM(C16:O16) -> 0
B17: 380 Service Lines | C17: 0 | D17: 849592.64 | E17: 1027481.7 | F17: 1095911 | G17: 1074077.5 | H17: 1261172 | I17: 1124603.4 | J17: 946236.83 | K17: 1262751.2 | L17: 1078244.2 | M17: 1523803.1 | N17: 861761.95 | O17: 782388.46 | P17: =SUM(C17:O17) -> 12888024
B18: 382 Meter Installations | C18: 0 | D18: 1645.31 | E18: 0 | F18: 1219.19 | G18: 374.88 | H18: 2800.43 | I18: 4551.35 | J18: 7084.41 | K18: 19772.76 | L18: 5637.86 | M18: 17703.63 | N18: 14238.46 | O18: 10554.1 | P18: =SUM(C18:O18) -> 85582.38
B19: 383 House Regulators | C19: 0 | D19: 0 | E19: 0 | F19: 0 | G19: 0 | H19: 0 | I19: 0 | J19: 0 | K19: 0 | L19: 0 | M19: 0 | N19: 0 | O19: 0 | P19: =SUM(C19:O19) -> 0
B20: Total Monthly Additions | C20: =SUM(C15:C19) -> 0 | D20: =SUM(D15:D19) -> 931043.59 | E20: =SUM(E15:E19) -> 1886623.5 | F20: =SUM(F15:F19) -> 5022690.8 | G20: =SUM(G15:G19) -> 1880232.6 | H20: =SUM(H15:H19) -> 4269313.8 | I20: =SUM(I15:I19) -> 4983607.9 | J20: =SUM(J15:J19) -> 4077368 | ... O20: =SUM(O15:O19) -> 5056597.9
B21: Total Cumulative Additions | C21: =+C20 -> 0 | D21: =+D20+C21 -> 931043.59 | E21: =+E20+D21 -> 2817667.1 | F21: =+F20+E21 -> 7840357.9 | G21: =+G20+F21 -> 9720590.5 | H21: =+H20+G21 -> 13989904 | I21: =+I20+H21 -> 18973512 | J21: =+J20+I21 -> 23050880 | K21: =+K20+J21 -> 25678954 | ... O21: =+O20+N21 -> 43947665 | P21: =SUM(P15:P19) -> 43947665 | Q21: =AVERAGE(C21:O21) -> 19388485
B23: Retirements
B24: 376 Mains | C24: 0 | D24: 0 | E24: 0 | F24: 0 | G24: 0 | H24: -14490.58 | I24: -207 | J24: -64.34 | K24: -207 | L24: -175288.07 | M24: -557.34 | N24: 0 | O24: -94799.38 | P24: =SUM(C24:O24) -> -285613.71
B25: 378 Plant Regulators | C25: 0 | D25: -7576.53 | E25: -6092.8 | F25: -17244.22 | G25: -1679.98 | H25: -9507.96 | I25: -98607.48 | J25: -90900.48 | K25: -73755.9 | L25: -42418.09 | M25: 0 | N25: -507.39 | O25: -42121.18 | P25: =SUM(C25:O25) -> -390412.01
B26: 380 Service Lines | C26: 0 | D26: -277338.55 | E26: -116568.91 | F26: -192040.81 | G26: -189065.28 | H26: -292187.68 | I26: -358664.11 | J26: -231124.94 | K26: -168870.39 | L26: -273184.83 | M26: -178657.54 | N26: -274398.31 | O26: -240285.09 | P26: =SUM(C26:O26) -> -2792386.4
B27: 382 Meter Installations | C27: 0 | D27: -489.15 | E27: -1574.73 | F27: -2045.79 | G27: -5647.45 | H27: -3453.44 | I27: -3705.51 | J27: -5252.36 | K27: -9322.32 | L27: -4705.11 | M27: -4703.41 | N27: -3639.67 | O27: -3691.83 | P27: =SUM(C27:O27) -> -48230.77
B28: 383 House Regulators | C28: 0 | D28: -188.66 | E28: -230.7 | F28: -156.8 | G28: -171.39 | H28: -348.81 | I28: -226.33 | J28: -3043.3 | K28: -197.14 | L28: -575.59 | M28: -562.87 | N28: -632.73 | O28: -534.67 | P28: =SUM(C28:O28) -> -6868.99
B29: Total Monthly Retirements | C29: =SUM(C24:C28) -> 0 | D29: =SUM(D24:D28) -> -285592.89 | E29: =SUM(E24:E28) -> -124467.14 | F29: =SUM(F24:F28) -> -211487.62 | G29: =SUM(G24:G28) -> -196564.1 | H29: =SUM(H24:H28) -> -319988.47 | I29: =SUM(I24:I28) -> -461410.43 | J29: =SUM(J24:J28) -> -330385.42 | ... O29: =SUM(O24:O28) -> -381432.15
B30: Total Cumulative Retirements | C30: =+C29 -> 0 | D30: =+D29+C30 -> -285592.89 | E30: =+E29+D30 -> -410060.03 | F30: =+F29+E30 -> -621547.65 | G30: =+G29+F30 -> -818111.75 | H30: =+H29+G30 -> -1138100.2 | I30: =+I29+H30 -> -1599510.7 | J30: =+J29+I30 -> -1929896.1 | K30: =+K29+J30 -> -2182248.8 | ... O30: =+O29+N30 -> -3523511.9 | P30: =SUM(P24:P28) -> -3523511.9 | Q30: =AVERAGE(C30:O30) -> -1630152.5
B32: Total Plant In Service
B33: 376 Mains | C33: =+C15+C24 -> 0 | D33: =+D15+D24 -> 79805.64 | E33: =+E15+E24 -> 859141.8 | F33: =+F15+F24 -> 3925560.6 | G33: =+G15+G24 -> 805780.18 | H33: =+H15+H24 -> 2990850.8 | I33: =+I15+I24 -> 3854246.1 | J33: =+J15+J24 -> 3123982.4 | ... O33: =+O15+O24 -> 4168855.9 | P33: =SUM(C33:O33) -> 30688444
B34: 378 Plant Regulators | C34: =+C16+C25 -> 0 | D34: =+D16+D25 -> -7576.53 | E34: =+E16+E25 -> -6092.8 | F34: =+F16+F25 -> -17244.22 | G34: =+G16+G25 -> -1679.98 | H34: =+H16+H25 -> -9507.96 | I34: =+I16+I25 -> -98607.48 | J34: =+J16+J25 -> -90900.48 | ... O34: =+O16+O25 -> -42121.18 | P34: =SUM(C34:O34) -> -390412.01
B35: 380 Service Lines | C35: =+C17+C26 -> 0 | D35: =+D17+D26 -> 572254.09 | E35: =+E17+E26 -> 910912.81 | F35: =+F17+F26 -> 903870.21 | G35: =+G17+G26 -> 885012.26 | H35: =+H17+H26 -> 968984.3 | I35: =+I17+I26 -> 765939.34 | J35: =+J17+J26 -> 715111.89 | ... O35: =+O17+O26 -> 542103.37 | P35: =SUM(C35:O35) -> 10095638
B36: 382 Meter Installations | C36: =+C18+C27 -> 0 | D36: =+D18+D27 -> 1156.16 | E36: =+E18+E27 -> -1574.73 | F36: =+F18+F27 -> -826.6 | G36: =+G18+G27 -> -5272.57 | H36: =+H18+H27 -> -653.01 | I36: =+I18+I27 -> 845.84 | J36: =+J18+J27 -> 1832.05 | ... O36: =+O18+O27 -> 6862.27 | P36: =SUM(C36:O36) -> 37351.61
B37: 383 House Regulators | C37: =+C19+C28 -> 0 | D37: =+D19+D28 -> -188.66 | E37: =+E19+E28 -> -230.7 | F37: =+F19+F28 -> -156.8 | G37: =+G19+G28 -> -171.39 | H37: =+H19+H28 -> -348.81 | I37: =+I19+I28 -> -226.33 | J37: =+J19+J28 -> -3043.3 | ... O37: =+O19+O28 -> -534.67 | P37: =SUM(C37:O37) -> -6868.99
B38: Total Plant In Service Monthly Activity | C38: =SUM(C33:C37) -> 0 | D38: =SUM(D33:D37) -> 645450.7 | E38: =SUM(E33:E37) -> 1762156.4 | F38: =SUM(F33:F37) -> 4811203.2 | G38: =SUM(G33:G37) -> 1683668.5 | H38: =SUM(H33:H37) -> 3949325.4 | I38: =SUM(I33:I37) -> 4522197.4 | J38: =SUM(J33:J37) -> 3746982.5 | ... O38: =SUM(O33:O37) -> 4675165.7
B39: Total Cumulative Plant In Service | C39: =+C38 -> 0 | D39: =+D38+C39 -> 645450.7 | E39: =+E38+D39 -> 2407607.1 | F39: =+F38+E39 -> 7218810.2 | G39: =+G38+F39 -> 8902478.7 | H39: =+H38+G39 -> 12851804 | I39: =+I38+H39 -> 17374002 | J39: =+J38+I39 -> 21120984 | K39: =+K38+J39 -> 23496705 | ... O39: =+O38+N39 -> 40424153 | P39: =SUM(P33:P37) -> 40424153 | Q39: =AVERAGE(C39:O39) -> 17758333
Q71: =Q1 -> Case No. 2026-00306
Q72: SMRP Form 3.0
Q73: Page 2 of 5
A74: Columbia Gas of Kentucky, Inc.
A75: Annual Adjustment to the Safety Modification and Replacement Program ("SMRP")
A76: 2024 Plant In Service
C80: 2023 | D80: =+C80+1 -> 2024 | E80: =+D80 -> 2024 | F80: =+E80 -> 2024 | G80: =+F80 -> 2024 | H80: =+G80 -> 2024 | I80: =+H80 -> 2024 | J80: =+I80 -> 2024 | K80: =+J80 -> 2024 | L80: =+K80 -> 2024 | ... Q80: =+P80 -> 2024
...

Sheet 4.0 Accumulated Depr
Q1: ='Table of Contents'!F1 -> Case No. 2026-00306
Q2: SMRP Form 4.0
Q3: Page 1 of 5
A4: Columbia Gas of Kentucky, Inc.
A5: Annual Adjustment to the Safety Modification and Replacement Program ("SMRP")
A6: 2023 Accumulated Depreciation
C11: 2022 | D11: =+C11+1 -> 2023 | E11: =+D11 -> 2023 | F11: =+E11 -> 2023 | G11: =+F11 -> 2023 | H11: =+G11 -> 2023 | I11: =+H11 -> 2023 | J11: =+I11 -> 2023 | K11: =+J11 -> 2023 | L11: =+K11 -> 2023 | ... Q11: =+P11 -> 2023
C12: December | D12: January | E12: February | F12: March | G12: April | H12: May | I12: June | J12: July | K12: August | L12: September | M12: October | N12: November | O12: December | P12: Cumulative Total | Q12: 13 Month Average
C13: Cumulative | D13: Actual | E13: Actual | F13: Actual | G13: Actual | H13: Actual | I13: Actual | J13: Actual | K13: Actual | L13: Actual | M13: Actual | N13: Actual | O13: Actual
B15: Depreciation Expense
B16: 376 Mains | C16: 0 | D16: =-'5.0 Depr Expense'!E20 -> -57.859 | E16: =-'5.0 Depr Expense'!F20 -> -738.878 | F16: =-'5.0 Depr Expense'!G20 -> -4207.031 | G16: =-'5.0 Depr Expense'!H20 -> -7638.191 | H16: =-'5.0 Depr Expense'!I20 -> -10390.367 | I16: =-'5.0 Depr Expense'!J20 -> -15353.328 | J16: =-'5.0 Depr Expense'!K20 -> -20411.887 | K16: =-'5.0 Depr Expense'!L20 -> -23652.373 | ... O16: =-'5.0 Depr Expense'!P20 -> -41475.421 | P16: =SUM(C16:O16) -> -220367.12
B17: 378 Plant Regulators | C17: 0 | D17: =-'5.0 Depr Expense'!E30 -> 7.955 | E17: =-'5.0 Depr Expense'!F30 -> 22.397 | F17: =-'5.0 Depr Expense'!G30 -> 47.106 | G17: =-'5.0 Depr Expense'!H30 -> 66.764 | H17: =-'5.0 Depr Expense'!I30 -> 77.983 | I17: =-'5.0 Depr Expense'!J30 -> 191.538 | J17: =-'5.0 Depr Expense'!K30 -> 390.446 | K17: =-'5.0 Depr Expense'!L30 -> 563.444 | ... O17: =-'5.0 Depr Expense'!P30 -> 775.227 | P17: =SUM(C17:O17) -> 4288.932
B18: 380 Service Lines | C18: 0 | D18: =-'5.0 Depr Expense'!E40 -> -948.988 | E18: =-'5.0 Depr Expense'!F40 -> -3408.597 | F18: =-'5.0 Depr Expense'!G40 -> -6417.918 | G18: =-'5.0 Depr Expense'!H40 -> -9384.645 | H18: =-'5.0 Depr Expense'!I40 -> -12458.899 | I18: =-'5.0 Depr Expense'!J40 -> -15336.183 | J18: =-'5.0 Depr Expense'!K40 -> -17791.894 | K18: =-'5.0 Depr Expense'!L40 -> -20792.019 | ... O18: =-'5.0 Depr Expense'!P40 -> -32584.988 | P18: =SUM(C18:O18) -> -201283.93
B19: 382 Meter Installations | C19: 0 | D19: =-'5.0 Depr Expense'!E50 -> -0.853 | E19: =-'5.0 Depr Expense'!F50 -> -0.839 | F19: =-'5.0 Depr Expense'!G50 -> 1.61 | G19: =-'5.0 Depr Expense'!H50 -> 5.889 | H19: =-'5.0 Depr Expense'!I50 -> 10.482 | I19: =-'5.0 Depr Expense'!J50 -> 10.376 | J19: =-'5.0 Depr Expense'!K50 -> 7.649 | K19: =-'5.0 Depr Expense'!L50 -> -0.707 | ... O19: =-'5.0 Depr Expense'!P50 -> -50.061 | P19: =SUM(C19:O19) -> -82.547
B20: 383 House Regulators | C20: 0 | D20: =-'5.0 Depr Expense'!E60 -> 0.153 | E20: =-'5.0 Depr Expense'!F60 -> 0.186 | F20: =-'5.0 Depr Expense'!G60 -> 1.127 | G20: =-'5.0 Depr Expense'!H60 -> 1.139 | H20: =-'5.0 Depr Expense'!I60 -> 1.282 | I20: =-'5.0 Depr Expense'!J60 -> 2.183 | J20: =-'5.0 Depr Expense'!K60 -> 4.46 | K20: =-'5.0 Depr Expense'!L60 -> 7.159 | ... O20: =-'5.0 Depr Expense'!P60 -> 10.432 | P20: =SUM(C20:O20) -> 53.552
B21: Total Depreciation Monthly | D21: =SUM(D16:D20) -> -999.592 | E21: =SUM(E16:E20) -> -4125.731 | F21: =SUM(F16:F20) -> -10575.106 | G21: =SUM(G16:G20) -> -16949.044 | H21: =SUM(H16:H20) -> -22759.519 | I21: =SUM(I16:I20) -> -30485.414 | J21: =SUM(J16:J20) -> -37801.226 | K21: =SUM(K16:K20) -> -43874.496 | ... P21: =SUM(P16:P20) -> -417391.12
B22: Total Cumulative Depreciation | C22: =SUM(C16:C21) -> 0 | D22: =+D21+C22 -> -999.592 | E22: =+E21+D22 -> -5125.323 | F22: =+F21+E22 -> -15700.429 | G22: =+G21+F22 -> -32649.473 | H22: =+H21+G22 -> -55408.992 | I22: =+I21+H22 -> -85894.406 | J22: =+J21+I22 -> -123695.63 | K22: =+K21+J22 -> -167570.13 | ... O22: =+O21+N22 -> -417391.12
B24: Retirements
B25: 376 Mains | C25: 0 | D25: =-'5.0 Depr Expense'!E14 -> 0 | E25: =-'5.0 Depr Expense'!F14 -> 0 | F25: =-'5.0 Depr Expense'!G14 -> 0 | G25: =-'5.0 Depr Expense'!H14 -> 0 | H25: =-'5.0 Depr Expense'!I14 -> 14490.58 | I25: =-'5.0 Depr Expense'!J14 -> 207 | J25: =-'5.0 Depr Expense'!K14 -> 64.34 | K25: =-'5.0 Depr Expense'!L14 -> 207 | ... O25: =-'5.0 Depr Expense'!P14 -> 94799.38 | P25: =SUM(C25:O25) -> 285613.71
B26: 378 Plant Regulators | C26: 0 | D26: =-'5.0 Depr Expense'!E24 -> 7576.53 | E26: =-'5.0 Depr Expense'!F24 -> 6092.8 | F26: =-'5.0 Depr Expense'!G24 -> 17244.22 | G26: =-'5.0 Depr Expense'!H24 -> 1679.98 | H26: =-'5.0 Depr Expense'!I24 -> 9507.96 | I26: =-'5.0 Depr Expense'!J24 -> 98607.48 | J26: =-'5.0 Depr Expense'!K24 -> 90900.48 | K26: =-'5.0 Depr Expense'!L24 -> 73755.9 | ... O26: =-'5.0 Depr Expense'!P24 -> 42121.18 | P26: =SUM(C26:O26) -> 390412.01
B27: 380 Service Lines | C27: 0 | D27: =-'5.0 Depr Expense'!E34 -> 277338.55 | E27: =-'5.0 Depr Expense'!F34 -> 116568.91 | F27: =-'5.0 Depr Expense'!G34 -> 192040.81 | G27: =-'5.0 Depr Expense'!H34 -> 189065.28 | H27: =-'5.0 Depr Expense'!I34 -> 292187.68 | I27: =-'5.0 Depr Expense'!J34 -> 358664.11 | J27: =-'5.0 Depr Expense'!K34 -> 231124.94 | K27: =-'5.0 Depr Expense'!L34 -> 168870.39 | ... O27: =-'5.0 Depr Expense'!P34 -> 240285.09 | P27: =SUM(C27:O27) -> 2792386.4
B28: 382 Meter Installations | C28: 0 | D28: =-'5.0 Depr Expense'!E44 -> 489.15 | E28: =-'5.0 Depr Expense'!F44 -> 1574.73 | F28: =-'5.0 Depr Expense'!G44 -> 2045.79 | G28: =-'5.0 Depr Expense'!H44 -> 5647.45 | H28: =-'5.0 Depr Expense'!I44 -> 3453.44 | I28: =-'5.0 Depr Expense'!J44 -> 3705.51 | J28: =-'5.0 Depr Expense'!K44 -> 5252.36 | K28: =-'5.0 Depr Expense'!L44 -> 9322.32 | ... O28: =-'5.0 Depr Expense'!P44 -> 3691.83 | P28: =SUM(C28:O28) -> 48230.77
B29: 383 House Regulators | C29: 0 | D29: =-'5.0 Depr Expense'!E54 -> 188.66 | E29: =-'5.0 Depr Expense'!F54 -> 230.7 | F29: =-'5.0 Depr Expense'!G54 -> 156.8 | G29: =-'5.0 Depr Expense'!H54 -> 171.39 | H29: =-'5.0 Depr Expense'!I54 -> 348.81 | I29: =-'5.0 Depr Expense'!J54 -> 226.33 | J29: =-'5.0 Depr Expense'!K54 -> 3043.3 | K29: =-'5.0 Depr Expense'!L54 -> 197.14 | ... O29: =-'5.0 Depr Expense'!P54 -> 534.67 | P29: =SUM(C29:O29) -> 6868.99
B30: Total Monthly Retirements | D30: =SUM(D25:D29) -> 285592.89 | E30: =SUM(E25:E29) -> 124467.14 | F30: =SUM(F25:F29) -> 211487.62 | G30: =SUM(G25:G29) -> 196564.1 | H30: =SUM(H25:H29) -> 319988.47 | I30: =SUM(I25:I29) -> 461410.43 | J30: =SUM(J25:J29) -> 330385.42 | K30: =SUM(K25:K29) -> 252352.75 | ... P30: =SUM(P25:P29) -> 3523511.9
B31: Total Cumulative Retirements | C31: =SUM(C25:C30) -> 0 | D31: =+D30+C31 -> 285592.89 | E31: =+E30+D31 -> 410060.03 | F31: =+F30+E31 -> 621547.65 | G31: =+G30+F31 -> 818111.75 | H31: =+H30+G31 -> 1138100.2 | I31: =+I30+H31 -> 1599510.7 | J31: =+J30+I31 -> 1929896.1 | K31: =+K30+J31 -> 2182248.8 | ... O31: =+O30+N31 -> 3523511.9
B33: Cost of Removal
B34: 376 Mains | C34: 0 | D34: 0 | E34: 9794.68 | F34: 0 | G34: 2568.83 | H34: 939.63 | I34: 0 | J34: 8203.54 | K34: 0 | L34: 0 | M34: 65.73 | N34: 0 | O34: 0 | P34: =SUM(C34:O34) -> 21572.41
B35: 378 Plant Regulators | C35: 0 | D35: 685.86 | E35: 0 | F35: 970.13 | G35: 5246.21 | H35: 4099.36 | I35: 9703.03 | J35: 3350.24 | K35: 14666.38 | L35: 1626.68 | M35: 0 | N35: 945.06 | O35: 12469.08 | P35: =SUM(C35:O35) -> 53762.03
B36: 380 Service Lines | C36: 0 | D36: 467104.37 | E36: 83958.337 | F36: 92751.653 | G36: 125279.38 | H36: 136891.88 | I36: 133263.06 | J36: 147739.34 | K36: 166411.5 | L36: 141814.28 | M36: 171317.11 | N36: 176170.76 | O36: 133360.56 | P36: =SUM(C36:O36) -> 1976062.2
B37: 382 Meter Installations | C37: 0 | D37: 0 | E37: 0 | F37: 0 | G37: 0 | H37: 0 | I37: 0 | J37: 0 | K37: 0 | L37: 0 | M37: 0 | N37: 0 | O37: 0 | P37: =SUM(C37:O37) -> 0
B38: 383 House Regulators | C38: 0 | D38: 0 | E38: 0 | F38: 0 | G38: 0 | H38: 0 | I38: 0 | J38: 0 | K38: 0 | L38: 0 | M38: 0 | N38: 0 | O38: 0 | P38: =SUM(C38:O38) -> 0
B39: Total Monthly Cost of Removal | D39: =SUM(D34:D38) -> 467790.23 | E39: =SUM(E34:E38) -> 93753.017 | F39: =SUM(F34:F38) -> 93721.783 | G39: =SUM(G34:G38) -> 133094.42 | H39: =SUM(H34:H38) -> 141930.87 | I39: =SUM(I34:I38) -> 142966.09 | J39: =SUM(J34:J38) -> 159293.12 | K39: =SUM(K34:K38) -> 181077.88 | ... P39: =SUM(P34:P38) -> 2051396.7
B40: Total Cumulative Cost of Removal | C40: =SUM(C34:C39) -> 0 | D40: =+D39+C40 -> 467790.23 | E40: =+E39+D40 -> 561543.25 | F40: =+F39+E40 -> 655265.03 | G40: =+G39+F40 -> 788359.46 | H40: =+H39+G40 -> 930290.33 | I40: =+I39+H40 -> 1073256.4 | J40: =+J39+I40 -> 1232549.5 | K40: =+K39+J40 -> 1413627.4 | ... O40: =+O39+N40 -> 2051396.7
B42: Total Accumulated Depreciation
B43: 376 Mains | C43: =+C16+C25+C34 -> 0 | D43: =+D16+D25+D34 -> -57.859 | E43: =+E16+E25+E34 -> 9055.802 | F43: =+F16+F25+F34 -> -4207.031 | G43: =+G16+G25+G34 -> -5069.361 | H43: =+H16+H25+H34 -> 5039.843 | I43: =+I16+I25+I34 -> -15146.328 | J43: =+J16+J25+J34 -> -12144.007 | ... O43: =+O16+O25+O34 -> 53323.959 | P43: =SUM(C43:O43) -> 86818.998
B44: 378 Plant Regulators | C44: =+C17+C26+C35 -> 0 | D44: =+D17+D26+D35 -> 8270.345 | E44: =+E17+E26+E35 -> 6115.197 | F44: =+F17+F26+F35 -> 18261.456 | G44: =+G17+G26+G35 -> 6992.954 | H44: =+H17+H26+H35 -> 13685.303 | I44: =+I17+I26+I35 -> 108502.05 | J44: =+J17+J26+J35 -> 94641.166 | ... O44: =+O17+O26+O35 -> 55365.487 | P44: =SUM(C44:O44) -> 448462.97
B45: 380 Service Lines | C45: =+C18+C27+C36 -> 0 | D45: =+D18+D27+D36 -> 743493.93 | E45: =+E18+E27+E36 -> 197118.65 | F45: =+F18+F27+F36 -> 278374.55 | G45: =+G18+G27+G36 -> 304960.02 | H45: =+H18+H27+H36 -> 416620.66 | I45: =+I18+I27+I36 -> 476590.99 | J45: =+J18+J27+J36 -> 361072.38 | ... O45: =+O18+O27+O36 -> 341060.66 | P45: =SUM(C45:O45) -> 4567164.7
B46: 382 Meter Installations | C46: =+C19+C28+C37 -> 0 | D46: =+D19+D28+D37 -> 488.297 | E46: =+E19+E28+E37 -> 1573.891 | F46: =+F19+F28+F37 -> 2047.4 | G46: =+G19+G28+G37 -> 5653.339 | H46: =+H19+H28+H37 -> 3463.922 | I46: =+I19+I28+I37 -> 3715.886 | J46: =+J19+J28+J37 -> 5260.009 | ... O46: =+O19+O28+O37 -> 3641.769 | P46: =SUM(C46:O46) -> 48148.223
B47: 383 House Regulators | C47: =+C20+C29+C38 -> 0 | D47: =+D20+D29+D38 -> 188.813 | E47: =+E20+E29+E38 -> 230.886 | F47: =+F20+F29+F38 -> 157.927 | G47: =+G20+G29+G38 -> 172.529 | H47: =+H20+H29+H38 -> 350.092 | I47: =+I20+I29+I38 -> 228.513 | J47: =+J20+J29+J38 -> 3047.76 | ... O47: =+O20+O29+O38 -> 545.102 | P47: =SUM(C47:O47) -> 6922.542
B48: Total Accumulated Depreciation Activity | D48: =SUM(D43:D47) -> 752383.53 | E48: =SUM(E43:E47) -> 214094.43 | F48: =SUM(F43:F47) -> 294634.3 | G48: =SUM(G43:G47) -> 312709.48 | H48: =SUM(H43:H47) -> 439159.82 | I48: =SUM(I43:I47) -> 573891.11 | J48: =SUM(J43:J47) -> 451877.31 | K48: =SUM(K43:K47) -> 389556.14 | ... P48: =SUM(P43:P47) -> 5157517.5
...

Sheet 5.0 Depr Expense
Q1: ='Table of Contents'!F1 -> Case No. 2026-00306
Q2: SMRP Form 5.0
Q3: Page 1 of 5
A4: Columbia Gas of Kentucky, Inc.
A5: Annual Adjustment to the Safety Modification and Replacement Program ("SMRP")
A6: 2023 Depreciation Expense
C8: Monthly | D8: 2022 | E8: =+D8+1 -> 2023 | F8: =+E8 -> 2023 | G8: =+F8 -> 2023 | H8: =+G8 -> 2023 | I8: =+H8 -> 2023 | J8: =+I8 -> 2023 | K8: =+J8 -> 2023 | L8: =+K8 -> 2023 | M8: =+L8 -> 2023 | ... Q8: =+P8 -> 2023
C9: Depreciation | D9: December | E9: January | F9: February | G9: March | H9: April | I9: May | J9: June | K9: July | L9: August | M9: September | N9: October | O9: November | P9: December | Q9: Cumulative
C10: Rate by GPA | D10: Cumulative | E10: Actual | F10: Actual | G10: Actual | H10: Actual | I10: Actual | J10: Actual | K10: Actual | L10: Actual | M10: Actual | N10: Actual | O10: Actual | P10: Actual | Q10: Total
B12: 376 Mains | C12: =1.74%/12 -> 0.00145
B13: Additions | D13: 0 | E13: ='3.0 Plant in Service'!D15 -> 79805.64 | F13: ='3.0 Plant in Service'!E15 -> 859141.8 | G13: ='3.0 Plant in Service'!F15 -> 3925560.6 | H13: ='3.0 Plant in Service'!G15 -> 805780.18 | I13: ='3.0 Plant in Service'!H15 -> 3005341.4 | J13: ='3.0 Plant in Service'!I15 -> 3854453.1 | K13: ='3.0 Plant in Service'!J15 -> 3124046.7 | L13: ='3.0 Plant in Service'!K15 -> 1345549.6 | ... P13: ='3.0 Plant in Service'!O15 -> 4263655.3 | Q13: =SUM(D13:P13) -> 30974058
B14: Retirements | D14: 0 | E14: ='3.0 Plant in Service'!D24 -> 0 | F14: ='3.0 Plant in Service'!E24 -> 0 | G14: ='3.0 Plant in Service'!F24 -> 0 | H14: ='3.0 Plant in Service'!G24 -> 0 | I14: ='3.0 Plant in Service'!H24 -> -14490.58 | J14: ='3.0 Plant in Service'!I24 -> -207 | K14: ='3.0 Plant in Service'!J24 -> -64.34 | L14: ='3.0 Plant in Service'!K24 -> -207 | ... P14: ='3.0 Plant in Service'!O24 -> -94799.38
B15: Monthly Activity | D15: =SUM(D13:D14) -> 0 | E15: =SUM(E13:E14) -> 79805.64 | F15: =SUM(F13:F14) -> 859141.8 | G15: =SUM(G13:G14) -> 3925560.6 | H15: =SUM(H13:H14) -> 805780.18 | I15: =SUM(I13:I14) -> 2990850.8 | J15: =SUM(J13:J14) -> 3854246.1 | K15: =SUM(K13:K14) -> 3123982.4 | ... P15: =SUM(P13:P14) -> 4168855.9 | Q15: =SUM(D15:P15) -> 30688444
B16: Cumulative Balance | D16: 0 | E16: =+E15+D16 -> 79805.64 | F16: =+F15+E16 -> 938947.44 | G16: =+G15+F16 -> 4864508 | H16: =+H15+G16 -> 5670288.2 | I16: =+I15+H16 -> 8661139 | J16: =+J15+I16 -> 12515385 | K16: =+K15+J16 -> 15639367 | L16: =+L15+K16 -> 16984710 | ... P16: =+P15+O16 -> 30688444
B18: Depreciation on Prior Month Balance | E18: =ROUND($C12*D16,0) -> 0 | F18: =ROUND($C12*E16,0) -> 116 | G18: =ROUND($C12*F16,0) -> 1361 | H18: =ROUND($C12*G16,0) -> 7054 | I18: =ROUND($C12*H16,0) -> 8222 | J18: =ROUND($C12*I16,0) -> 12559 | K18: =ROUND($C12*J16,0) -> 18147 | L18: =ROUND($C12*K16,0) -> 22677 | ... P18: =ROUND($C12*O16,0) -> 38453
B19: 1/2 Month Depreciation on Current Month Activity | E19: =ROUND($C12*E15*0.5,3) -> 57.859 | F19: =ROUND($C12*F15*0.5,3) -> 622.878 | G19: =ROUND($C12*G15*0.5,3) -> 2846.031 | H19: =ROUND($C12*H15*0.5,3) -> 584.191 | I19: =ROUND($C12*I15*0.5,3) -> 2168.367 | J19: =ROUND($C12*J15*0.5,3) -> 2794.328 | K19: =ROUND($C12*K15*0.5,3) -> 2264.887 | L19: =ROUND($C12*L15*0.5,3) -> 975.373 | ... P19: =ROUND($C12*P15*0.5,3) -> 3022.421
B20: Total Depreciation - 376 Mains | D20: 0 | E20: =SUM(E18:E19) -> 57.859 | F20: =SUM(F18:F19) -> 738.878 | G20: =SUM(G18:G19) -> 4207.031 | H20: =SUM(H18:H19) -> 7638.191 | I20: =SUM(I18:I19) -> 10390.367 | J20: =SUM(J18:J19) -> 15353.328 | K20: =SUM(K18:K19) -> 20411.887 | L20: =SUM(L18:L19) -> 23652.373 | ... P20: =SUM(P18:P19) -> 41475.421 | Q20: =SUM(D20:P20) -> 220367.12
B22: 378 Plant Regulators | C22: =2.52%/12 -> 0.0021
B23: Additions | D23: 0 | E23: ='3.0 Plant in Service'!D16 -> 0 | F23: ='3.0 Plant in Service'!E16 -> 0 | G23: ='3.0 Plant in Service'!F16 -> 0 | H23: ='3.0 Plant in Service'!G16 -> 0 | I23: ='3.0 Plant in Service'!H16 -> 0 | J23: ='3.0 Plant in Service'!I16 -> 0 | K23: ='3.0 Plant in Service'!J16 -> 0 | L23: ='3.0 Plant in Service'!K16 -> 0 | ... P23: ='3.0 Plant in Service'!O16 -> 0 | Q23: =SUM(D23:P23) -> 0
B24: Retirements | D24: 0 | E24: ='3.0 Plant in Service'!D25 -> -7576.53 | F24: ='3.0 Plant in Service'!E25 -> -6092.8 | G24: ='3.0 Plant in Service'!F25 -> -17244.22 | H24: ='3.0 Plant in Service'!G25 -> -1679.98 | I24: ='3.0 Plant in Service'!H25 -> -9507.96 | J24: ='3.0 Plant in Service'!I25 -> -98607.48 | K24: ='3.0 Plant in Service'!J25 -> -90900.48 | L24: ='3.0 Plant in Service'!K25 -> -73755.9 | ... P24: ='3.0 Plant in Service'!O25 -> -42121.18
B25: Monthly Activity | D25: =SUM(D23:D24) -> 0 | E25: =SUM(E23:E24) -> -7576.53 | F25: =SUM(F23:F24) -> -6092.8 | G25: =SUM(G23:G24) -> -17244.22 | H25: =SUM(H23:H24) -> -1679.98 | I25: =SUM(I23:I24) -> -9507.96 | J25: =SUM(J23:J24) -> -98607.48 | K25: =SUM(K23:K24) -> -90900.48 | ... P25: =SUM(P23:P24) -> -42121.18 | Q25: =SUM(D25:P25) -> -390412.01
B26: Cumulative Balance | D26: 0 | E26: =+E25+D26 -> -7576.53 | F26: =+F25+E26 -> -13669.33 | G26: =+G25+F26 -> -30913.55 | H26: =+H25+G26 -> -32593.53 | I26: =+I25+H26 -> -42101.49 | J26: =+J25+I26 -> -140708.97 | K26: =+K25+J26 -> -231609.45 | L26: =+L25+K26 -> -305365.35 | ... P26: =+P25+O26 -> -390412.01
B28: Depreciation on Prior Month Balance | E28: =ROUND($C22*D26,0) -> 0 | F28: =ROUND($C22*E26,0) -> -16 | G28: =ROUND($C22*F26,0) -> -29 | H28: =ROUND($C22*G26,0) -> -65 | I28: =ROUND($C22*H26,0) -> -68 | J28: =ROUND($C22*I26,0) -> -88 | K28: =ROUND($C22*J26,0) -> -295 | L28: =ROUND($C22*K26,0) -> -486 | ... P28: =ROUND($C22*O26,0) -> -731
B29: 1/2 Month Depreciation on Current Month Activity | E29: =ROUND($C22*E25*0.5,3) -> -7.955 | F29: =ROUND($C22*F25*0.5,3) -> -6.397 | G29: =ROUND($C22*G25*0.5,3) -> -18.106 | H29: =ROUND($C22*H25*0.5,3) -> -1.764 | I29: =ROUND($C22*I25*0.5,3) -> -9.983 | J29: =ROUND($C22*J25*0.5,3) -> -103.538 | K29: =ROUND($C22*K25*0.5,3) -> -95.446 | L29: =ROUND($C22*L25*0.5,3) -> -77.444 | ... P29: =ROUND($C22*P25*0.5,3) -> -44.227
B30: Total Depreciation - 378 Plant Regulators | D30: 0 | E30: =SUM(E28:E29) -> -7.955 | F30: =SUM(F28:F29) -> -22.397 | G30: =SUM(G28:G29) -> -47.106 | H30: =SUM(H28:H29) -> -66.764 | I30: =SUM(I28:I29) -> -77.983 | J30: =SUM(J28:J29) -> -191.538 | K30: =SUM(K28:K29) -> -390.446 | L30: =SUM(L28:L29) -> -563.444 | ... P30: =SUM(P28:P29) -> -775.227 | Q30: =SUM(D30:P30) -> -4288.932
B32: 380 Service Lines | C32: =3.98%/12 -> 0.0033166667
B33: Additions | D33: 0 | E33: ='3.0 Plant in Service'!D17 -> 849592.64 | F33: ='3.0 Plant in Service'!E17 -> 1027481.7 | G33: ='3.0 Plant in Service'!F17 -> 1095911 | H33: ='3.0 Plant in Service'!G17 -> 1074077.5 | I33: ='3.0 Plant in Service'!H17 -> 1261172 | J33: ='3.0 Plant in Service'!I17 -> 1124603.4 | K33: ='3.0 Plant in Service'!J17 -> 946236.83 | L33: ='3.0 Plant in Service'!K17 -> 1262751.2 | ... P33: ='3.0 Plant in Service'!O17 -> 782388.46 | Q33: =SUM(D33:P33) -> 12888024
B34: Retirements | D34: 0 | E34: ='3.0 Plant in Service'!D26 -> -277338.55 | F34: ='3.0 Plant in Service'!E26 -> -116568.91 | G34: ='3.0 Plant in Service'!F26 -> -192040.81 | H34: ='3.0 Plant in Service'!G26 -> -189065.28 | I34: ='3.0 Plant in Service'!H26 -> -292187.68 | J34: ='3.0 Plant in Service'!I26 -> -358664.11 | K34: ='3.0 Plant in Service'!J26 -> -231124.94 | L34: ='3.0 Plant in Service'!K26 -> -168870.39 | ... P34: ='3.0 Plant in Service'!O26 -> -240285.09
B35: Monthly Activity | D35: =SUM(D33:D34) -> 0 | E35: =SUM(E33:E34) -> 572254.09 | F35: =SUM(F33:F34) -> 910912.81 | G35: =SUM(G33:G34) -> 903870.21 | H35: =SUM(H33:H34) -> 885012.26 | I35: =SUM(I33:I34) -> 968984.3 | J35: =SUM(J33:J34) -> 765939.34 | K35: =SUM(K33:K34) -> 715111.89 | ... P35: =SUM(P33:P34) -> 542103.37 | Q35: =SUM(D35:P35) -> 10095638
B36: Cumulative Balance | D36: 0 | E36: =+E35+D36 -> 572254.09 | F36: =+F35+E36 -> 1483166.9 | G36: =+G35+F36 -> 2387037.1 | H36: =+H35+G36 -> 3272049.4 | I36: =+I35+H36 -> 4241033.7 | J36: =+J35+I36 -> 5006973 | K36: =+K35+J36 -> 5722084.9 | L36: =+L35+K36 -> 6815965.7 | ... P36: =+P35+O36 -> 10095638
B38: Depreciation on Prior Month Balance | E38: =ROUND($C32*D36,0) -> 0 | F38: =ROUND($C32*E36,0) -> 1898 | G38: =ROUND($C32*F36,0) -> 4919 | H38: =ROUND($C32*G36,0) -> 7917 | I38: =ROUND($C32*H36,0) -> 10852 | J38: =ROUND($C32*I36,0) -> 14066 | K38: =ROUND($C32*J36,0) -> 16606 | L38: =ROUND($C32*K36,0) -> 18978 | ... P38: =ROUND($C32*O36,0) -> 31686
B39: 1/2 Month Depreciation on Current Month Activity | E39: =ROUND($C32*E35*0.5,3) -> 948.988 | F39: =ROUND($C32*F35*0.5,3) -> 1510.597 | G39: =ROUND($C32*G35*0.5,3) -> 1498.918 | H39: =ROUND($C32*H35*0.5,3) -> 1467.645 | I39: =ROUND($C32*I35*0.5,3) -> 1606.899 | J39: =ROUND($C32*J35*0.5,3) -> 1270.183 | K39: =ROUND($C32*K35*0.5,3) -> 1185.894 | L39: =ROUND($C32*L35*0.5,3) -> 1814.019 | ... P39: =ROUND($C32*P35*0.5,3) -> 898.988
B40: Total Depreciation - 380 Service Lines | D40: 0 | E40: =SUM(E38:E39) -> 948.988 | F40: =SUM(F38:F39) -> 3408.597 | G40: =SUM(G38:G39) -> 6417.918 | H40: =SUM(H38:H39) -> 9384.645 | I40: =SUM(I38:I39) -> 12458.899 | J40: =SUM(J38:J39) -> 15336.183 | K40: =SUM(K38:K39) -> 17791.894 | L40: =SUM(L38:L39) -> 20792.019 | ... P40: =SUM(P38:P39) -> 32584.988 | Q40: =SUM(D40:P40) -> 201283.93
B42: 382 Meter Installations | C42: =1.77%/12 -> 0.001475
B43: Additions | D43: 0 | E43: ='3.0 Plant in Service'!D18 -> 1645.31 | F43: ='3.0 Plant in Service'!E18 -> 0 | G43: ='3.0 Plant in Service'!F18 -> 1219.19 | H43: ='3.0 Plant in Service'!G18 -> 374.88 | I43: ='3.0 Plant in Service'!H18 -> 2800.43 | J43: ='3.0 Plant in Service'!I18 -> 4551.35 | K43: ='3.0 Plant in Service'!J18 -> 7084.41 | L43: ='3.0 Plant in Service'!K18 -> 19772.76 | ... P43: ='3.0 Plant in Service'!O18 -> 10554.1 | Q43: =SUM(D43:P43) -> 85582.38
B44: Retirements | D44: 0 | E44: ='3.0 Plant in Service'!D27 -> -489.15 | F44: ='3.0 Plant in Service'!E27 -> -1574.73 | G44: ='3.0 Plant in Service'!F27 -> -2045.79 | H44: ='3.0 Plant in Service'!G27 -> -5647.45 | I44: ='3.0 Plant in Service'!H27 -> -3453.44 | J44: ='3.0 Plant in Service'!I27 -> -3705.51 | K44: ='3.0 Plant in Service'!J27 -> -5252.36 | L44: ='3.0 Plant in Service'!K27 -> -9322.32 | ... P44: ='3.0 Plant in Service'!O27 -> -3691.83
B45: Monthly Activity | D45: =SUM(D43:D44) -> 0 | E45: =SUM(E43:E44) -> 1156.16 | F45: =SUM(F43:F44) -> -1574.73 | G45: =SUM(G43:G44) -> -826.6 | H45: =SUM(H43:H44) -> -5272.57 | I45: =SUM(I43:I44) -> -653.01 | J45: =SUM(J43:J44) -> 845.84 | K45: =SUM(K43:K44) -> 1832.05 | ... P45: =SUM(P43:P44) -> 6862.27 | Q45: =SUM(D45:P45) -> 37351.61
B46: Cumulative Balance | D46: 0 | E46: =+E45+D46 -> 1156.16 | F46: =+F45+E46 -> -418.57 | G46: =+G45+F46 -> -1245.17 | H46: =+H45+G46 -> -6517.74 | I46: =+I45+H46 -> -7170.75 | J46: =+J45+I46 -> -6324.91 | K46: =+K45+J46 -> -4492.86 | L46: =+L45+K46 -> 5957.58 | ... P46: =+P45+O46 -> 37351.61
B48: Depreciation on Prior Month Balance | E48: =ROUND($C42*D46,0) -> 0 | F48: =ROUND($C42*E46,0) -> 2 | G48: =ROUND($C42*F46,0) -> -1 | H48: =ROUND($C42*G46,0) -> -2 | I48: =ROUND($C42*H46,0) -> -10 | J48: =ROUND($C42*I46,0) -> -11 | K48: =ROUND($C42*J46,0) -> -9 | L48: =ROUND($C42*K46,0) -> -7 | ... P48: =ROUND($C42*O46,0) -> 45
B49: 1/2 Month Depreciation on Current Month Activity | E49: =ROUND($C42*E45*0.5,3) -> 0.853 | F49: =ROUND($C42*F45*0.5,3) -> -1.161 | G49: =ROUND($C42*G45*0.5,3) -> -0.61 | H49: =ROUND($C42*H45*0.5,3) -> -3.889 | I49: =ROUND($C42*I45*0.5,3) -> -0.482 | J49: =ROUND($C42*J45*0.5,3) -> 0.624 | K49: =ROUND($C42*K45*0.5,3) -> 1.351 | L49: =ROUND($C42*L45*0.5,3) -> 7.707 | ... P49: =ROUND($C42*P45*0.5,3) -> 5.061
...

Sheet 6.0 ADIT Normalized 
Q1: ='Table of Contents'!F1 -> Case No. 2026-00306
Q2: SMRP Form 6.0
A3: Columbia Gas of Kentucky, Inc.
A4: Calculation of Accumulated Deferred Income Tax (Normalized)
A5: Annual Adjustment to the Safety Modification and Replacement Program
B9: 2022 | C9: =+B9+1 -> 2023 | D9: =+C9 -> 2023 | E9: =+D9 -> 2023 | F9: =+E9 -> 2023 | G9: =+F9 -> 2023 | H9: =+G9 -> 2023 | I9: =+H9 -> 2023 | J9: =+I9 -> 2023 | K9: =+J9 -> 2023 | ... Q9: =+P9 -> 2023
B10: December | C10: January | D10: February | E10: March | F10: April | G10: May | H10: June | I10: July | J10: August | K10: September | L10: October | M10: November | N10: December | O10: Activity | P10: Monthly Activity | Q10: 13 Month Ave.
B12: ( A ) | C12: ( B) | D12: ( C ) | E12: ( D ) | F12: ( E ) | G12: ( F ) | H12: ( G ) | I12: ( H ) | J12: ( I ) | K12: ( J ) | L12: ( K ) | M12: ( L ) | N12: ( M ) | O12: ( N ) | P12: ( O ) | Q12: ( P )
O13: (N= M-A) | P13: (O=N/12)
A15: ADIT Balance - Form 6.1 | B15: 0 | N15: ='6.1 ADIT Calculated p.1'!AK19*-1 -> -4910282 | O15: =+N15-B15 -> -4910282 | P15: =ROUND(O15/12,0) -> -409190
A17: 2023 Normalized ADIT | B17: =+B15 -> 0 | C17: =+B17+$P$15 -> -409190 | D17: =+C17+$P$15 -> -818380 | E17: =+D17+$P$15 -> -1227570 | F17: =+E17+$P$15 -> -1636760 | G17: =+F17+$P$15 -> -2045950 | H17: =+G17+$P$15 -> -2455140 | I17: =+H17+$P$15 -> -2864330 | J17: =+I17+$P$15 -> -3273520 | ... M17: =+L17+$P$15 -> -4501090 | N17: =+N15 -> -4910282 | Q17: =AVERAGE(B17:N17) -> -2455140.2
B21: =+N9 -> 2023 | C21: =+B21+1 -> 2024 | D21: =+C21 -> 2024 | E21: =+D21 -> 2024 | F21: =+E21 -> 2024 | G21: =+F21 -> 2024 | H21: =+G21 -> 2024 | I21: =+H21 -> 2024 | J21: =+I21 -> 2024 | K21: =+J21 -> 2024 | ... Q21: =+P21 -> 2024
B22: December | C22: January | D22: February | E22: March | F22: April | G22: May | H22: June | I22: July | J22: August | K22: September | L22: October | M22: November | N22: December | O22: Activity | P22: Monthly Activity | Q22: 13 Month Ave.
A24: ADIT Balance - Form 6.1 | B24: =+N17 -> -4910282 | N24: ='6.1 ADIT Calculated p.1'!AK20*-1 -> -9574930 | O24: =+N24-B24 -> -4664648 | P24: =ROUND(O24/12,0) -> -388721
A26: 2024 Normalized ADIT | B26: =+B24 -> -4910282 | C26: =+B26+P24 -> -5299003 | D26: =+C26+$P$24 -> -5687724 | E26: =+D26+$P$24 -> -6076445 | F26: =+E26+$P$24 -> -6465166 | G26: =+F26+$P$24 -> -6853887 | H26: =+G26+$P$24 -> -7242608 | I26: =+H26+$P$24 -> -7631329 | J26: =+I26+$P$24 -> -8020050 | K26: =+J26+$P$24 -> -8408771 | ... M26: =+L26+$P$24 -> -9186213 | N26: =+M26+$P$24+3 -> -9574931 | Q26: =AVERAGE(B26:N26) -> -7242607.8
B30: =N21 -> 2024 | C30: =+B30+1 -> 2025 | D30: =+C30 -> 2025 | E30: =+D30 -> 2025 | F30: =+E30 -> 2025 | G30: =+F30 -> 2025 | H30: =+G30 -> 2025 | I30: =+H30 -> 2025 | J30: =+I30 -> 2025 | K30: =+J30 -> 2025 | ... Q30: =+P30 -> 2025
B31: December | C31: January | D31: February | E31: March | F31: April | G31: May | H31: June | I31: July | J31: August | K31: September | L31: October | M31: November | N31: December | O31: Activity | P31: Monthly Activity | Q31: 13 Month Ave.
A33: ADIT Balance - Form 6.1 | B33: =+N26 -> -9574931 | N33: ='6.1 ADIT Calculated p.1'!AK21*-1 -> -14545986 | O33: =+N33-B33 -> -4971055 | P33: =ROUND(O33/12,0) -> -414255
A35: 2024 Normalized ADIT | B35: =+B33 -> -9574931 | C35: =+B35+P33 -> -9989186 | D35: =+C35+$P$33 -> -10403441 | E35: =+D35+$P$33 -> -10817696 | F35: =+E35+$P$33 -> -11231951 | G35: =+F35+$P$33 -> -11646206 | H35: =+G35+$P$33 -> -12060461 | I35: =+H35+$P$33 -> -12474716 | J35: =+I35+$P$33 -> -12888971 | K35: =+J35+$P$33 -> -13303226 | ... N35: =+M35+$P$33 -> -14545991 | Q35: =AVERAGE(B35:N35) -> -12060461
B39: =N30 -> 2025 | C39: =+B39+1 -> 2026 | D39: =+C39 -> 2026 | E39: =+D39 -> 2026 | F39: =+E39 -> 2026 | G39: =+F39 -> 2026 | H39: =+G39 -> 2026 | I39: =+H39 -> 2026 | J39: =+I39 -> 2026 | K39: =+J39 -> 2026 | ... Q39: =+P39 -> 2026
B40: December | C40: January | D40: February | E40: March | F40: April | G40: May | H40: June | I40: July | J40: August | K40: September | L40: October | M40: November | N40: December | O40: Activity | P40: Monthly Activity | Q40: 13 Month Ave.
A42: ADIT Balance - Form 6.1 | B42: =+N33 -> -14545986 | N42: ='6.1 ADIT Calculated p.1'!AK22*-1 -> -23841032 | O42: =+N42-B42 -> -9295046 | P42: =ROUND(O42/12,0) -> -774587
A44: 2024 Normalized ADIT | B44: =+B42 -> -14545986 | C44: =+B44+P42 -> -15320573 | D44: =+C44+$P$42 -> -16095160 | E44: =+D44+$P$42 -> -16869747 | F44: =+E44+$P$42 -> -17644334 | G44: =+F44+$P$42 -> -18418921 | H44: =+G44+$P$42 -> -19193508 | I44: =+H44+$P$42 -> -19968095 | J44: =+I44+$P$42 -> -20742682 | K44: =+J44+$P$42 -> -21517269 | ... N44: =+M44+$P$42 -> -23841030 | Q44: =AVERAGE(B44:N44) -> -19193508
B48: =N39 -> 2026 | C48: =+B48+1 -> 2027 | D48: =+C48 -> 2027 | E48: =+D48 -> 2027 | F48: =+E48 -> 2027 | G48: =+F48 -> 2027 | H48: =+G48 -> 2027 | I48: =+H48 -> 2027 | J48: =+I48 -> 2027 | K48: =+J48 -> 2027 | ... Q48: =+P48 -> 2027
B49: December | C49: January | D49: February | E49: March | F49: April | G49: May | H49: June | I49: July | J49: August | K49: September | L49: October | M49: November | N49: December | O49: Activity | P49: Monthly Activity | Q49: 13 Month Ave.
A51: ADIT Balance - Form 6.1 | B51: =+N42 -> -23841032 | N51: ='6.1 ADIT Calculated p.1'!AK23*-1 -> -34968164 | O51: =+N51-B51 -> -11127132 | P51: =ROUND(O51/12,0) -> -927261
A53: 2024 Normalized ADIT | B53: =+B51 -> -23841032 | C53: =+B53+P51 -> -24768293 | D53: =+C53+$P$42 -> -25542880 | E53: =+D53+$P$42 -> -26317467 | F53: =+E53+$P$42 -> -27092054 | G53: =+F53+$P$42 -> -27866641 | H53: =+G53+$P$42 -> -28641228 | I53: =+H53+$P$42 -> -29415815 | J53: =+I53+$P$42 -> -30190402 | K53: =+J53+$P$42 -> -30964989 | ... N53: =+M53+$P$42 -> -33288750 | Q53: =AVERAGE(B53:N53) -> -28629484

Sheet 6.1 ADIT Calculated p.1
AK1: ='Table of Contents'!F1 -> Case No. 2026-00306
AK2: SMRP Form 6.1
AK3: Page 1 of 3
A4: Columbia Gas of Kentucky, Inc.
A5: Calculation of Accumulated Deferred Income Tax
A6: Annual Adjustment to the Safety Modification and Replacement Program
H7: Summary of Form 6.1, Pages 2 and 3
J9: 2022 | K9: =+J9+1 -> 2023 | L9: =+K9+1 -> 2024 | M9: =+L9+1 -> 2025 | N9: =+M9+1 -> 2026 | O9: =+N9+1 -> 2027 | P9: =+O9+1 -> 2028 | Q9: =+P9+1 -> 2029 | R9: =+Q9+1 -> 2030 | ... AE9: =+AD9+1 -> 2043 | AF9: Annual | AJ9: Deferred | AK9: Accumulated
A10: Ln. | B10: MACRS 20 Year | D10: 2023 | E10: =+D10+1 -> 2024 | F10: =+E10+1 -> 2025 | G10: =+F10+1 -> 2026 | H10: =+G10+1 -> 2027 | I10: =+H10+1 -> 2028 | J10: Year 9 | K10: Year 10 | L10: Year 11 | M10: Year 12 | N10: Year 13 | O10: Year 14 | P10: Year 15 | Q10: Year 16 | R10: Year 17 | S10: Year 18 | T10: Year 19 | U10: Year 20 | V10: Year 21 | W10: Year 22 | X10: Year 23 | Y10: Year 24 | Z10: Year 25 | AA10: Year 26 | AB10: Year 27 | AC10: Year 28 | AD10: Year 29 | AE10: Year 30 | AF10: Tax | AG10: Cost of | AH10: Book | AJ10: Tax @ [1] | AK10: Deferred
A11: No. | B11: Tax Depr Rates | C11: Year | D11: Additions | E11: Additions | F11: Additions | G11: Additions | H11: Additions | I11: Additions | J11: Additions | K11: Additions | L11: Additions | M11: Additions | N11: Additions | O11: Additions | P11: Additions | Q11: Additions | R11: Additions | S11: Additions | T11: Additions | U11: Additions | V11: Additions | W11: Additions | X11: Additions | Y11: Additions | Z11: Additions | AA11: Additions | AB11: Additions | AC11: Additions | AD11: Additions | AE11: Additions | AF11: Depreciation | AG11: Removal | AH11: Depreciation | AI11: Difference | AJ11: =0.2495 -> 0.2495 | AK11: Inc. Taxes
B12: ( A ) | C12: ( B ) | D12: ( C ) | E12: ( D ) | F12: ( E ) | G12: ( F ) | H12: ( G ) | I12: ( H ) | J12: =+I12-1 -> #VALUE! | K12: =+J12-1 -> #VALUE! | L12: =+K12-1 -> #VALUE! | M12: =+L12-1 -> #VALUE! | N12: =+M12-1 -> #VALUE! | O12: =+N12-1 -> #VALUE! | P12: =+O12-1 -> #VALUE! | Q12: =+P12-1 -> #VALUE! | ... AE12: =+AD12-1 -> #VALUE! | AF12: ( I ) | AG12: ( J ) | AH12: ( K ) | AI12: ( L ) | AJ12: ( M ) | AK12: ( N )
D13: ($) | E13: ($) | F13: ($) | G13: ($) | H13: ($) | I13: ($) | J13: ($) | K13: ($) | L13: ($) | M13: ($) | N13: ($) | O13: ($) | P13: ($) | Q13: ($) | R13: ($) | S13: ($) | T13: ($) | U13: ($) | V13: ($) | W13: ($) | X13: ($) | Y13: ($) | Z13: ($) | AA13: ($) | AB13: ($) | AC13: ($) | AD13: ($) | AE13: ($) | AF13: ($) | AG13: ($) | AH13: ($) | AI13: ($) | AJ13: ($) | AK13: ($)
A15: 1 | B15: Total Plant Additions | D15: ='6.1 ADIT Calcluated p.2'!D14+'6.1 ADIT Calcluated p.3'!D14 -> 43947665 | E15: ='6.1 ADIT Calcluated p.2'!E14+'6.1 ADIT Calcluated p.3'!E14 -> 41842731 | F15: ='6.1 ADIT Calcluated p.2'!F14+'6.1 ADIT Calcluated p.3'!F14 -> 43536557 | G15: ='6.1 ADIT Calcluated p.2'!G14+'6.1 ADIT Calcluated p.3'!G14 -> 52861038 | H15: ='6.1 ADIT Calcluated p.2'!H14+'6.1 ADIT Calcluated p.3'!H14 -> 63696569 | I15: 0 | J15: #REF! | K15: #REF! | L15: #REF! | M15: #REF! | N15: #REF! | O15: #REF! | P15: #REF! | Q15: #REF! | R15: #REF! | S15: #REF! | T15: #REF! | U15: #REF! | V15: #REF! | W15: #REF! | X15: #REF! | Y15: #REF! | Z15: #REF! | AA15: #REF! | AB15: #REF! | AC15: #REF! | AD15: #REF! | AE15: #REF!
A17: =A15+1 -> 2
A19: =A17+1 -> 3 | B19: 0.0375 | C19: 1 | D19: =+'6.1 ADIT Calcluated p.2'!D18+'6.1 ADIT Calcluated p.3'!D18 -> 18046484 | AF19: ='6.1 ADIT Calcluated p.2'!AF18+'6.1 ADIT Calcluated p.3'!AF18 -> 18046484 | AG19: ='6.1 ADIT Calcluated p.2'!AG18+'6.1 ADIT Calcluated p.3'!AG18 -> 2051396.7 | AH19: ='6.1 ADIT Calcluated p.2'!AH18+'6.1 ADIT Calcluated p.3'!AH18 -> 417391.12 | AI19: ='6.1 ADIT Calcluated p.2'!AI18+'6.1 ADIT Calcluated p.3'!AI18 -> 19680490 | AJ19: ='6.1 ADIT Calcluated p.2'!AJ18+'6.1 ADIT Calcluated p.3'!AJ18 -> 4910282 | AK19: ='6.1 ADIT Calcluated p.2'!AK18+'6.1 ADIT Calcluated p.3'!AK18 -> 4910282
A20: =A19+1 -> 4 | B20: 0.07219 | C20: =+C19+1 -> 2 | D20: =+'6.1 ADIT Calcluated p.2'!D19+'6.1 ADIT Calcluated p.3'!D19 -> 1942655 | E20: =+'6.1 ADIT Calcluated p.2'!E19+'6.1 ADIT Calcluated p.3'!E19 -> 16980005 | AF20: ='6.1 ADIT Calcluated p.2'!AF19+'6.1 ADIT Calcluated p.3'!AF19 -> 18922660 | AG20: ='6.1 ADIT Calcluated p.2'!AG19+'6.1 ADIT Calcluated p.3'!AG19 -> 1033930.7 | AH20: ='6.1 ADIT Calcluated p.2'!AH19+'6.1 ADIT Calcluated p.3'!AH19 -> 1260606 | AI20: ='6.1 ADIT Calcluated p.2'!AI19+'6.1 ADIT Calcluated p.3'!AI19 -> 18695985 | AJ20: ='6.1 ADIT Calcluated p.2'!AJ19+'6.1 ADIT Calcluated p.3'!AJ19 -> 4664648 | AK20: ='6.1 ADIT Calcluated p.2'!AK19+'6.1 ADIT Calcluated p.3'!AK19 -> 9574930
A21: =A20+1 -> 5 | B21: 0.06677 | C21: =+C20+1 -> 3 | D21: =+'6.1 ADIT Calcluated p.2'!D20+'6.1 ADIT Calcluated p.3'!D20 -> 1796802 | E21: =+'6.1 ADIT Calcluated p.2'!E20+'6.1 ADIT Calcluated p.3'!E20 -> 1864769 | F21: =+'6.1 ADIT Calcluated p.2'!F20+'6.1 ADIT Calcluated p.3'!F20 -> 17599955 | AF21: ='6.1 ADIT Calcluated p.2'!AF20+'6.1 ADIT Calcluated p.3'!AF20 -> 21261526 | AG21: ='6.1 ADIT Calcluated p.2'!AG20+'6.1 ADIT Calcluated p.3'!AG20 -> 1107528.6 | AH21: ='6.1 ADIT Calcluated p.2'!AH20+'6.1 ADIT Calcluated p.3'!AH20 -> 2444984 | AI21: ='6.1 ADIT Calcluated p.2'!AI20+'6.1 ADIT Calcluated p.3'!AI20 -> 19924071 | AJ21: ='6.1 ADIT Calcluated p.2'!AJ20+'6.1 ADIT Calcluated p.3'!AJ20 -> 4971056 | AK21: ='6.1 ADIT Calcluated p.2'!AK20+'6.1 ADIT Calcluated p.3'!AK20 -> 14545986
A22: =A21+1 -> 6 | B22: 0.06177 | C22: =+C21+1 -> 4 | D22: =+'6.1 ADIT Calcluated p.2'!D21+'6.1 ADIT Calcluated p.3'!D21 -> 1662250 | E22: =+'6.1 ADIT Calcluated p.2'!E21+'6.1 ADIT Calcluated p.3'!E21 -> 1724763 | F22: =+'6.1 ADIT Calcluated p.2'!F21+'6.1 ADIT Calcluated p.3'!F21 -> 1945313 | G22: =+'6.1 ADIT Calcluated p.2'!G21+'6.1 ADIT Calcluated p.3'!G21 -> 33950925 | AF22: ='6.1 ADIT Calcluated p.2'!AF21+'6.1 ADIT Calcluated p.3'!AF21 -> 39283251 | AG22: ='6.1 ADIT Calcluated p.2'!AG21+'6.1 ADIT Calcluated p.3'!AG21 -> 1542663.7 | AH22: ='6.1 ADIT Calcluated p.2'!AH21+'6.1 ADIT Calcluated p.3'!AH21 -> 3571220.6 | AI22: ='6.1 ADIT Calcluated p.2'!AI21+'6.1 ADIT Calcluated p.3'!AI21 -> 37254694 | AJ22: ='6.1 ADIT Calcluated p.2'!AJ21+'6.1 ADIT Calcluated p.3'!AJ21 -> 9295046 | AK22: ='6.1 ADIT Calcluated p.2'!AK21+'6.1 ADIT Calcluated p.3'!AK21 -> 23841032
A23: =A22+1 -> 7 | B23: 0.05713 | C23: =+C22+1 -> 5 | D23: =+'6.1 ADIT Calcluated p.2'!D22+'6.1 ADIT Calcluated p.3'!D22 -> 1537386 | E23: =+'6.1 ADIT Calcluated p.2'!E22+'6.1 ADIT Calcluated p.3'!E22 -> 1595605 | F23: =+'6.1 ADIT Calcluated p.2'!F22+'6.1 ADIT Calcluated p.3'!F22 -> 1799259 | G23: =+'6.1 ADIT Calcluated p.2'!G22+'6.1 ADIT Calcluated p.3'!G22 -> 1418307 | H23: =+'6.1 ADIT Calcluated p.2'!H22+'6.1 ADIT Calcluated p.3'!H22 -> 41001300 | I23: 0 | AF23: ='6.1 ADIT Calcluated p.2'!AF22+'6.1 ADIT Calcluated p.3'!AF22 -> 47351857 | AG23: ='6.1 ADIT Calcluated p.2'!AG22+'6.1 ADIT Calcluated p.3'!AG22 -> 2261774.7 | AH23: ='6.1 ADIT Calcluated p.2'!AH22+'6.1 ADIT Calcluated p.3'!AH22 -> 5015908.8 | AI23: ='6.1 ADIT Calcluated p.2'!AI22+'6.1 ADIT Calcluated p.3'!AI22 -> 44597723 | AJ23: ='6.1 ADIT Calcluated p.2'!AJ22+'6.1 ADIT Calcluated p.3'!AJ22 -> 11127132 | AK23: ='6.1 ADIT Calcluated p.2'!AK22+'6.1 ADIT Calcluated p.3'!AK22 -> 34968164
A24: =A23+1 -> 8 | B24: 0.05285 | C24: =+C23+1 -> 6 | D24: =+'6.1 ADIT Calcluated p.2'!D23+'6.1 ADIT Calcluated p.3'!D23 -> 1422211 | E24: =+'6.1 ADIT Calcluated p.2'!E23+'6.1 ADIT Calcluated p.3'!E23 -> 1475749 | F24: =+'6.1 ADIT Calcluated p.2'!F23+'6.1 ADIT Calcluated p.3'!F23 -> 1664524 | G24: =+'6.1 ADIT Calcluated p.2'!G23+'6.1 ADIT Calcluated p.3'!G23 -> 1320089 | H24: =+'6.1 ADIT Calcluated p.2'!H23+'6.1 ADIT Calcluated p.3'!H23 -> 1702204 | I24: 0 | AF24: ='6.1 ADIT Calcluated p.2'!AF23+'6.1 ADIT Calcluated p.3'!AF23 -> 7584777 | AH24: 0 | AI24: 0 | AJ24: 0 | AK24: 0
A25: =A24+1 -> 9 | B25: 0.04888 | C25: =+C24+1 -> 7 | D25: =+'6.1 ADIT Calcluated p.2'!D24+'6.1 ADIT Calcluated p.3'!D24 -> 1315377 | E25: =+'6.1 ADIT Calcluated p.2'!E24+'6.1 ADIT Calcluated p.3'!E24 -> 1365190 | F25: =+'6.1 ADIT Calcluated p.2'!F24+'6.1 ADIT Calcluated p.3'!F24 -> 1539489 | G25: =+'6.1 ADIT Calcluated p.2'!G24+'6.1 ADIT Calcluated p.3'!G24 -> 1221236 | H25: =+'6.1 ADIT Calcluated p.2'!H24+'6.1 ADIT Calcluated p.3'!H24 -> 1574404 | I25: 0 | AF25: ='6.1 ADIT Calcluated p.2'!AF24+'6.1 ADIT Calcluated p.3'!AF24 -> 7015696 | AH25: 0 | AI25: 0 | AJ25: 0 | AK25: 0
A26: =A25+1 -> 10 | B26: 0.04522 | C26: =+C25+1 -> 8 | D26: =+'6.1 ADIT Calcluated p.2'!D25+'6.1 ADIT Calcluated p.3'!D25 -> 1216885 | E26: =+'6.1 ADIT Calcluated p.2'!E25+'6.1 ADIT Calcluated p.3'!E25 -> 1262639 | F26: =+'6.1 ADIT Calcluated p.2'!F25+'6.1 ADIT Calcluated p.3'!F25 -> 1424155 | G26: =+'6.1 ADIT Calcluated p.2'!G25+'6.1 ADIT Calcluated p.3'!G25 -> 1129499 | H26: =+'6.1 ADIT Calcluated p.2'!H25+'6.1 ADIT Calcluated p.3'!H25 -> 1456505 | I26: 0 | AF26: ='6.1 ADIT Calcluated p.2'!AF25+'6.1 ADIT Calcluated p.3'!AF25 -> 6489683 | AH26: 0 | AI26: 0 | AJ26: 0 | AK26: 0
A27: =A26+1 -> 11 | B27: 0.04462 | C27: =+C26+1 -> 9 | D27: =+'6.1 ADIT Calcluated p.2'!D26+'6.1 ADIT Calcluated p.3'!D26 -> 1200739 | E27: =+'6.1 ADIT Calcluated p.2'!E26+'6.1 ADIT Calcluated p.3'!E26 -> 1168096 | F27: =+'6.1 ADIT Calcluated p.2'!F26+'6.1 ADIT Calcluated p.3'!F26 -> 1317176 | G27: =+'6.1 ADIT Calcluated p.2'!G26+'6.1 ADIT Calcluated p.3'!G26 -> 1044881 | H27: =+'6.1 ADIT Calcluated p.2'!H26+'6.1 ADIT Calcluated p.3'!H26 -> 1347097 | I27: 0 | AF27: ='6.1 ADIT Calcluated p.2'!AF26+'6.1 ADIT Calcluated p.3'!AF26 -> 6077989 | AH27: 0 | AI27: 0 | AJ27: 0 | AK27: 0
A28: =A27+1 -> 12 | B28: 0.04461 | C28: =+C27+1 -> 10 | D28: =+'6.1 ADIT Calcluated p.2'!D27+'6.1 ADIT Calcluated p.3'!D27 -> 1200470 | E28: =+'6.1 ADIT Calcluated p.2'!E27+'6.1 ADIT Calcluated p.3'!E27 -> 1152597 | F28: =+'6.1 ADIT Calcluated p.2'!F27+'6.1 ADIT Calcluated p.3'!F27 -> 1218549 | G28: =+'6.1 ADIT Calcluated p.2'!G27+'6.1 ADIT Calcluated p.3'!G27 -> 966392 | H28: =+'6.1 ADIT Calcluated p.2'!H27+'6.1 ADIT Calcluated p.3'!H27 -> 1246177 | I28: 0 | AF28: ='6.1 ADIT Calcluated p.2'!AF27+'6.1 ADIT Calcluated p.3'!AF27 -> 5784185 | AH28: 0 | AI28: 0 | AJ28: 0 | AK28: 0
A29: =A28+1 -> 13 | B29: 0.04462 | C29: =+C28+1 -> 11 | D29: =+'6.1 ADIT Calcluated p.2'!D28+'6.1 ADIT Calcluated p.3'!D28 -> 1200739 | E29: =+'6.1 ADIT Calcluated p.2'!E28+'6.1 ADIT Calcluated p.3'!E28 -> 1152339 | F29: =+'6.1 ADIT Calcluated p.2'!F28+'6.1 ADIT Calcluated p.3'!F28 -> 1202380 | G29: =+'6.1 ADIT Calcluated p.2'!G28+'6.1 ADIT Calcluated p.3'!G28 -> 894031 | H29: =+'6.1 ADIT Calcluated p.2'!H28+'6.1 ADIT Calcluated p.3'!H28 -> 1152566 | I29: 0 | AF29: ='6.1 ADIT Calcluated p.2'!AF28+'6.1 ADIT Calcluated p.3'!AF28 -> 5602055 | AH29: 0 | AI29: 0 | AJ29: 0 | AK29: 0
A30: =A29+1 -> 14 | B30: 0.04461 | C30: =+C29+1 -> 12 | D30: =+'6.1 ADIT Calcluated p.2'!D29+'6.1 ADIT Calcluated p.3'!D29 -> 1200470 | E30: =+'6.1 ADIT Calcluated p.2'!E29+'6.1 ADIT Calcluated p.3'!E29 -> 1152597 | F30: =+'6.1 ADIT Calcluated p.2'!F29+'6.1 ADIT Calcluated p.3'!F29 -> 1202111 | G30: =+'6.1 ADIT Calcluated p.2'!G29+'6.1 ADIT Calcluated p.3'!G29 -> 882168 | H30: =+'6.1 ADIT Calcluated p.2'!H29+'6.1 ADIT Calcluated p.3'!H29 -> 1066265 | I30: 0 | AF30: ='6.1 ADIT Calcluated p.2'!AF29+'6.1 ADIT Calcluated p.3'!AF29 -> 5503611 | AH30: 0 | AI30: 0 | AJ30: 0 | AK30: 0
A31: =A30+1 -> 15 | B31: 0.04462 | C31: =+C30+1 -> 13 | D31: =+'6.1 ADIT Calcluated p.2'!D30+'6.1 ADIT Calcluated p.3'!D30 -> 1200739 | E31: =+'6.1 ADIT Calcluated p.2'!E30+'6.1 ADIT Calcluated p.3'!E30 -> 1152339 | F31: =+'6.1 ADIT Calcluated p.2'!F30+'6.1 ADIT Calcluated p.3'!F30 -> 1202380 | G31: =+'6.1 ADIT Calcluated p.2'!G30+'6.1 ADIT Calcluated p.3'!G30 -> 881971 | H31: =+'6.1 ADIT Calcluated p.2'!H30+'6.1 ADIT Calcluated p.3'!H30 -> 1052118 | I31: 0 | AF31: ='6.1 ADIT Calcluated p.2'!AF30+'6.1 ADIT Calcluated p.3'!AF30 -> 5489547 | AH31: 0 | AI31: 0 | AJ31: 0 | AK31: 0
A32: =A31+1 -> 16 | B32: 0.04461 | C32: =+C31+1 -> 14 | D32: =+'6.1 ADIT Calcluated p.2'!D31+'6.1 ADIT Calcluated p.3'!D31 -> 1200470 | E32: =+'6.1 ADIT Calcluated p.2'!E31+'6.1 ADIT Calcluated p.3'!E31 -> 1152597 | F32: =+'6.1 ADIT Calcluated p.2'!F31+'6.1 ADIT Calcluated p.3'!F31 -> 1202111 | G32: =+'6.1 ADIT Calcluated p.2'!G31+'6.1 ADIT Calcluated p.3'!G31 -> 882168 | H32: =+'6.1 ADIT Calcluated p.2'!H31+'6.1 ADIT Calcluated p.3'!H31 -> 1051881 | I32: 0 | AF32: ='6.1 ADIT Calcluated p.2'!AF31+'6.1 ADIT Calcluated p.3'!AF31 -> 5489227 | AH32: 0 | AI32: 0 | AJ32: 0 | AK32: 0
A33: =A32+1 -> 17 | B33: 0.04462 | C33: =+C32+1 -> 15 | D33: =+'6.1 ADIT Calcluated p.2'!D32+'6.1 ADIT Calcluated p.3'!D32 -> 1200739 | E33: =+'6.1 ADIT Calcluated p.2'!E32+'6.1 ADIT Calcluated p.3'!E32 -> 1152339 | F33: =+'6.1 ADIT Calcluated p.2'!F32+'6.1 ADIT Calcluated p.3'!F32 -> 1202380 | G33: =+'6.1 ADIT Calcluated p.2'!G32+'6.1 ADIT Calcluated p.3'!G32 -> 881971 | H33: =+'6.1 ADIT Calcluated p.2'!H32+'6.1 ADIT Calcluated p.3'!H32 -> 1052118 | I33: 0 | AF33: ='6.1 ADIT Calcluated p.2'!AF32+'6.1 ADIT Calcluated p.3'!AF32 -> 5489547 | AH33: 0 | AI33: 0 | AJ33: 0 | AK33: 0
A34: =A33+1 -> 18 | B34: 0.04461 | C34: =+C33+1 -> 16 | D34: =+'6.1 ADIT Calcluated p.2'!D33+'6.1 ADIT Calcluated p.3'!D33 -> 1200470 | E34: =+'6.1 ADIT Calcluated p.2'!E33+'6.1 ADIT Calcluated p.3'!E33 -> 1152597 | F34: =+'6.1 ADIT Calcluated p.2'!F33+'6.1 ADIT Calcluated p.3'!F33 -> 1202111 | G34: =+'6.1 ADIT Calcluated p.2'!G33+'6.1 ADIT Calcluated p.3'!G33 -> 882168 | H34: =+'6.1 ADIT Calcluated p.2'!H33+'6.1 ADIT Calcluated p.3'!H33 -> 1051881 | I34: 0 | AF34: ='6.1 ADIT Calcluated p.2'!AF33+'6.1 ADIT Calcluated p.3'!AF33 -> 5489227 | AH34: 0 | AI34: 0 | AJ34: 0 | AK34: 0
A35: =A34+1 -> 19 | B35: 0.04462 | C35: =+C34+1 -> 17 | D35: =+'6.1 ADIT Calcluated p.2'!D34+'6.1 ADIT Calcluated p.3'!D34 -> 1200739 | E35: =+'6.1 ADIT Calcluated p.2'!E34+'6.1 ADIT Calcluated p.3'!E34 -> 1152339 | F35: =+'6.1 ADIT Calcluated p.2'!F34+'6.1 ADIT Calcluated p.3'!F34 -> 1202380 | G35: =+'6.1 ADIT Calcluated p.2'!G34+'6.1 ADIT Calcluated p.3'!G34 -> 881971 | H35: =+'6.1 ADIT Calcluated p.2'!H34+'6.1 ADIT Calcluated p.3'!H34 -> 1052118 | I35: 0 | AF35: ='6.1 ADIT Calcluated p.2'!AF34+'6.1 ADIT Calcluated p.3'!AF34 -> 5489547 | AH35: 0 | AI35: 0 | AJ35: 0 | AK35: 0
... A39: =A38+1 -> 23 | B39: 0.02231 | C39: =+C38+1 -> 21 | D39: =+'6.1 ADIT Calcluated p.2'!D38+'6.1 ADIT Calcluated p.3'!D38 -> 600370 | E39: =+'6.1 ADIT Calcluated p.2'!E38+'6.1 ADIT Calcluated p.3'!E38 -> 1152339 | F39: =+'6.1 ADIT Calcluated p.2'!F38+'6.1 ADIT Calcluated p.3'!F38 -> 1202380 | G39: =+'6.1 ADIT Calcluated p.2'!G38+'6.1 ADIT Calcluated p.3'!G38 -> 881971 | H39: =+'6.1 ADIT Calcluated p.2'!H38+'6.1 ADIT Calcluated p.3'!H38 -> 1052118 | I39: 0 | AF39: ='6.1 ADIT Calcluated p.2'!AF38+'6.1 ADIT Calcluated p.3'!AF38 -> 4889178 | AH39: 0 | AI39: 0 | AJ39: 0 | AK39: 0
A40: =A39+1 -> 24 | C40: =+C39+1 -> 22 | D40: =+'6.1 ADIT Calcluated p.2'!D39+'6.1 ADIT Calcluated p.3'!D39 -> 0 | E40: =+'6.1 ADIT Calcluated p.2'!E39+'6.1 ADIT Calcluated p.3'!E39 -> 576306 | F40: =+'6.1 ADIT Calcluated p.2'!F39+'6.1 ADIT Calcluated p.3'!F39 -> 1202111 | G40: =+'6.1 ADIT Calcluated p.2'!G39+'6.1 ADIT Calcluated p.3'!G39 -> 882168 | H40: =+'6.1 ADIT Calcluated p.2'!H39+'6.1 ADIT Calcluated p.3'!H39 -> 1051881 | I40: 0 | AF40: ='6.1 ADIT Calcluated p.2'!AF39+'6.1 ADIT Calcluated p.3'!AF39 -> 3712466 | AH40: 0 | AI40: 0 | AJ40: 0 | AK40: 0
A41: =A40+1 -> 25 | C41: =+C40+1 -> 23 | D41: =+'6.1 ADIT Calcluated p.2'!D40+'6.1 ADIT Calcluated p.3'!D40 -> 0 | E41: =+'6.1 ADIT Calcluated p.2'!E40+'6.1 ADIT Calcluated p.3'!E40 -> 0 | F41: =+'6.1 ADIT Calcluated p.2'!F40+'6.1 ADIT Calcluated p.3'!F40 -> 601190 | G41: =+'6.1 ADIT Calcluated p.2'!G40+'6.1 ADIT Calcluated p.3'!G40 -> 881971 | H41: =+'6.1 ADIT Calcluated p.2'!H40+'6.1 ADIT Calcluated p.3'!H40 -> 1052118 | I41: 0 | AF41: ='6.1 ADIT Calcluated p.2'!AF40+'6.1 ADIT Calcluated p.3'!AF40 -> 2535279 | AH41: 0 | AI41: 0 | AJ41: 0 | AK41: 0
A42: =A41+1 -> 26 | C42: =+C41+1 -> 24 | D42: =+'6.1 ADIT Calcluated p.2'!D41+'6.1 ADIT Calcluated p.3'!D41 -> 0 | E42: =+'6.1 ADIT Calcluated p.2'!E41+'6.1 ADIT Calcluated p.3'!E41 -> 0 | F42: =+'6.1 ADIT Calcluated p.2'!F41+'6.1 ADIT Calcluated p.3'!F41 -> 0 | G42: =+'6.1 ADIT Calcluated p.2'!G41+'6.1 ADIT Calcluated p.3'!G41 -> 441084 | H42: =+'6.1 ADIT Calcluated p.2'!H41+'6.1 ADIT Calcluated p.3'!H41 -> 1051881 | I42: 0 | AF42: ='6.1 ADIT Calcluated p.2'!AF41+'6.1 ADIT Calcluated p.3'!AF41 -> 1492965 | AH42: 0 | AI42: 0 | AJ42: 0 | AK42: 0
A43: =A42+1 -> 27 | D43: =+'6.1 ADIT Calcluated p.2'!D42+'6.1 ADIT Calcluated p.3'!D42 -> 0 | E43: =+'6.1 ADIT Calcluated p.2'!E42+'6.1 ADIT Calcluated p.3'!E42 -> 0 | F43: =+'6.1 ADIT Calcluated p.2'!F42+'6.1 ADIT Calcluated p.3'!F42 -> 0 | G43: =+'6.1 ADIT Calcluated p.2'!G42+'6.1 ADIT Calcluated p.3'!G42 -> 0 | H43: =+'6.1 ADIT Calcluated p.2'!H42+'6.1 ADIT Calcluated p.3'!H42 -> 526059 | I43: 0 | AF43: ='6.1 ADIT Calcluated p.2'!AF42+'6.1 ADIT Calcluated p.3'!AF42 -> 526059
