Workbook
Name AHV: #REF!

Sheet References
C2: REFRENCES
B4: A. | C4: Decrease to revenues to match test year billing analysis with current rates.
B6: B. | C6: Since 2025, there have been increases to individual wage rates and employee turnover, resulting in an increase to wages of $11,939.
B8: C. | C8: The utility has seven board members, each receives $6,000 annually. One current board member declined compensation.
B10: D | C10: Decrease Pension contribution by $4,460 to 2026 eligible employee wages.
B12: E | C12: Increase Medical benefits by $25,863 due to increased premiums for employees.
B14: F | C14: The utility's test year water loss was 21.19 percent. The PSC's maximum allowable loss for rate-making purposes is 15.0 percent. Therefore, the expenses for purchased water and purchased power above the 15 percent limit is not allowed in the rate base and must be deducted. Purchased Water expense was decreased by $107,830 and purchased power expense was decreased by $6,674.
B16: G | C16: The PSC requires adjustments to a water utility's depreciation expense when asset lives fall outside the ranges recommended by NARUC in its publication titled "Depreciation Practices for small utilities". Adjustments are included to bring asset lives to the midpoint of the recommended ranges. SEWA total depreciation expense was decreased by $240,809 . See Table A.
B18: H | C18: Increase amortization expense to Recover of Rate Case Expense of $9,335 amortized over a three year period (9,335/3yrs=$3,112).
B20: I | C20: Decrease payroll taxes by $10,818 due to employee turnover.
B22: K. | C22: Revenue requirement is computed using the Operating Ratio Method. This method is used when systems have little or no debt.
B24: M | C24: The utility reported non utility revenue of $27,486 from a one time insurance reimbursement

Sheet SAO
A1: SCHEDULE OF ADJUSTED OPERATIONS
A2: SOUTH EASTERN WATER ASSOCIATION
D3: 2025
D4: Test Year | E4: Adjustments | F4: Ref. | G4: Proforma | I4: Adjustment | N4: Reference
A5: Operating Revenues
B6: Sales to Residential Customers | D6: 4089388
B7: Sales to Commercial Customers | D7: 1091860
E8: =ExBA!H11 -> -189682.3 | F8: A | G8: =D6+D7+E6+E7+E8 -> 4991565.7 | I8: Net Adjustment to reported revenues to current billing analysis. | N8: Tab ExBA Cell H10
B9: Private Fire Protection | D9: 0 | G9: =D9+E9 -> 0
B10: Sales for Resale | D10: 0 | G10: =D10+E10 -> 0
B11: Other Water Revenues:
C12: Forfeited Discounts | D12: 0
G13: =D12+E12+E13 -> 0
C14: Misc. Service Revenues | D14: 406372 | G14: =D14+E14 -> 406372
C15: Other Water Revenues | D15: 0 | E15: 0 | G15: =D15+E15 -> 0
A16: Total Operating Revenues | D16: =SUM(D6:D15) -> 5587620 | G16: =SUM(G6:G15) -> 5397937.7
A18: Operating Expenses
B19: Operation and Maintenance
C20: Salaries and Wages - Employees | D20: 696411 | E20: =Wages!J30 -> 11938.86 | F20: B | I20: Adjust wages to reflect staff changes and increase in employee wage rates. | N20: Wages tab Cell H30
G22: =D20+E20+E21+E22 -> 708349.86
C23: Salaries and Wages - Officers | D23: 36500 | E23: -500 | F23: C | G23: =D23+E23 -> 36000 | I23: Board members receive $6,000 annually. Seven board members, one elects not to recive compensation
C24: Employee Pensions and Benefits | D24: 161728 | E24: =Wages!J42 -> -4459.6557 | F24: D | I24: Adjust Pension expense to 2026 eligible employee wages | N24: Wages Tab Cell J42
E25: =Medical!E52 -> 25862.57 | F25: E | G25: =D24+E24+E25 -> 183130.91 | I25: Adjust medical insurance to 2026 employer premium. | N25: Tab Medical Cell C18
C26: Purchased Water | D26: 1741470 | E26: ='Water Loss'!D31 -> -107829.83 | F26: F | G26: =D26+E26 -> 1633640.2 | I26: Adjust to allowable water loss. | N26: Tab Water Loss Cell D29
C27: Purchased Power | D27: 107780 | E27: ='Water Loss'!D32 -> -6673.6145 | F27: F | G27: =D27+E27 -> 101106.39 | I27: Adjust to allowable water loss. | N27: Tab Water Loss Cell D30
C28: Chemicals | D28: 0 | G28: =D28+E28 -> 0
C29: Materials and Supplies | D29: 73032 | G29: =D29+E29 -> 73032
C30: Contractual Services - Accounting | D30: 52450 | G30: =D30+E30 -> 52450
C31: Contractual Services - legal | D31: 59461 | G31: =D31+E31 -> 59461
C32: Contractual Services - Water Testiing | D32: 17153 | G32: =D32+E32 -> 17153
C33: Rental of Building/Real Property | G33: =D33+E33 -> 0
C34: Transportation Expenses | D34: 73983 | G34: =D34+E34 -> 73983
C35: Insurance - Workers Comp | G35: =D35+E35 -> 0
C36: Insurance - Other | D36: 88827 | G36: =D36+E36 -> 88827
C37: Advertising | D37: 1487 | G37: =D37+E37 -> 1487
C38: Regulatory Commission Exp. - Other | D38: 7633 | G38: =D38+E38 -> 7633
C39: Bad Debt | D39: 3359 | G39: =D39+E39 -> 3359
C40: Miscellaneous Expenses | D40: 675268 | G40: =D40+E40 -> 675268
B41: Total Operation and Mnt. Expenses | D41: =SUM(D20:D40) -> 3796542 | E41: =SUM(E20:E40) -> -81661.674 | G41: =SUM(G20:G40) -> 3714880.3
B43: Depreciation Expense | D43: 1393391
...

Sheet Revenue Requirement
A1: REVENUE REQUIREMENTS USING DEBT SERVICE COVERAGE METHOD | I1: Adjustment | O1: Reference
A2: Pro Forma Operating Expenses | G2: =SAO!G48 -> 4930240.9
A3: Plus: | C3: Average Annual Principal and Interest Payments | G3: ='Debt Service'!M26 -> 758116.78 | I3: Average annual debt service over next five years. | O3: Tab Debt Service Cell M25
C4: Additional Working Capital | G4: ='Debt Service'!M28 -> 151623.36 | I4: Twenty percent of average annual debt service. | O4: Tab Debt Service Cell M27
A5: Total Revenue Requirement | G5: =G2+G3+G4 -> 5839981
A6: Less: | C6: Forfeited Discounts | G6: =SAO!G13 -> 0
C7: Miscellaneous Service Revenues | G7: =SAO!G14 -> 406372
C8: Interest Income | G8: 99725 | I8: AR pg. 20
C9: Non Utility Income | G9: 0 | I9: AR pg. 20 | J9: One time Insurance rembursement $27,486 | O9: 2024 AR pg.20
A10: Revenue Required From Sales of Water | G10: =G5-G6-G7-G9 -> 5433609
A11: Less: | C11: Revenue from Sales with Present Rates | G11: =ExBA!H7 -> 4991565.7
A12: Required Revenue Increase | G12: =G10-G11 -> 442043.29
A13: Percent Increase | G13: =G12/G11 -> 0.088558043
A15: REVENUE REQUIREMENTS USING OPERATING RATIO METHOD
A16: Pro Forma Operating Expenses | G16: =SAO!G48 -> 4930240.9
A17: Divided by: Operating Ratio | G17: 0.88 | I17: =G18-G16 -> 672305.57
A18: Subtotal | G18: =G16/G17 -> 5602546.4
A19: Plus: | C19: Interest Expense | F19: K | G19: ='Debt Service'!M30 -> 289536.79 | I19: 5-Year Average annual interest over next five years. | O19: Tab Debt Service Cell M29
A20: Total Revenue Requirement | G20: =G18+G19 -> 5892083.2 | J20: =I17+G19 -> 961842.36
A21: Less: | C21: Forfeited Discounts | G21: =SAO!G13 -> 0
C22: Miscellaneous Service Revenues | G22: =SAO!G14 -> 406372
C23: Interest Income | G23: 99725 | I23: AR pg. 20
C24: Non Utility Income | G24: 0 | I24: AR pg. 20 | J24: One time Insurance rembursement $27,486
A25: Revenue Required From Sales of Water | G25: =G20-G21-G22-G24 -> 5485711.2
A26: Less: | C26: Revenue from Sales with Present Rates | G26: =ExBA!H7 -> 4991565.7
A27: Required Revenue Increase | G27: =G25-G26 -> 494145.51
A28: Percent Increase | G28: =G27/G26 -> 0.098996095

Sheet Wages
B1: Salaries & Wages and Associated Adjustments
D2: =1926+50.5+101.5 -> 2078 | J2: Total
D3: Pro Forma | E3: Pro Forma | G3: Pro Forma | H3: Pro Forma | I3: Pro Forma | J3: Pro Forma | K3: Pension
B4: Employee | D4: Reg. Hrs | E4: O. T. Hours | G4: Hourly Wage Rate | H4: Reg. Wages | I4: O. T. Wages | J4: Wages | K4: Eligible | L4: 401K
B5: 1 | C5: EQUIP OPERATOR /FIELD LABORER | D5: 2080 | E5: 99 | G5: 23.65 | H5: =D5*G5 -> 49192 | I5: =E5*G5*1.5 -> 3512.025 | J5: =H5+I5 -> 52704.025 | K5: Yes
B6: 2 | C6: EQUIP OPERATOR /FIELD LABORER | D6: 2080 | E6: 219.5 | G6: 27.5 | H6: =D6*G6 -> 57200 | I6: =E6*G6*1.5 -> 9054.375 | J6: =H6+I6 -> 66254.375 | K6: Yes
B7: 3 | C7: CUSTOMER SERVICE | D7: 2080 | E7: 1.5 | G7: 24.75 | H7: =D7*G7 -> 51480 | I7: =E7*G7*1.5 -> 55.6875 | J7: =H7+I7 -> 51535.688 | K7: Yes
B8: 4 | C8: CUSTOMER SERVICE | D8: 2080 | E8: 1.5 | G8: 23.1 | H8: =D8*G8 -> 48048 | I8: =E8*G8*1.5 -> 51.975 | J8: =H8+I8 -> 48099.975 | K8: Yes
B9: 5 | C9: Leak Detection/ GPS | D9: 2080 | E9: 34 | G9: 23.1 | H9: =D9*G9 -> 48048 | I9: =E9*G9*1.5 -> 1178.1 | J9: =H9+I9 -> 49226.1 | K9: Yes
B10: 6 | C10: FIELD LABORER | D10: 2080 | E10: 50 | G10: 20.71 | H10: =D10*G10 -> 43076.8 | I10: =E10*G10*1.5 -> 1553.25 | J10: =H10+I10 -> 44630.05 | K10: No | L10: Chooses not to participate
B11: 7 | C11: Leak Detection/ GPS/Distrib. Operator | D11: 2080 | E11: 18 | G11: 24.12 | H11: =D11*G11 -> 50169.6 | I11: =E11*G11*1.5 -> 651.24 | J11: =H11+I11 -> 50820.84 | K11: Yes
B12: 8 | C12: Distrib. Operator/Customer Service | D12: 2080 | E12: 223.5 | G12: 28.5 | H12: =D12*G12 -> 59280 | I12: =E12*G12*1.5 -> 9554.625 | J12: =H12+I12 -> 68834.625 | K12: Yes
B13: 9 | C13: FIELD LABORER | D13: 2080 | E13: 90.5 | G13: 20.71 | H13: =D13*G13 -> 43076.8 | I13: =E13*G13*1.5 -> 2811.3825 | J13: =H13+I13 -> 45888.183 | K13: Yes
B14: 10 | C14: CUSTOMER SERVICE | D14: 2080 | G14: 24.75 | H14: =D14*G14 -> 51480 | I14: =E14*G14*1.5 -> 0 | J14: =H14+I14 -> 51480 | K14: Yes
B15: 11 | C15: MANAGER | D15: 2080 | E15: 0 | G15: 48.7 | H15: =D15*G15 -> 101296 | I15: =E15*G15*1.5 -> 0 | J15: =H15+I15 -> 101296 | K15: Yes
B16: 12 | C16: FIELD LABORER | D16: 2080 | E16: 50 | G16: 18 | H16: =D16*G16 -> 37440 | I16: =E16*G16*1.5 -> 1350 | J16: =H16+I16 -> 38790 | K16: No | L16: Must be with the system for 3 yrs
B17: 13 | C17: FIELD LABORER | D17: 2080 | E17: 50 | G17: 18 | H17: =D17*G17 -> 37440 | I17: =E17*G17*1.5 -> 1350 | J17: =H17+I17 -> 38790 | K17: No | L17: Must be with the system for 3 yrs
E18: 0 | H18: =D18*G18 -> 0 | I18: =E18*G18*1.5 -> 0 | J18: =H18+I18 -> 0
E19: 0 | H19: =D19*G19 -> 0 | I19: =E19*G19*1.5 -> 0 | J19: =H19+I19 -> 0
E20: =SUM(E5:E19) -> 837.5 | H20: =SUM(H5:H19) -> 677227.2 | I20: =SUM(I5:I19) -> 31122.66 | J20: =SUM(J5:J19) -> 708349.86
B22: Total Gross Wages | J22: =J20 -> 708349.86
B24: Gross Wages for Full Time Employees Pension Eligible | J24: =J22-J10-J16-J17 -> 586139.81
B26: Board Memebers | J26: Adjustments
B27: Bobby Crow | C27: 6000 | G27: Pro Forma Salaries & Wages Expense | J27: =J22 -> 708349.86
B28: Wade Bumgardner | C28: 6000 | G28: Less: Test Year Salaries & Wages Exp | J28: =-SAO!D20 -> -696411 | L28: Tab SAO Cell D20
B29: Joe Crawford | C29: 6000
B30: Grant Treado | C30: 6000 | G30: Pro Forma Salaries & Wages Adj'mt | J30: =J27+J28+J29 -> 11938.86 | K30: =SAO!F20 -> B
B31: Dennis R. Faulkner | C31: 6000
B32: H. Dwight Faulkner | C32: 6000
B33: Mark Davis | C33: 0 | D33: Declined compensation
B34: Total | C34: =SUM(C27:C33) -> 36000 | G34: Pro Forma Salaries and Wages Expense plus Commissioners | J34: =J27+C34 -> 744349.86
G35: Times: 7.65 Percent FICA Rate | J35: 0.0765
G36: Pro Forma Payroll Taxes | J36: =J34*J35 -> 56942.764
G37: Less: 2025 Payroll Taxes | J37: =SAO!D46 -> 67761 | L37: 2025 Annual Report pg. 45
G38: Payroll Tax Adjustment | J38: =ROUND(J36-J37,0) -> -10818
G40: Total Pro Forma Pension Contribution | J40: =J24*0.03 -> 17584.194 | L40: CONTRIBUTION-Eligible wages times 3%
G41: Less: Test Year Pension Contribution | J41: =Medical!N4 -> 22043.85
G42: Pension & Benefits Adjustment | J42: =J40-J41 -> -4459.6557

Sheet Medical
B1: Medical, Dental, vision, Life and disability Insurance Adjustment
F3: ANNUAL | I3: DISTRICT'S | M3: Health Ins | N3: 139683.79
D4: MONTHLY | E4: ANNUAL | F4: EMPLOYEE | G4: EMPLOYEE | H4: WATER DIST | I4: ANNUAL | M4: Retirement | N4: 22043.85
B5: MEDICAL INSURANCE | C5: NUMBER OF PARTICIPANTS | D5: PREMIUM | E5: PREMIUM | F5: CONTRIB | G5: CONTRIB % | H5: CONTRIB % | I5: PREMIUM | M5: Emp. Pensions & Benefits | N5: =SUM(N3:N4) -> 161727.64
B6: Single EMP | C6: 9 | D6: 708.13 | E6: =(D6*C6)*12 -> 76478.04 | F6: 0 | G6: 0 | H6: =1-G6 -> 1 | I6: =E6*H6 -> 76478.04
B7: EMP/spouse | C7: 1 | D7: 1487.06 | E7: =(D7*C7)*12 -> 17844.72 | F7: 0 | G7: 0 | H7: =1-G7 -> 1 | I7: =E7*H7 -> 17844.72
B8: Emp/ child | C8: 2 | D8: 1274.63 | E8: =(D8*C8)*12 -> 30591.12 | F8: 0 | G8: 0 | H8: =1-G8 -> 1 | I8: =E8*H8 -> 30591.12
B9: Family | C9: 1 | D9: 2053.57 | E9: =(D9*C9)*12 -> 24642.84 | F9: 0 | G9: 0 | H9: =1-G9 -> 1 | I9: =E9*H9 -> 24642.84
B10: Med - AARP | C10: 1 | D10: =362.56+9.9 -> 372.46 | E10: =(D10*C10)*12 -> 4469.52 | F10: 0 | G10: 0 | H10: =1-G10 -> 1 | I10: =E10*H10 -> 4469.52
B11: Medicare Sup | C11: 1 | D11: 198.69 | E11: =(D11*C11)*12 -> 2384.28 | F11: 0 | G11: 0 | H11: =1-G11 -> 1 | I11: =E11*H11 -> 2384.28
B12: Medicare Ind | C12: 1 | D12: =355.83+29.7 -> 385.53
B13: Member ship dues | C13: 11 | D13: 5 | E13: =(D13*C13)*12 -> 660 | F13: 0 | G13: 0 | H13: =1-G13 -> 1 | I13: =E13*H13 -> 660
B14: TOTAL MEDICAL INSURANCE | I14: =SUM(I6:I13) -> 157070.52
F17: ANNUAL | I17: DISTRICT'S
D18: MONTHLY | E18: ANNUAL | F18: EMPLOYEE | G18: EMPLOYEE | H18: WATER DIST | I18: ANNUAL
B19: DENTAL INSURANCE | C19: NUMBER OF PARTICIPANTS | D19: PREMIUM | E19: PREMIUM | F19: CONTRIB | G19: CONTRIB % | H19: CONTRIB % | I19: PREMIUM
B20: EMP | C20: 7 | D20: 24.4 | E20: =(D20*C20)*12 -> 2049.6 | F20: =E20 -> 2049.6 | G20: 1 | H20: 0 | I20: =E20*H20 -> 0
B21: EMP/SP | C21: 2 | D21: 47.72 | E21: =(D21*C21)*12 -> 1145.28 | F21: =E21 -> 1145.28 | G21: 1 | H21: 0 | I21: =E21*H21 -> 0
B22: FAM | C22: 1 | D22: 82.22 | E22: =(D22*C22)*12 -> 986.64 | F22: =E22 -> 986.64 | G22: 1 | H22: 0 | I22: =E22*H22 -> 0
B24: TOTAL DENTAL INSURANCE | D24: =SUM(D20:D23) -> 154.34 | I24: =SUM(I20:I23) -> 0
F26: ANNUAL | I26: DISTRICT'S
E27: ANNUAL | F27: EMPLOYEE | G27: EMPLOYEE | H27: WATER DIST | I27: ANNUAL
B28: VISION INSURANCE | C28: NUMBER OF PARTICIPANTS | E28: PREMIUM | F28: CONTRIB | G28: CONTRIB % | H28: CONTRIB % | I28: PREMIUM
B29: EMP | C29: 8 | D29: 7.96 | E29: =(D29*C29)*12 -> 764.16 | F29: =E29 -> 764.16 | G29: 1 | H29: 0 | I29: =E29*H29 -> 0
B30: EMP/SP | C30: 3 | D30: 14.92 | E30: =(D30*C30)*12 -> 537.12 | F30: =E30 -> 537.12 | G30: 1 | H30: 0 | I30: =E30*H30 -> 0
B31: FAM | C31: 1 | D31: 24.29 | E31: =(D31*C31)*12 -> 291.48 | F31: =E31 -> 291.48 | G31: 1 | H31: 0 | I31: =E31*H31 -> 0
B32: TOTAL VISION INSURANCE | D32: =SUM(D29:D31) -> 47.17 | I32: =SUM(I29:I31) -> 0
F34: ANNUAL | I34: DISTRICT'S
E35: ANNUAL | F35: EMPLOYEE | G35: EMPLOYEE | H35: WATER DIST | I35: ANNUAL
B36: LIFE INSURANCE | C36: NUMBER OF PARTICIPANTS | E36: PREMIUM | F36: CONTRIB | G36: CONTRIB % | H36: CONTRIB % | I36: PREMIUM
B37: Basic Life | C37: 12 | D37: 10.5 | E37: =(D37*C37)*12 -> 1512 | F37: 0 | G37: 0 | H37: =1-G37 -> 1 | I37: =E37*H37 -> 1512
C38: 1 | D38: 5.75 | E38: =(D38*C38)*12 -> 69 | F38: 0 | G38: 0 | H38: =1-G38 -> 1 | I38: =E38*H38 -> 69
B39: TOTAL LIFE INSURANCE | I39: =SUM(I37) -> 1512
F41: ANNUAL | I41: DISTRICT'S
E42: ANNUAL | F42: EMPLOYEE | G42: EMPLOYEE | H42: WATER DIST | I42: ANNUAL
B43: DISABILITY INSURANCE | C43: NUMBER OF PARTICIPANTS | E43: PREMIUM | F43: CONTRIB | G43: CONTRIB % | H43: CONTRIB % | I43: PREMIUM
B44: STD | C44: 1 | D44: =23.87+34.36+22.82+20.93+22.7+13.95+25.45+31.64+13.95+15.29+42.43 -> 267.39 | E44: =(D44*C44)*12 -> 3208.68 | F44: 0 | G44: 0 | H44: =1-G44 -> 1 | I44: =E44*H44 -> 3208.68
B45: LTD | C45: 1 | D45: =27.95+40.59+26.67+24.4+26.53+15.99+29.85+37.3+15.99+17.6+50.31 -> 313.18 | E45: =(D45*C45)*12 -> 3758.16 | F45: 0 | G45: 0 | H45: =1-G45 -> 1 | I45: =E45*H45 -> 3758.16
B46: TOTAL DISABILITY INSURANCE | D46: =SUM(D44:D45) -> 580.57 | I46: =SUM(I44:I45) -> 6966.84
B48: Computation of Adjustment:
...

Sheet Depreciation
C3: Table A
C4: DEPRECIATION EXPENSE ADJUSTMENTS
C5: ='Debt Service'!B5 -> SOUTH EASTERN WATER ASSOCIATION, INC.
K6: Depreciation
E7: Date in | F7: Original | G7: Reported | I7: Proforma | K7: Expense
D8: Asset | E8: Service | F8: Cost * | G8: Life | H8: Depr. Exp. | I8: Life | J8: Depr. Exp. | K8: Adjustment
C9: General Plant
D11: Structures & Improvements | E11: various | F11: 2967225 | G11: various | H11: 97698 | I11: 37.5 | J11: =F11/I11 -> 79126 | K11: =J11-H11 -> -18572
D12: Communication & Computer Equipment | E12: various | F12: 181707 | G12: various | H12: 36244 | I12: 10 | J12: =F12/I12 -> 18170.7 | K12: =J12-H12 -> -18073.3
D13: Office Furniture & Equipment | E13: various | F13: 26309 | G13: various | H13: 6577 | I13: 22.5 | J13: =F13/I13 -> 1169.2889 | K13: =J13-H13 -> -5407.7111
D14: Power Operated Equipment | E14: various | F14: 780107 | G14: various | H14: 53184 | I14: 12.5 | J14: =F14/I14 -> 62408.56 | K14: =J14-H14 -> 9224.56
D15: Tools, Shop, & Garage Equipment | E15: various | F15: 35107 | G15: various | H15: 9710 | I15: 17.5 | J15: =F15/I15 -> 2006.1143 | K15: =J15-H15 -> -7703.8857
D16: Tank Repairs & Painting | I16: 15 | J16: =F16/I16 -> 0
C18: Source of Supply Plant
D19: Collecting & Impounding Reservoirs | I19: 62.5 | J19: =F19/I19 -> 0
D20: Supply Mains | I20: 62.5 | J20: =F20/I20 -> 0
C22: Pumping Plant
D23: Structures & Improvements | E23: various | F23: 1403926 | G23: various | H23: 35524 | I23: 37.5 | J23: =F23/I23 -> 37438.027 | K23: =J23-H23 -> 1914.0267
D24: Telemetry | E24: various | F24: 326909 | G24: 10 | H24: 32691 | I24: 10 | J24: =ROUND(F24/I24,0) -> 32691 | K24: =J24-H24 -> 0
D25: Pumping Equipment | E25: various | F25: 33367 | G25: various | H25: 4693 | I25: 20 | J25: =F25/I25 -> 1668.35 | K25: =J25-H25 -> -3024.65
C27: Transmission & Distribution Plant
D28: Hydrants | E28: various | F28: 5550 | G28: 40 | H28: 139 | I28: 50 | J28: =F28/I28 -> 111 | K28: =J28-H28 -> -28
D29: Transmission & Distribution Mains | E29: various | F29: 33042391 | G29: various | H29: 827084 | I29: 62.5 | J29: =F29/I29 -> 528678.26 | K29: =J29-H29 -> -298405.74
D30: Meter Installations | E30: various | F30: 135083 | G30: 40 | H30: 3377 | I30: 45 | J30: =F30/I30 -> 3001.8444 | K30: =J30-H30 -> -375.15556
D31: Meter Change-outs | E31: various | F31: 3333283 | G31: 40 | H31: 83209 | I31: 15 | J31: =F31/I31 -> 222218.87 | K31: =J31-H31 -> 139009.87
D32: Pump Equipment | E32: various | F32: 896 | G32: 30 | H32: 30 | I32: 20 | J32: =F32/I32 -> 44.8 | K32: =J32-H32 -> 14.8
D33: Tank Fence | E33: various | F33: 19363 | G33: various | H33: 1704 | I33: 37.5 | J33: =F33/I33 -> 516.34667 | K33: =J33-H33 -> -1187.6533
D34: Services | E34: various | F34: 1086562 | G34: various | H34: 28739 | I34: 40 | J34: =F34/I34 -> 27164.05 | K34: =J34-H34 -> -1574.95
D35: Reservoirs & Tanks | E35: various | F35: 1477705 | G35: 40 | H35: 36943 | I35: 45 | J35: =F35/I35 -> 32837.889 | K35: =J35-H35 -> -4105.1111
D36: Tank Painting & Repairs | E36: various | F36: 321013 | G36: various | H36: 14542 | I36: 15 | J36: =F36/I36 -> 21400.867 | K36: =J36-H36 -> 6858.8667
C38: Transportation Equipment
D39: Entire Group | E39: various | F39: 573507 | H39: 119447 | I39: 7 | J39: =F39/I39 -> 81929.571 | K39: =J39-H39 -> -37517.429
C41: Water Treatment Plant
D42: Structures and Improvements | I42: 62.5 | J42: =F42/I42 -> 0
D43: Water Treatment Equipment | E43: various | I43: 27.5 | J43: =F43/I43 -> 0 | K43: =J43-H43 -> 0
C45: TOTALS for Depreciation Expense 2025 ** | F45: =SUM(F10:F44) -> 45750010 | H45: =SUM(H10:H44) -> 1391535 | J45: =SUM(J10:J44) -> 1152581.5 | K45: =SUM(K10:K44) -> -238953.47
D47: Depreciation Expense 2025 PSC annual report | H47: 1393391 | J47: =J45 -> 1152581.5 | K47: =J47-H47 -> -240809.47
D50: * Includes only costs associated with assets that contributed to depreciation expense in the test year.
D51: ** Deprecitaion schedule differs from PSC annual report by $1,856 due to adjustments made after 12/31/25.

Sheet Debt Service
B3: Table B
B4: DEBT SERVICE SCHDULE
B5: SOUTH EASTERN WATER ASSOCIATION, INC.
B6: CY 2027 - 2031
C9: CY 2027 | E9: CY 2028 | G9: CY 2029 | I9: CY 2030 | K9: CY 2031
D10: Interest | F10: Interest | H10: Interest | J10: Interest | L10: Interest
C11: Principal | D11: & Fees | E11: Principal | F11: & Fees | G11: Principal | H11: & Fees | I11: Principal | J11: & Fees | K11: Principal | L11: & Fees | M11: TOTALS | P11: Loan
B12: KRWFC 2015 C | C12: 175000 | D12: =26926.25+23557.5+450 -> 50933.75 | E12: 180000 | F12: =23557.5+20092.5+450 -> 44100 | G12: 155000 | H12: =20092.5+17108.75+450 -> 37651.25 | I12: 160000 | J12: =17108.75+14028.75+450 -> 31587.5 | K12: 165000 | L12: =14028.75+10852.5+450 -> 25331.25 | M12: =SUM(C12:L12) -> 1024603.8 | P12: 3140000
B13: KIA Fund B (B26-002) | C13: =13194.66+13310.11 -> 26504.77 | D13: =5178.04+5062.59+591.78+578.58 -> 11410.99 | E13: =13426.58+13544.06 -> 26970.64 | F13: =4946.12+4828.64+565.27+551.84 -> 10891.87 | G13: =13662.57+13782.12 -> 27444.69 | H13: =4710.13+4590.58+538.3+524.64 -> 10363.65 | I13: =13902.71+14024.36 -> 27927.07 | J13: =4469.99+4348.34+510.86+496.95 -> 9826.14 | K13: =14147.07+14270.86 -> 28417.93 | L13: =4225.63+4101.84+482.93+468.78 -> 9279.18 | M13: =SUM(C13:L13) -> 189036.93 | P13: 617823
B14: 91-22 | C14: 48324.14 | D14: 53411.86 | E14: 40406-94 | F14: 41329.06 | G14: 52883.49 | H14: 48852.51 | I14: 55325.6 | J14: 46410.4 | K14: 57880.51 | L14: 48855.49 | M14: =SUM(C14:L14) -> 453273.06 | P14: 1519826.8
B15: 91-24 | C15: 65956.25 | D15: 84007.75 | E15: 68900.39 | F15: 81063.61 | G15: 71976 | H15: 77988 | I15: 75188.87 | J15: 74775.13 | K15: 78545.14 | L15: 71418.86 | M15: =SUM(C15:L15) -> 749820 | P15: 2385852.6
B16: 91-26 | C16: 91955.81 | D16: 68843.23 | E16: 93983.75 | F16: 66815.29 | G16: 96440.19 | H16: 64358.85 | I16: 98766.06 | J16: 62032.98 | K16: 101148.05 | L16: 59650.99 | M16: =SUM(C16:L16) -> 803995.2 | P16: 3589402.7
B17: 91-28 | C17: 41758.3 | D17: 36770.7 | E17: 42541.27 | F17: 35987.73 | G17: 43338.92 | H17: 35190.08 | I17: 44151.53 | J17: 34377.47 | K17: 44979.37 | L17: 33549.63 | M17: =SUM(C17:L17) -> 392645 | P17: 2196000
B18: 91-30 | C18: 9507.8 | D18: 8372.2 | E18: 9686.07 | F18: 8193.93 | G18: 9867.69 | H18: 8012.31 | I18: 10052.7 | J18: 7827.3 | K18: 10241.19 | L18: 7638.81 | M18: =SUM(C18:L18) -> 89400 | P18: 500000
B19: 91-32 | C19: =739.81+740.91+811.78+743.22+767.5+745.46+769.68+747.11+748.82+772.94+751.09+775.13 -> 9113.45 | D19: =723.19+722.09+651.22+719.78+695.5+717.54+693.32+715.29+714.18+690.66+711.91+687.87 -> 8442.55 | E19: =755.29+786.41+803.05+758.72+782.53+761.01+784.75+763.3+764.43+788.06+766.73+790.29 -> 9304.57 | F19: =707.71+706.59+659.95+704.28+680.47+701.99+678.25+699.7+698.57+674.94+696.27+672.71 -> 8281.43 | G19: =767.14+768.28+836.54+770.66+794.11+772.99+796.36+775.32+776.48+799.74+778.82+802.01 -> 9438.45 | H19: =695.86+694.72+626.46+692.34+668.889+690.01+666.64+687.68+686.52+663.26+684.18+660.99 -> 8117.549 | I19: =781.17+782.33+849.25+784.75+807.76+787.12+810.06+789.49+790.67+813.46+793.05+815.8 -> 9604.91 | J19: =681.83+680.67+613.75+678.25+655.24+675.88+652.94+673.51+672.33+649.51+669.95+647.2 -> 7951.06 | K19: =795.44+796.63+862.18+799.09+821.66+801.5+823.99+803.92+805.11+827.49+807.54+829.84 -> 9774.39 | L19: =667.56+666.37+600.82+663.91+641.34+661.5+639.01+659.08+657.89+635.51+655.46+633.16 -> 7781.61 | M19: =SUM(C19:L19) -> 87809.969 | P19: 504328.16
B23: TOTALS | C23: =SUM(C12:C22) -> 468120.52 | D23: =SUM(D12:D22) -> 322193.03 | E23: =SUM(E12:E22) -> 431386.69 | F23: =SUM(F12:F22) -> 296662.92 | G23: =SUM(G12:G22) -> 466389.43 | H23: =SUM(H12:H22) -> 290534.2 | I23: =SUM(I12:I22) -> 481016.74 | J23: =SUM(J12:J22) -> 274787.98 | ... M23: =SUM(M12:M22) -> 3790583.9
I26: Average Annual Principal & Interest | M26: =M23/5 -> 758116.78
I28: Average Annual Coverage | M28: =M26*0.2 -> 151623.36 | P28: =M28+M26 -> 909740.14
I30: 5-Year Average Interest & fees Only | M30: =(D23+F23+H23+J23+L23)/5 -> 289536.79
F31: ``
B34: Interest Only | D34: =D23 -> 322193.03 | F34: =F23 -> 296662.92 | H34: =H23 -> 290534.2 | J34: =J23 -> 274787.98 | L34: =L23 -> 263505.82 | M34: =D34+F34+H34+J34+L34 -> 1447683.9
B36: 5 year Average Interest Only | M36: =M34/5 -> 289536.79

Sheet Water Loss
A1: Water Loss Adjustment | B1: 2025 PSC annual report (To Be Revised) | E1: USE 2025 Water Loss Reports for Rate Application | I1: PSC Annual | J1: Water
A2: Produced | C2: 0 | I2: Report | J2: Loss
A3: Purchased | C3: 604615000 | F3: 603615300 | I3: 2021 | J3: 0.140364
A4: Total Produced and Purchased | C4: =C2+C3 -> 604615000 | F4: =F2+F3 -> 603615300 | I4: 2022 | J4: 0.149329
A5: SOLD | I5: 2023 | J5: 0.147787
A6: Residential | C6: 342806000 | F6: 312244223 | I6: 2024 | J6: 0.172562
A7: Commercial | C7: 13249000 | F7: 15505973
A8: Bulk loadiing | C8: 160000 | F8: 160166
A9: Other | C9: 6064000 | F9: 6064363
A10: TOTAL | C10: =SUM(C6:C9) -> 362279000 | F10: =SUM(F6:F9) -> 333974725
A11: Uses:
A12: Flushing | B12: 141489000 | E12: 141489010
A13: Fire | B13: 234000 | E13: 234100
A14: Other
A15: Total Other Water Used | C15: =SUM(B12:B14) -> 141723000 | F15: =SUM(E12:E14) -> 141723110
A17: Losses:
A18: Tank Overflows | B18: 1750000 | E18: 1750000
A19: Line Breaks | B19: 47179000 | E19: 55797372
A20: Line Leaks | B20: 51684000 | E20: 70370093
A21: Unknown
A22: Total Losses: | C22: =SUM(B18:B21) -> 100613000 | F22: =SUM(E18:E21) -> 127917465
A23: Sold, Used, and Lost | C23: =C10+C15+C22 -> 604615000 | F23: =F10+F15+F22 -> 603615300
B26: Reported Water Loss Percentage | C26: =C22/C4 -> 0.16640838 | F26: =F22/F4 -> 0.21191886 | G26: SEWA WATER LOSS PERCENTAGE
B27: (PSC annual report to be revised) | F27: 0.15 | G27: allowable in rates
F28: =F26-F27 -> 0.061918858 | G28: adjustment percentage
A30: Costs Subject to Water Loss Adjustment | D30: Adjustment
A31: =SAO!C26 -> Purchased Water | B31: =SAO!D26 -> 1741470 | D31: =SAO!D26*-F28 -> -107829.83
A32: =SAO!C27 -> Purchased Power | B32: =SAO!D27 -> 107780 | D32: =-SAO!D27*$F$28 -> -6673.6145
A33: =SAO!C28 -> Chemicals | B33: =SAO!D28 -> 0 | D33: =-SAO!D28*$F$28 -> 0
A34: Total | B34: =SUM(B31:B33) -> 1849250 | D34: =SUM(D31:D33) -> -114503.45

Sheet Rates
B3: TABLE C
B7: CURRENT AND PROPOSED RATES
B8: =ExBA!A1 -> SOUTH EASTERN WATER ASSOCIATION, INC.
B11: Monthly Water Rates: | D11: Current Rates | F11: Proposed | H11: Difference
C12: 5/8 x 3/4 Meter
B13: First | C13: 2,000 Gallons | D13: 28.53 | E13: Minimum Bill | F13: =ROUND(D13*(1+'Revenue Requirement'!$G$28),2) -> 31.35 | G13: Minimum Bill | H13: =F13-D13 -> 2.82 | I13: =H13/D13 -> 0.098843323
B14: All Over | C14: 2,000 Gallons | D14: 0.01244 | E14: Per Gallon | F14: =ROUND(D14*(1+'Revenue Requirement'!$G$28),5) -> 0.01367 | G14: Per Gallon | H14: =F14-D14 -> 0.00123 | I14: =H14/D14 -> 0.098874598
C16: 1-Inch Meter
B17: First | C17: 5,000 Gallons | D17: 65.86 | E17: Minimum Bill | F17: =ROUND(D17*(1+'Revenue Requirement'!$G$28),2) -> 72.38 | G17: Minimum Bill | H17: =F17-D17 -> 6.52 | I17: =H17/D17 -> 0.098997874 | M17: =D17+(20*(D18*1000)) -> 314.66
B18: All Over | C18: 5,000 Gallons | D18: 0.01244 | E18: Per Gallon | F18: =ROUND(D18*(1+'Revenue Requirement'!$G$28),5) -> 0.01367 | G18: Per Gallon | H18: =F18-D18 -> 0.00123 | I18: =H18/D18 -> 0.098874598
C20: 1 1/2-Inch Meter
B21: First | C21: 10,000 Gallons | D21: 128.06 | E21: Minimum Bill | F21: =ROUND(D21*(1+'Revenue Requirement'!$G$28),2) -> 140.74 | G21: Minimum Bill | H21: =F21-D21 -> 12.68 | I21: =H21/D21 -> 0.099016086
B22: All Over | C22: 10,000 Gallons | D22: 0.01244 | E22: Per Gallon | F22: =ROUND(D22*(1+'Revenue Requirement'!$G$28),5) -> 0.01367 | G22: Per Gallon | H22: =F22-D22 -> 0.00123 | I22: =H22/D22 -> 0.098874598
C24: 2-Inch Meter
B25: First | C25: 20,000 Gallons | D25: 252.5 | E25: Minimum Bill | F25: =ROUND(D25*(1+'Revenue Requirement'!$G$28),2) -> 277.5 | G25: Minimum Bill | H25: =F25-D25 -> 25 | I25: =H25/D25 -> 0.099009901
B26: All Over | C26: 20,000 Gallons | D26: 0.01244 | E26: Per Gallon | F26: =ROUND(D26*(1+'Revenue Requirement'!$G$28),5) -> 0.01367 | G26: Per Gallon | H26: =F26-D26 -> 0.00123 | I26: =H26/D26 -> 0.098874598
C28: 3-Inch Meter
B29: First | C29: 30,000 Gallons | D29: 376.93 | E29: Minimum Bill | F29: =ROUND(D29*(1+'Revenue Requirement'!$G$28),2) -> 414.24 | G29: Minimum Bill | H29: =F29-D29 -> 37.31 | I29: =H29/D29 -> 0.098983896
B30: All Over | C30: 30,000 Gallons | D30: 0.01244 | E30: Per Gallon | F30: =ROUND(D30*(1+'Revenue Requirement'!$G$28),5) -> 0.01367 | G30: Per Gallon | H30: =F30-D30 -> 0.00123 | I30: =H30/D30 -> 0.098874598
C32: 4-Inch Meter
B33: First | C33: 50,000 Gallons | D33: 625.79 | E33: Minimum Bill | F33: =ROUND(D33*(1+'Revenue Requirement'!$G$28),2) -> 687.74 | G33: Minimum Bill | H33: =F33-D33 -> 61.95 | I33: =H33/D33 -> 0.09899487
B34: All Over | C34: 50,000 Gallons | D34: 0.01244 | E34: Per Gallon | F34: =ROUND(D34*(1+'Revenue Requirement'!$G$28),5) -> 0.01367 | G34: Per Gallon | H34: =F34-D34 -> 0.00123 | I34: =H34/D34 -> 0.098874598
C36: 6-Inch Meter
B37: First | C37: 100,000 Gallons | D37: 1247.94 | E37: Minimum Bill | F37: =ROUND(D37*(1+'Revenue Requirement'!$G$28),2) -> 1371.48 | G37: Minimum Bill | H37: =F37-D37 -> 123.54 | I37: =H37/D37 -> 0.098995144
B38: All Over | C38: 100,000 Gallons | D38: 0.01244 | E38: Per Gallon | F38: =ROUND(D38*(1+'Revenue Requirement'!$G$28),5) -> 0.01367 | G38: Per Gallon | H38: =F38-D38 -> 0.00123 | I38: =H38/D38 -> 0.098874598
B40: Wholesale Rate and Leak Adjustment Rate
C41: All Gallons | D41: 0.00444 | E41: Per Gallon | F41: =ROUND(D41*(1+'Revenue Requirement'!$G$28),5) -> 0.00488 | G41: Per Gallon | H41: =F41-D41 -> 0.00044 | I41: =H41/D41 -> 0.099099099

Sheet Bills
C3: TABLE D
C4: CURRENT AND PROPOSED BILLS
C5: SOUTH EASTERN WATER ASSOCIATION, INC.
C8: Gallons | D8: Meter | E8: Existing | F8: Proposed | M8: Gallons | N8: Meter | O8: Existing | P8: Proposed
C9: per Month* | D9: Size | E9: Bill** | F9: Bill** | G9: Change | H9: Percentage | M9: Per Month | N9: Size | O9: Bill | P9: Bill | Q9: Change | R9: Percentage
C10: 0 | D10: 5/8 x 3/4" | E10: =Rates!D13 -> 28.53 | F10: =Rates!F13 -> 31.35 | G10: =F10-E10 -> 2.82 | H10: =G10/E10 -> 0.098843323 | M10: 4000 | N10: 5/8 x 3/4" | O10: =Rates!$D$13+((Bills!M10-2000)*Rates!$D$14) -> 53.41 | P10: =Rates!$F$13+(Bills!M10-2000)*Rates!$F$14 -> 58.69 | Q10: =P10-O10 -> 5.28 | R10: =Q10/O10 -> 0.098857892
C11: 2000 | D11: 5/8 x 3/4" | E11: =Rates!$D$13 -> 28.53 | F11: =Rates!$F$13 -> 31.35 | G11: =F11-E11 -> 2.82 | H11: =G11/E11 -> 0.098843323 | M11: 25000 | N11: 1" | O11: =Rates!$D$13+(Bills!M11-2000)*Rates!$D$14 -> 314.65 | P11: =Rates!$F$13+(Bills!M11-2000)*Rates!$F$14 -> 345.76 | Q11: =P11-O11 -> 31.11 | R11: =Q11/O11 -> 0.098871762
C12: 4000 | D12: 5/8 x 3/4" | E12: =Rates!$D$13+((Bills!C12-2000)*Rates!$D$14) -> 53.41 | F12: =Rates!$F$13+(Bills!C12-2000)*Rates!$F$14 -> 58.69 | G12: =F12-E12 -> 5.28 | H12: =G12/E12 -> 0.098857892 | M12: 10000 | N12: 1 1/2" | O12: =Rates!D21 -> 128.06 | P12: =Rates!F21 -> 140.74 | Q12: =P12-O12 -> 12.68 | R12: =Q12/O12 -> 0.099016086
C13: 6000 | D13: 5/8 x 3/4" | E13: =Rates!$D$13+(Bills!C13-2000)*Rates!$D$14 -> 78.29 | F13: =Rates!$F$13+(Bills!C13-2000)*Rates!$F$14 -> 86.03 | G13: =F13-E13 -> 7.74 | H13: =G13/E13 -> 0.098863201 | M13: 25000 | N13: 2" | O13: =Rates!$D$13+(Bills!M13-2000)*Rates!$D$14 -> 314.65 | P13: =Rates!$F$13+(Bills!M13-2000)*Rates!$F$14 -> 345.76 | Q13: =P13-O13 -> 31.11 | R13: =Q13/O13 -> 0.098871762
C14: 8000 | D14: 5/8 x 3/4" | E14: =Rates!$D$13+(Bills!C14-2000)*Rates!$D$14 -> 103.17 | F14: =Rates!$F$13+(Bills!C14-2000)*Rates!$F$14 -> 113.37 | G14: =F14-E14 -> 10.2 | H14: =G14/E14 -> 0.098865949 | M14: 30000 | N14: 3" | O14: =Rates!D29 -> 376.93 | P14: =Rates!F29 -> 414.24 | Q14: =P14-O14 -> 37.31 | R14: =Q14/O14 -> 0.098983896
C15: 10000 | D15: 5/8 x 3/4" | E15: =Rates!$D$13+(Bills!C15-2000)*Rates!$D$14 -> 128.05 | F15: =Rates!$F$13+(Bills!C15-2000)*Rates!$F$14 -> 140.71 | G15: =F15-E15 -> 12.66 | H15: =G15/E15 -> 0.09886763 | M15: 50000 | N15: 4" | O15: =Rates!D33 -> 625.79 | P15: =Rates!F33 -> 687.74 | Q15: =P15-O15 -> 61.95 | R15: =Q15/O15 -> 0.09899487
C16: 15000 | D16: 5/8 x 3/4" | E16: =Rates!$D$13+(Bills!C16-2000)*Rates!$D$14 -> 190.25 | F16: =Rates!$F$13+(Bills!C16-2000)*Rates!$F$14 -> 209.06 | G16: =F16-E16 -> 18.81 | H16: =G16/E16 -> 0.098869908 | M16: 100000 | N16: 6" | O16: =Rates!D37 -> 1247.94 | P16: =Rates!F37 -> 1371.48 | Q16: =P16-O16 -> 123.54 | R16: =Q16/O16 -> 0.098995144
C17: 20000 | D17: 5/8 x 3/4" | E17: =Rates!$D$13+(Bills!C17-2000)*Rates!$D$14 -> 252.45 | F17: =Rates!$F$13+(Bills!C17-2000)*Rates!$F$14 -> 277.41 | G17: =F17-E17 -> 24.96 | H17: =G17/E17 -> 0.098871064 | M17: Wholesale (rate per gallon) | O17: =Rates!D41 -> 0.00444 | P17: =Rates!F41 -> 0.00488 | Q17: =P17-O17 -> 0.00044 | R17: =Q17/O17 -> 0.099099099
C18: 25000 | D18: 1" | E18: =Rates!$D$13+(Bills!C18-2000)*Rates!$D$14 -> 314.65 | F18: =Rates!$F$13+(Bills!C18-2000)*Rates!$F$14 -> 345.76 | G18: =F18-E18 -> 31.11 | H18: =G18/E18 -> 0.098871762 | Q18: =P18-O18 -> 0
C19: 30000 | D19: 1" | E19: =Rates!$D$13+(Bills!C19-2000)*Rates!$D$14 -> 376.85 | F19: =Rates!$F$13+(Bills!C19-2000)*Rates!$F$14 -> 414.11 | G19: =F19-E19 -> 37.26 | H19: =G19/E19 -> 0.09887223
C20: 40000 | D20: 1" | E20: =Rates!$D$13+(Bills!C20-2000)*Rates!$D$14 -> 501.25 | F20: =Rates!$F$13+(Bills!C20-2000)*Rates!$F$14 -> 550.81 | G20: =F20-E20 -> 49.56 | H20: =G20/E20 -> 0.098872818
C21: 50000 | D21: 1" | E21: =Rates!$D$13+(Bills!C21-2000)*Rates!$D$14 -> 625.65 | F21: =Rates!$F$13+(Bills!C21-2000)*Rates!$F$14 -> 687.51 | G21: =F21-E21 -> 61.86 | H21: =G21/E21 -> 0.098873172
C22: 75000 | D22: 2" | E22: =Rates!$D$13+(Bills!C22-2000)*Rates!$D$14 -> 936.65 | F22: =Rates!$F$13+(Bills!C22-2000)*Rates!$F$14 -> 1029.26 | G22: =F22-E22 -> 92.61 | H22: =G22/E22 -> 0.098873645
C23: 100000 | D23: 2" | E23: =Rates!$D$13+(Bills!C23-2000)*Rates!$D$14 -> 1247.65 | F23: =Rates!$F$13+(Bills!C23-2000)*Rates!$F$14 -> 1371.01 | G23: =F23-E23 -> 123.36 | H23: =G23/E23 -> 0.098873883
C24: 200000 | D24: 2" | E24: =Rates!$D$13+(Bills!C24-2000)*Rates!$D$14 -> 2491.65 | F24: =Rates!$F$13+(Bills!C24-2000)*Rates!$F$14 -> 2738.01 | G24: =F24-E24 -> 246.36 | H24: =G24/E24 -> 0.09887424
C25: 500000 | D25: 2" | E25: =Rates!$D$13+(Bills!C25-2000)*Rates!$D$14 -> 6223.65 | F25: =Rates!$F$13+(Bills!C25-2000)*Rates!$F$14 -> 6839.01 | G25: =F25-E25 -> 615.36 | H25: =G25/E25 -> 0.098874455
D28: * Highlighted usage represents the average residential bill.

Sheet ExBA
A1: SOUTH EASTERN WATER ASSOCIATION, INC.
D2: BILLING ANALYSIS WITH 2025 USAGE AND CURRENT RATES
D3: Summary | O3: 2025 Adjustments Report
D4: Customer Class | F4: # of Bills | G4: Gallons Sold | H4: Revenue | O4: Misread
D5: Total Metered Sales | F5: =D24+D37+D50+D63+D76+D89+D102+D102+D105 -> 97098 | G5: =E24+E37+E50+E63+E76+E89+E102+E102+E105 -> 333814559 | H5: =G24+G37+G50+G63+G76+I10589+G102+G105 -> 5056320.4 | O5: Water Adjustment | P5: 455.41
D6: Less Adjustments | H6: =P7 -> -64754.72 | O6: Leak Adjustment | P6: -65210.13
D7: Net Sales | H7: =H5+H6 -> 4991565.7 | P7: =SUM(P4:P6) -> -64754.72
D8: Less 2025 PSC Annual Report | H8: =-SAO!D6-SAO!D7 -> -5181248
H9: =-SAO!E6 -> 0 | O9: Penalties | P9: 90264.35
H10: 0 | O10: Penalty adjustments | P10: -538.76
D11: Difference | H11: =H7+H8+H9+H10 -> -189682.3 | I11: Adjustment to SAO Billed Retail Revenues
A13: CONSUMPTION BY RATE INCREMENT
B14: 5/8 x 3/4 Meter | F14: First | G14: Second | H14: Total
C15: Usage | D15: Bills | E15: Gallons | F15: Block | G15: Block
B16: First | C16: 2000 | D16: =38939+120+666+511 -> 40236 | E16: =33032733+63150+337471+227675 -> 33661029 | F16: =E16 -> 33661029 | G16: 0 | H16: =SUM(F16:G16) -> 33661029
B17: Over | C17: 2000 | D17: =24+56147+12+114+407 -> 56704 | E17: =1369574+282285221+69847+567223+8415159 -> 292707024 | F17: =C17*D17 -> 113408000 | G17: =E17-F17 -> 179299024 | H17: =SUM(F17:G17) -> 292707024
D18: =SUM(D16:D17) -> 96940 | E18: =SUM(E16:E17) -> 326368053 | F18: =SUM(F16:F17) -> 147069029 | G18: =SUM(G16:G17) -> 179299024 | H18: =SUM(H16:H17) -> 326368053
A20: REVENUE BY RATE INCREMENT | F20: EFF. 2/15/24
C21: Usage | D21: Bills | E21: Gallons | F21: Rate | G21: Revenue
B22: First | C22: 2000 | D22: =D18 -> 96940 | E22: =F18 -> 147069029 | F22: =Rates!D13 -> 28.53 | G22: =D22*F22 -> 2765698.2
B23: Over | C23: 2000 | E23: =G18 -> 179299024 | F23: =Rates!D14 -> 0.01244 | G23: =E23*F23 -> 2230479.9
D24: =SUM(D22:D23) -> 96940 | E24: =SUM(E22:E23) -> 326368053 | G24: =SUM(G22:G23) -> 4996178.1
A26: CONSUMPTION BY RATE INCREMENT
B27: 1-Inch Meter | F27: First | G27: Second | H27: Total
C28: Usage | D28: Bills | E28: Gallons | F28: Block | G28: Block
B29: First | C29: 5000 | D29: =24+32 -> 56 | E29: =26964+29626 -> 56590 | F29: =E29 -> 56590 | G29: 0 | H29: =SUM(F29:G29) -> 56590
B30: Over | C30: 5000 | D30: =26+4 -> 30 | E30: =559065+27611 -> 586676 | F30: =C30*D30 -> 150000 | G30: =E30-F30 -> 436676 | H30: =SUM(F30:G30) -> 586676
D31: =SUM(D29:D30) -> 86 | E31: =SUM(E29:E30) -> 643266 | F31: =SUM(F29:F30) -> 206590 | G31: =SUM(G29:G30) -> 436676 | H31: =SUM(H29:H30) -> 643266
A33: REVENUE BY RATE INCREMENT
C34: Usage | D34: Bills | E34: Gallons | F34: Rate | G34: Revenue
B35: First | C35: 5000 | D35: =D31 -> 86 | E35: =F31 -> 206590 | F35: =Rates!D17 -> 65.86 | G35: =D35*F35 -> 5663.96
B36: Over | C36: 5000 | E36: =G31 -> 436676 | F36: =Rates!D18 -> 0.01244 | G36: =E36*F36 -> 5432.2494
D37: =SUM(D35:D36) -> 86 | E37: =SUM(E35:E36) -> 643266 | G37: =SUM(G35:G36) -> 11096.209
A39: CONSUMPTION BY RATE INCREMENT
B40: 1 1/2-Inch Meter | F40: First | G40: Second | H40: Total | I40: Confirmed no customers with this meter size
C41: Usage | D41: Bills | E41: Gallons | F41: Block | G41: Block
B42: First | C42: 10000 | D42: =P62 -> 0 | E42: =P57 -> 0 | F42: =E42 -> 0 | G42: 0 | H42: =SUM(F42:G42) -> 0
B43: Over | C43: 10000 | D43: =P63 -> 0 | E43: =P58 -> 0 | F43: =C43*D43 -> 0 | G43: =E43-F43 -> 0 | H43: =SUM(F43:G43) -> 0
D44: =SUM(D42:D43) -> 0 | E44: =SUM(E42:E43) -> 0 | F44: =SUM(F42:F43) -> 0 | G44: =SUM(G42:G43) -> 0 | H44: =SUM(H42:H43) -> 0
A46: REVENUE BY RATE INCREMENT
...

Sheet PRBA
A1: SOUTH EASTERN WATER ASSOCIATION, INC.
A2: BILLING ANALYSIS WITH 2025 USAGE AND PROPOSED RATES
D3: Summary | O3: 2025 Adjustments Report
D4: Customer Class | F4: # of Bills | G4: Gallons Sold | H4: Revenue | O4: Misread
D5: Total Metered Sales | F5: =D24+D37+D50+D63+D76+D89+D102+D102+D105 -> 97098 | G5: =E24+E37+E50+E63+E76+E89+E102+E102+E105 -> 333814559 | H5: =G24+G37+G50+G63+G76+I10589+G102+G105 -> 5556183.6 | O5: Water Adjustment | P5: 455.41
D6: Less Adjustments | H6: =P7 -> -64754.72 | O6: Leak Adjustment | P6: -65210.13
D7: Total | H7: =H5+H6 -> 5491428.9 | P7: =SUM(P4:P6) -> -64754.72
G8: Revenue Required from water sales | H8: =SAO!G63 -> 5485711.2
G9: Difference | H9: =H7-H8 -> 5717.6745
A13: CONSUMPTION BY RATE INCREMENT
B14: 5/8 x 3/4 Meter | F14: First | G14: Second | H14: Total
C15: Usage | D15: Bills | E15: Gallons | F15: Block | G15: Block
B16: First | C16: 2000 | D16: =38939+120+666+511 -> 40236 | E16: =33032733+63150+337471+227675 -> 33661029 | F16: =E16 -> 33661029 | G16: 0 | H16: =SUM(F16:G16) -> 33661029
B17: Over | C17: 2000 | D17: =24+56147+12+114+407 -> 56704 | E17: =1369574+282285221+69847+567223+8415159 -> 292707024 | F17: =C17*D17 -> 113408000 | G17: =E17-F17 -> 179299024 | H17: =SUM(F17:G17) -> 292707024
D18: =SUM(D16:D17) -> 96940 | E18: =SUM(E16:E17) -> 326368053 | F18: =SUM(F16:F17) -> 147069029 | G18: =SUM(G16:G17) -> 179299024 | H18: =SUM(H16:H17) -> 326368053
A20: REVENUE BY RATE INCREMENT
C21: Usage | D21: Bills | E21: Gallons | F21: Rate | G21: Revenue
B22: First | C22: 2000 | D22: =D18 -> 96940 | E22: =F18 -> 147069029 | F22: =Rates!F13 -> 31.35 | G22: =D22*F22 -> 3039069
B23: Over | C23: 2000 | E23: =G18 -> 179299024 | F23: =Rates!F14 -> 0.01367 | G23: =E23*F23 -> 2451017.7
D24: =SUM(D22:D23) -> 96940 | E24: =SUM(E22:E23) -> 326368053 | G24: =SUM(G22:G23) -> 5490086.7
A26: CONSUMPTION BY RATE INCREMENT
B27: 1-Inch Meter | F27: First | G27: Second | H27: Total
C28: Usage | D28: Bills | E28: Gallons | F28: Block | G28: Block
B29: First | C29: 5000 | D29: =24+32 -> 56 | E29: =26964+29626 -> 56590 | F29: =E29 -> 56590 | G29: 0 | H29: =SUM(F29:G29) -> 56590
B30: Over | C30: 5000 | D30: =26+4 -> 30 | E30: =559065+27611 -> 586676 | F30: =C30*D30 -> 150000 | G30: =E30-F30 -> 436676 | H30: =SUM(F30:G30) -> 586676
D31: =SUM(D29:D30) -> 86 | E31: =SUM(E29:E30) -> 643266 | F31: =SUM(F29:F30) -> 206590 | G31: =SUM(G29:G30) -> 436676 | H31: =SUM(H29:H30) -> 643266
A33: REVENUE BY RATE INCREMENT
C34: Usage | D34: Bills | E34: Gallons | F34: Rate | G34: Revenue
B35: First | C35: 5000 | D35: =D31 -> 86 | E35: =F31 -> 206590 | F35: =Rates!F17 -> 72.38 | G35: =D35*F35 -> 6224.68
B36: Over | C36: 5000 | E36: =G31 -> 436676 | F36: =Rates!F18 -> 0.01367 | G36: =E36*F36 -> 5969.3609
D37: =SUM(D35:D36) -> 86 | E37: =SUM(E35:E36) -> 643266 | G37: =SUM(G35:G36) -> 12194.041
A39: CONSUMPTION BY RATE INCREMENT
B40: 1 1/2-Inch Meter | F40: First | G40: Second | H40: Total | I40: Confirmed no customers with this meter size
C41: Usage | D41: Bills | E41: Gallons | F41: Block | G41: Block
B42: First | C42: 10000 | D42: =P62 -> 0 | E42: =P57 -> 0 | F42: =E42 -> 0 | G42: 0 | H42: =SUM(F42:G42) -> 0
B43: Over | C43: 10000 | D43: =P63 -> 0 | E43: =P58 -> 0 | F43: =C43*D43 -> 0 | G43: =E43-F43 -> 0 | H43: =SUM(F43:G43) -> 0
D44: =SUM(D42:D43) -> 0 | E44: =SUM(E42:E43) -> 0 | F44: =SUM(F42:F43) -> 0 | G44: =SUM(G42:G43) -> 0 | H44: =SUM(H42:H43) -> 0
A46: REVENUE BY RATE INCREMENT
C47: Usage | D47: Bills | E47: Gallons | F47: Rate | G47: Revenue
B48: First | C48: =C42 -> 10000 | D48: =D44 -> 0 | E48: =F44 -> 0 | F48: =Rates!F21 -> 140.74 | G48: =D48*F48 -> 0
...
