Workbook
Name _1ASST._S._ENG.: #REF!
Name _2CONT_CENTER: #REF!
Name _3KIESE: #REF!
Name _4WALTON__J.: #REF!
Name _A1: #REF!
Name ActExcessAmt: #REF!
Name ActExcessAmt: #REF!
Name ActGrTaxAmt: #REF!
Name ActGrTaxAmt: #REF!
Name ActKWHExcess: #REF!
Name ActKWHExcess: #REF!
Name ActKWHNotUsed: #REF!
Name ActKWHNotUsed: #REF!
Name ActKWHRes: #REF!
Name ActKWHRes: #REF!
Name ActKWHSubTot: #REF!
Name ActKWHSubTot: #REF!
Name ActKWHTot: #REF!
Name ActKWHTot: #REF!
Name ActNotUsedAmt: #REF!
Name ActNotUsedAmt: #REF!
Name ActResAmt: #REF!
Name ActResAmt: #REF!
Name ActSubTotAmt: #REF!
Name ActSubTotAmt: #REF!
Name ActTotAmt: #REF!
Name ActTotAmt: #REF!
Name AdminChg: #REF!
Name AdminChg: #REF!
Name AEP: #REF!
Name AEP: #REF!
Name APCO: #REF!
Name APCO: #REF!
Name as: #REF!
Name AVRGPWRFCTR: #REF!
Name AVRGPWRFCTR: #REF!
Name B1HRSCRMO: #REF!
Name B1HRSCRMO: #REF!
Name B2HRSCRMO: #REF!
Name B2HRSCRMO: #REF!
Name BAILEY: #REF!
Name BASERATECHG: #REF!
Name BASERATECHG: #REF!
Name BELLEVILLE: #REF!
Name BILLKWH: #REF!
Name BILLKWH: #REF!
Name BIRPCCHG: #REF!
Name BIRPCCHG: #REF!
Name BIRPDCHG1: #REF!
Name BIRPDCHG1: #REF!
Name BIRPDCHG2: #REF!
Name BIRPDCHG2: #REF!
Name BIRPECHG1: #REF!
Name BIRPECHG1: #REF!
Name BIRPECHGB1: #REF!
Name BIRPECHGB1: #REF!
Name BIRPECHGB2: #REF!
Name BIRPECHGB2: #REF!
Name BIRPECHGB3: #REF!
Name BIRPECHGB3: #REF!

Sheet Summary
B2: Baseline | G2: With Allen Station Costs
B3: AEP Zone Allocation | G3: AEP Zone Allocation
B5: NSPL | C5: MW | D5: % | G5: NSPL | H5: MW | I5: %
B6: AEP (Including CRES)* | C6: 19158.9 | D6: =C6/C8 -> 0.85845058 | G6: AEP (Including CRES) | H6: 19158.9 | I6: =H6/H8 -> 0.85845058
B7: Non-Affiliate | C7: 3159.1 | D7: =C7/C8 -> 0.14154942 | G7: Non-Affiliate | H7: 3159.1 | I7: =H7/H8 -> 0.14154942
C8: =SUM(C6:C7) -> 22318 | H8: =SUM(H6:H7) -> 22318
B10: AEP LSE Allocation | G10: AEP LSE Allocation
C12: 2026 12 CP Percent | H12: 2026 12 CP Percent
B13: 12CP | C13: MW | D13: % | G13: 12CP | H13: MW | I13: %
B14: AP - 12CP | C14: ='AEP 12CP'!B17 -> 4601.3607 | D14: =C14/$C$20 -> 0.26233637 | G14: AP - 12CP | H14: ='AEP 12CP'!B17 -> 4601.3607 | I14: =H14/$C$20 -> 0.26233637
B15: OP - 12CP | C15: ='AEP 12CP'!B18 -> 8151.8123 | D15: =C15/$C$20 -> 0.4647575 | G15: OP - 12CP | H15: ='AEP 12CP'!B18 -> 8151.8123 | I15: =H15/$C$20 -> 0.4647575
B16: IM - 12CP | C16: ='AEP 12CP'!B19 -> 2954.073 | D16: =C16/$C$20 -> 0.16841992 | G16: IM - 12CP | H16: ='AEP 12CP'!B19 -> 2954.073 | I16: =H16/$C$20 -> 0.16841992
B17: KP - 12CP | C17: ='AEP 12CP'!B20 -> 903.057 | D17: =C17/$C$20 -> 0.051485792 | G17: KP - 12CP | H17: ='AEP 12CP'!B20 -> 903.057 | I17: =H17/$C$20 -> 0.051485792
B18: WPC - 12CP | C18: ='AEP 12CP'!B21 -> 631.69425 | D18: =C18/$C$20 -> 0.036014647 | G18: WPC - 12CP | H18: ='AEP 12CP'!B21 -> 631.69425 | I18: =H18/$C$20 -> 0.036014647
B19: KGP - 12CP | C19: ='AEP 12CP'!B22 -> 297.92908 | D19: =C19/$C$20 -> 0.016985766 | G19: KGP - 12CP | H19: ='AEP 12CP'!B22 -> 297.92908 | I19: =H19/$C$20 -> 0.016985766
B20: Operating Company Sum | C20: =SUM(C14:C19) -> 17539.926 | D20: 1 | G20: Operating Company Sum | H20: =SUM(H14:H19) -> 17539.926 | I20: 1
B22: NITS Expense (2025 Actuals) | G22: NITS Expense (2025 Actuals)
B23: OpCo ATRR | C23: =+'Zonal Rates'!I46 -> 1.2527337e+09 | D23: 2025 PTRR w/ true up (TU) | G23: OpCo ATRR | H23: =C23 -> 1.2527337e+09
B24: Transco ATRR | C24: =+'TransCo PJM Zonal Rates'!I44 -> 1.6501454e+09 | D24: 2025 PTRR w/ TU | G24: Transco ATRR | H24: =C24 -> 1.6501454e+09
B25: AMPT ATRR | C25: =+'AMPT RR'!K33 -> 3021458.6 | D25: 2025 PTRR w/ TU | G25: AMPT ATRR | H25: =C25 -> 3021458.6
B26: Schedule 12 Expense (RTEP) | C26: =+'Actual RTEP Expense for 2025'!O28 -> 1.6927012e+08 | D26: 2025 with BLI 1115 Refund | G26: Schedule 12 Expense (RTEP) | H26: =C26 -> 1.6927012e+08
B27: Total Zonal ATRR | C27: =SUM(C23:C26) -> 3.0751707e+09 | G27: Total Zonal ATRR | H27: =SUM(H23:H26)+(49700000*0.1535) -> 3.0827996e+09 | K27: Injection = Capital * Net Plant Carrying Charge of 15.35%
M28: Difference
B29: Allocated to AEP % | C29: =+D6 -> 0.85845058 | G29: Allocated to AEP % | H29: =+I6 -> 0.85845058
B30: Allocated to AEP $ | C30: =C27*C29 -> 2.639882e+09 | G30: Allocated to AEP $ | H30: =H27*H29 -> 2.6464311e+09 | M30: Allocated to AEP $ | N30: =H30-C30 -> 6549076.5
B32: Allocated to Non-Affiliate | C32: =D7 -> 0.14154942 | G32: Allocated to Non-Affiliate | H32: =I7 -> 0.14154942
B33: Allocated to Non-Affiliate | C33: =C32*C27 -> 4.3528863e+08 | G33: Allocated to Non-Affiliate | H33: =H32*H27 -> 4.3636851e+08 | M33: Allocated to Non-Affiliate | N33: =H33-C33 -> 1079873.5
B35: Allocated to APCo | C35: =$C$30*D14 -> 6.9253708e+08 | G35: Allocated to APCo | H35: =$H$30*I14 -> 6.9425514e+08 | M35: Allocated to APCo | N35: =H35-C35 -> 1718061
B36: Allocated to OPCo | C36: =$C$30*D15 -> 1.226905e+09 | G36: Allocated to OPCo | H36: =$H$30*I15 -> 1.2299487e+09 | M36: Allocated to OPCo | N36: =H36-C36 -> 3043732.4
B37: Allocated to I&M | C37: =$C$30*D16 -> 4.4460872e+08 | G37: Allocated to I&M | H37: =$H$30*I16 -> 4.4571172e+08 | M37: Allocated to I&M | N37: =H37-C37 -> 1102995
B38: Allocated to KPCo | C38: =$C$30*D17 -> 1.3591642e+08 | G38: Allocated to KPCo | H38: =$H$30*I17 -> 1.362536e+08 | M38: Allocated to KPCo | N38: =H38-C38 -> 337184.39
B39: Allocated to WPCo | C39: =$C$30*D18 -> 95074419 | G39: Allocated to WPCo | H39: =$H$30*I18 -> 95310282 | M39: Allocated to WPCo | N39: =H39-C39 -> 235862.68
B40: Allocated to KGPCo | C40: =$C$30*D19 -> 44840419 | G40: Allocated to KGPCo | H40: =$H$30*I19 -> 44951660 | M40: Allocated to KGPCo | N40: =H40-C40 -> 111241.08 | O40: Check
M41: Total Change | N41: =SUM(N33:N40) -> 7628950 | O41: =(H27-C27)-N41 -> 3.3527613e-07
B42: Total Check | C42: =C30-SUM(C35:C40) -> 0 | G42: Total Check | H42: =H30-SUM(H35:H40) -> 0
B47: *CRES refers to Competitive Retail Electric Service providers. These are entities that serve retail load in service territories where retail competition exists. For Transmission Settlements purposes, CRES loads are assigned to the retail jurisdiction in which they operate.

Sheet AEP 12CP
A1: Load | B1: 2024-11-21 HE 19 | C1: 2024-12-04 HE 8 | D1: 2025-01-22 HE 8 | E1: 2025-02-20 HE 20 | F1: 2025-03-03 HE 8 | G1: 2025-04-09 HE 8 | H1: 2025-05-15 HE 19 | I1: 2025-06-24 HE 14 | J1: 2025-07-24 HE 16 | K1: 2025-08-12 HE 16 | L1: 2025-09-19 HE 17 | M1: 2025-10-06 HE 18
A2: AP - 12CP | B2: 4164.619 | C2: 5590.516 | D2: 6632.165 | E2: 5515.537 | F2: 5003.37 | G2: 4085.934 | H2: 3532.509 | I2: 4713.588 | J2: 4418.747 | K2: 4387.97 | L2: 3774.486 | M2: 3396.887
A3: OP - 12CP | B3: 6714.506 | C3: 7188.387 | D3: 8278.581 | E3: 7705.093 | F3: 7199.025 | G3: 6793.499 | H3: 7633.325 | I3: 9775.216 | J3: 9661.334 | K3: 10159.057 | L3: 8802.458 | M3: 7911.267
A4: IM - 12CP | B4: 2512.973 | C4: 2718.325 | D4: 3020.25 | E4: 2676.041 | F4: 2561.347 | G4: 2446.122 | H4: 2658.327 | I4: 3602.973 | J4: 3726.186 | K4: 3352.334 | L4: 3162.318 | M4: 3011.68
A5: KP - 12CP | B5: 810.112 | C5: 1030.081 | D5: 1319.383 | E5: 1043.194 | F5: 972.347 | G5: 862.461 | H5: 757.797 | I5: 921.483 | J5: 906.569 | K5: 859.138 | L5: 711.762 | M5: 642.357
A6: WPC - 12CP | B6: 575.121 | C6: 619.536 | D6: 637.47 | E6: 643.527 | F6: 676.054 | G6: 607.944 | H6: 615.206 | I6: 632.773 | J6: 662.49 | K6: 631.435 | L6: 663.672 | M6: 615.103
A7: KGP - 12CP | B7: 239.769 | C7: 389.873 | D7: 468.791 | E7: 337.048 | F7: 308.518 | G7: 254.848 | H7: 240.291 | I7: 298.453 | J7: 273.01 | K7: 258.088 | L7: 262.59 | M7: 243.87
A8: Sum of Loads | B8: =SUM(B2:B7) -> 15017.1 | C8: =SUM(C2:C7) -> 17536.718 | D8: =SUM(D2:D7) -> 20356.64 | E8: =SUM(E2:E7) -> 17920.44 | F8: =SUM(F2:F7) -> 16720.661 | G8: =SUM(G2:G7) -> 15050.808 | H8: =SUM(H2:H7) -> 15437.455 | I8: =SUM(I2:I7) -> 19944.486 | ... M8: =SUM(M2:M7) -> 15821.164
A15: 2026 12 CP | B15: Average | C15: 12 CP Percent
A16: Sum of Loads | B16: =SUM(B8:M8)/12 -> 17539.926
A17: AP - 12CP | B17: =AVERAGE(B2:M2) -> 4601.3607 | C17: =B17/$B$16 -> 0.26233637
A18: OP - 12CP | B18: =AVERAGE(B3:M3) -> 8151.8123 | C18: =B18/$B$16 -> 0.4647575
A19: IM - 12CP | B19: =AVERAGE(B4:M4) -> 2954.073 | C19: =B19/$B$16 -> 0.16841992
A20: KP - 12CP | B20: =AVERAGE(B5:M5) -> 903.057 | C20: =B20/$B$16 -> 0.051485792
A21: WPC - 12CP | B21: =AVERAGE(B6:M6) -> 631.69425 | C21: =B21/$B$16 -> 0.036014647
A22: KGP - 12CP | B22: =AVERAGE(B7:M7) -> 297.92908 | C22: =B22/$B$16 -> 0.016985766
A23: Operating Company Sum | B23: =SUM(B17:B22) -> 17539.926 | C23: =SUM(C17:C22) -> 1

Sheet Res Impact
F2: 12-Mos Ended August 2026 (Billed and Accrued)
B3: Tariff | C3: CPT* | D3: CPT Allocation Factor | E3: Allen Station Allocated $ | F3: Revenues | G3: kWh | H3: Customer Count | I3: Percentage Increase | J3: Monthly Increase
B4: Res | C4: 463260.37 | D4: =C4/$C$21 -> 0.49034292 | E4: =D4*$C$23 -> 165335.98 | F4: ='03,KY'!F20 -> 3.1466876e+08 | G4: ='03,KY'!G20 -> 1850260469 | H4: ='03,KY'!J20 -> 129831.33 | I4: =E4/F4 -> 0.00052542863 | J4: =(E4/G4)*1000 -> 0.089358218
B5: GS Sec | C5: 117186.86 | D5: =C5/$C$21 -> 0.12403769 | E5: =D5*$C$23 -> 41823.574 | F5: ='03,KY'!F60 -> 1.131476e+08 | G5: ='03,KY'!G60 -> 604917637 | H5: ='03,KY'!J60 -> 30820.083 | I5: =E5/F5 -> 0.00036963731 | J5: =(F5/H5/12)*I5 -> 0.11308528
B6: GS Pri | C6: 1370.0926 | D6: =C6/$C$21 -> 0.0014501893 | E6: =D6*$C$23 -> 488.98119 | F6: ='03,KY'!F61 -> 1155149.3 | G6: ='03,KY'!G61 -> 6907917 | H6: ='03,KY'!J61 -> 68.416667 | I6: =E6/F6 -> 0.00042330563 | J6: =(F6/H6/12)*I6 -> 0.59559219
B7: GS Sub | C7: 33.752927 | D7: =C7/$C$21 -> 3.5726148e-05 | E7: =D7*$C$23 -> 12.0463 | F7: ='03,KY'!F62 -> 41415.85 | G7: ='03,KY'!G62 -> 138114 | H7: ='03,KY'!J62 -> 3.8333333 | I7: =E7/F7 -> 0.00029086206 | J7: =(F7/H7/12)*I7 -> 0.26187608
B8: LGS Sec | C8: 49032.453 | D8: =C8/$C$21 -> 0.051898926 | E8: =D8*$C$23 -> 17499.508 | F8: ='03,KY'!F71 -> 44971469 | G8: ='03,KY'!G71 -> 292037957 | H8: ='03,KY'!J71 -> 359.5 | I8: =E8/F8 -> 0.00038912467 | J8: =(F8/H8/12)*I8 -> 4.056446
B9: LGS Pri | C9: 13964.202 | D9: =C9/$C$21 -> 0.014780559 | E9: =D9*$C$23 -> 4983.774 | F9: ='03,KY'!F73 -> 10829989 | G9: ='03,KY'!G73 -> 74896030 | H9: ='03,KY'!J73 -> 58.916667 | I9: =E9/F9 -> 0.00046018274 | J9: =(F9/H9/12)*I9 -> 7.0491852
B10: LGS Sub | C10: 1105.0639 | D10: =C10/$C$21 -> 0.0011696668 | E10: =D10*$C$23 -> 394.39338 | F10: ='03,KY'!F67 -> 754718.01 | G10: ='03,KY'!G67 -> 6982268 | H10: ='03,KY'!J67 -> 7 | I10: =E10/F10 -> 0.00052257052 | J10: =(F10/H10/12)*I10 -> 4.6951593
B11: LGS Tran | C11: 233.25951 | D11: =C11/$C$21 -> 0.00024689603 | E11: =D11*$C$23 -> 83.249489 | F11: ='03,KY'!F68 -> 141602.37 | G11: ='03,KY'!G68 -> 1157508 | H11: ='03,KY'!J68 -> 1 | I11: =E11/F11 -> 0.00058791028 | J11: =(F11/H11/12)*I11 -> 6.9374574
B12: PS Sec | C12: 13308.741 | D12: =C12/$C$21 -> 0.01408678 | E12: =D12*$C$23 -> 4749.8424 | F12: ='03,KY'!F74 -> 13766197 | G12: ='03,KY'!G74 -> 81165370 | H12: ='03,KY'!J75 -> 1 | I12: =E12/F12 -> 0.00034503664 | J12: =(F12/H12/12)*I12 -> 395.8202
B13: PS Pri | C13: 321.27788 | D13: =C13/$C$21 -> 0.00034006002 | E13: =D13*$C$23 -> 114.66293 | F13: ='03,KY'!F75 -> 284496.83 | G13: ='03,KY'!G75 -> 1989264 | H13: ='03,KY'!J76 -> 1.8333333 | I13: =E13/F13 -> 0.00040303764 | J13: =(F13/H13/12)*I13 -> 5.2119514
B14: IGS Sec | C14: 2945.3943 | D14: =C14/$C$21 -> 0.0031175843 | E14: =D14*$C$23 -> 1051.2008 | F14: ='03,KY'!F81 -> 2602120.9 | G14: ='03,KY'!G81 -> 22864609 | H14: ='03,KY'!J81 -> 6 | I14: =E14/F14 -> 0.00040397845 | J14: =(F14/H14/12)*I14 -> 14.60001
B15: IGS Pri | C15: 32109.965 | D15: =C15/$C$21 -> 0.033987138 | E15: =D15*$C$23 -> 11459.932 | F15: ='03,KY'!F83 -> 28234819 | G15: ='03,KY'!G83 -> 237802061 | H15: ='03,KY'!J83 -> 33.5 | I15: =E15/F15 -> 0.00040587943 | J15: =(F15/H15/12)*I15 -> 28.507294
B16: IGS Sub | C16: 214450.84 | D16: =C16/$C$21 -> 0.22698779 | E16: =D16*$C$23 -> 76536.741 | F16: ='03,KY'!F85 -> 1.2247132e+08 | G16: ='03,KY'!G85 -> 1649394645 | H16: ='03,KY'!J85 -> 16.916667 | I16: =E16/F16 -> 0.00062493605 | J16: =(F16/H16/12)*I16 -> 377.02828
B17: IGS Tran | C17: 33643.284 | D17: =C17/$C$21 -> 0.035610096 | E17: =D17*$C$23 -> 12007.168 | F17: ='03,KY'!F86 -> 19205061 | G17: ='03,KY'!G86 -> 239923189 | H17: ='03,KY'!J86 -> 3 | I17: =E17/F17 -> 0.00062520855 | J17: =(F17/H17/12)*I17 -> 333.53246
B18: MW | C18: 232.03523 | D18: =C18/$C$21 -> 0.00024560019 | E18: =D18*$C$23 -> 82.81255 | F18: ='03,KY'!F92 -> 254297.39 | G18: ='03,KY'!G92 -> 1701693 | H18: ='03,KY'!J92 -> 8 | I18: =E18/F18 -> 0.00032565238 | J18: =(F18/H18/12)*I18 -> 0.86263073
B19: OL | C19: 1258.1413 | D19: =C19/$C$21 -> 0.0013316932 | E19: =D19*$C$23 -> 449.02617 | F19: ='03,KY'!F47 -> 9871495.3 | G19: ='03,KY'!G47 -> 29840579 | H19: ='03,KY'!L47 -> 54838.5 | I19: =E19/F19 -> 4.5487148e-05 | J19: =(F19/H19/12)*I19 -> 0.0006823463
B20: SL | C20: 312.41901 | D20: =C20/$C$21 -> 0.00033068325 | E20: =D20*$C$23 -> 111.50123 | F20: ='03,KY'!F91 -> 2125961.2 | G20: ='03,KY'!G91 -> 7343784 | H20: ='03,KY'!J91 -> 53.166667 | I20: =E20/F20 -> 5.2447444e-05 | J20: =(F20/H20/12)*I20 -> 0.17476682
C21: =SUM(C4:C20) -> 944768.15 | E21: =SUM(E4:E20)-C23 -> 0 | F21: =SUM(F4:F20)-'03,KY'!F93 -> 0
B23: Allen Station Rebuild KPCo Incremental Share | C23: =Summary!N38 -> 337184.39
B24: *CPT = Coincident Peak at Transmission Level from 2025 Base rate Case

Sheet Source Info>>

Sheet Actual RTEP Expense for 2025
A1: Transmission Owner | B1: Rate Year | C1: 2025>1 | D1: 2025>2 | E1: 2025>3 | F1: 2025>4 | G1: 2025>5 | H1: 2025>6 | I1: 2025>7 | J1: 2025>8 | K1: 2025>9 | L1: 2025>10 | M1: 2025>11 | N1: 2025>12 | O1: 2025
A2: AEP East Operating Companies and AEP Transmission Companies | B2: Jan 2025 - Dec 2025 | C2: 9616012 | D2: 9616012 | E2: 9616012 | F2: 9616012 | G2: 9616012 | H2: 9616012 | I2: 9616012 | J2: 9616012 | K2: 9616012 | L2: 9616012 | M2: 9616012 | N2: 9616012 | O2: 1.1539214e+08
A3: American Transmission Systems, Inc." | B3: Jan 2025 - Dec 2025 | C3: 2649.9142 | D3: 2649.9142 | E3: 2649.9142 | F3: 2649.9142 | G3: 2649.9142 | H3: 2649.9142 | I3: 2649.9142 | J3: 2649.9142 | K3: 2649.9142 | L3: 2649.9142 | M3: 2649.9142 | N3: 2649.9142 | O3: 31798.97
A4: Atlantic Electric's Network Customers | B4: Jun 2025 - May 2026 | C4: 12858.329 | D4: 12858.329 | E4: 12858.329 | F4: 12858.329 | G4: 12858.329 | H4: 12493.804 | I4: 12493.804 | J4: 12493.804 | K4: 12493.804 | L4: 12493.804 | M4: 12493.804 | N4: 12493.804 | O4: 151748.27
A5: Baltimore Gas and Electric Company's Network Customers | B5: Jun 2025 - May 2026 | C5: 23318.304 | D5: 23318.304 | E5: 23318.304 | F5: 23318.304 | G5: 23318.304 | H5: 24168.621 | I5: 24168.621 | J5: 24168.621 | K5: 24168.621 | L5: 24168.621 | M5: 24168.621 | N5: 24168.621 | O5: 285771.87
A6: Commonwealth Edison Company's Network Customers | B6: Jun 2025 - May 2026 | C6: 113104.83 | D6: 113104.83 | E6: 113104.83 | F6: 113104.83 | G6: 113104.83 | H6: 124345.48 | I6: 124345.48 | J6: 124345.48 | K6: 124345.48 | L6: 124345.48 | M6: 124345.48 | N6: 124345.48 | O6: 1435942.5
A7: Delmarva's Network Customers | B7: Jun 2025 - May 2026 | C7: 3043.3636 | D7: 3043.3636 | E7: 3043.3636 | F7: 3043.3636 | G7: 3043.3636 | H7: 2974.1336 | I7: 2974.1336 | J7: 2974.1336 | K7: 2974.1336 | L7: 2974.1336 | M7: 2974.1336 | N7: 2974.1336 | O7: 36035.753
A8: Dominion Virginia Power's Network Customers | B8: Jan 2025 - Dec 2025 | C8: 2311405.3 | D8: 2439098 | E8: 2439098 | F8: 2439098 | G8: 2439098 | H8: 2439098 | I8: 2424483.3 | J8: 2424483.3 | K8: 2424483.3 | L8: 2424483.3 | M8: 2424483.3 | N8: 2424483.3 | O8: 29053795
A9: Mid-Atlantic Interstate Transmission, LLC" | B9: Jan 2025 - Dec 2025 | C9: 50572.185 | D9: 50572.185 | E9: 50572.185 | F9: 50572.185 | G9: 50572.185 | H9: 50572.185 | I9: 50572.185 | J9: 50572.185 | K9: 50572.185 | L9: 50572.185 | M9: 50572.185 | N9: 50572.185 | O9: 606866.22
A10: NextEra Energy Transmission MidAtlantic, Inc." | B10: Jun 2025 - May 2026 | C10: 0 | D10: 0 | E10: 0 | F10: 0 | G10: 0 | H10: 56414.263 | I10: 56414.263 | J10: 56414.263 | K10: 56414.263 | L10: 56414.263 | M10: 56414.263 | N10: 56414.263 | O10: 394899.84
A11: Northern Indiana Public Service Company (NIPSCO) in Midcontinent Independent System Operator, Inc. (MISO)" | B11: Jan 2025 - Dec 2025 | C11: 31082.591 | D11: 31082.591 | E11: 30305.978 | F11: 31082.591 | G11: 31082.591 | H11: 31082.591 | I11: 31082.591 | J11: 31082.591 | K11: 31082.591 | L11: 31082.591 | M11: 32453.403 | N11: 22494.263 | O11: 364996.97
A12: PECO Energy Company | B12: Jun 2025 - May 2026 | C12: 42066.903 | D12: 42066.903 | E12: 42066.903 | F12: 42066.903 | G12: 42066.903 | H12: 42968.458 | I12: 42968.458 | J12: 42968.458 | K12: 42968.458 | L12: 42968.458 | M12: 42968.458 | N12: 42968.458 | O12: 511113.72
A13: PEPCO's Network Customers | B13: Jun 2025 - May 2026 | C13: 3430.5052 | D13: 3430.5052 | E13: 3430.5052 | F13: 3430.5052 | G13: 3430.5052 | H13: 4327.2571 | I13: 4327.2571 | J13: 4327.2571 | K13: 4327.2571 | L13: 4327.2571 | M13: 4327.2571 | N13: 4327.2571 | O13: 47443.326
... A15: PSE&G's Network Customers | B15: Jan 2025 - Dec 2025 | C15: 780145.08 | D15: 780145.08 | E15: 780145.08 | F15: 780145.08 | G15: 780145.08 | H15: 780145.08 | I15: 780145.08 | J15: 780145.08 | K15: 780145.08 | L15: 780145.08 | M15: 780145.08 | N15: 780145.08 | O15: 9361740.9
A16: South FirstEnergy Operating Companies | B16: Jan 2025 - Dec 2025 | C16: 49533.618 | D16: 49533.618 | E16: 49533.618 | F16: 49533.618 | G16: 49533.618 | H16: 49533.618 | I16: 49533.618 | J16: 49533.618 | K16: 49533.618 | L16: 49533.618 | M16: =17839.06-1143211.36 -> -1125372.3 | N16: 17839.058 | O16: -612197.06
A17: Trans-Allegheny Interstate Line Company (TrAILCo) | B17: Jun 2025 - May 2026 | C17: 913358.24 | D17: 913358.24 | E17: 913358.24 | F17: 913358.24 | G17: 913358.24 | H17: 788559.9 | I17: 788559.9 | J17: 788559.9 | K17: 788559.9 | L17: 788559.9 | M17: 788559.9 | N17: 788559.9 | O17: 10086711
A18: Transmission Owners in Midcontinent Independent System Operator, Inc. (MISO)" | B18: Jun 2025 - May 2026 | C18: 3519.8438 | D18: 3519.8438 | E18: 3467.276 | F18: 3519.8438 | G18: 3519.8438 | H18: 2689.6889 | I18: 2689.6889 | J18: 2689.6889 | K18: 2689.6889 | L18: 2689.6889 | M18: 2689.6889 | N18: 2689.6889 | O18: 36374.474
A19: Transource Maryland, LLC" | B19: Jan 2025 - Dec 2025 | C19: 10620.743 | D19: 10620.743 | E19: 10620.743 | F19: 10620.743 | G19: 10620.743 | H19: 10620.743 | I19: 10620.743 | J19: 10620.743 | K19: 10620.743 | L19: 10620.743 | M19: 10620.743 | N19: 10620.743 | O19: 127448.91
A20: Transource Pennsylvania, LLC" | B20: Jan 2025 - Dec 2025 | C20: 70584.349 | D20: 70584.349 | E20: 70584.349 | F20: 70584.349 | G20: 70584.349 | H20: 70584.349 | I20: 70584.349 | J20: 70584.349 | K20: 70584.349 | L20: 70584.349 | M20: 70584.349 | N20: 70584.349 | O20: 847012.19
A21: Transource West Virginia, LLC" | B21: Jan 2025 - Dec 2025 | C21: 778911.78 | D21: 778911.78 | E21: 778911.78 | F21: 778911.78 | G21: 778911.78 | H21: 778911.78 | I21: 778911.78 | J21: 778911.78 | K21: 778911.78 | L21: 778911.78 | M21: 778911.78 | N21: 778911.78 | O21: 9346941.4
A22: Total TE Expense to AEP Zone (Excludes BLI 1115 Credit) | C22: =SUM(C2:C21) -> 15218091 | D22: =SUM(D2:D21) -> 15345784 | E22: =SUM(E2:E21) -> 15344954 | F22: =SUM(F2:F21) -> 15345784 | G22: =SUM(G2:G21) -> 15345784 | H22: =SUM(H2:H21) -> 15290025 | I22: =SUM(I2:I21) -> 15275410 | J22: =SUM(J2:J21) -> 15275410 | ... O22: =SUM(O2:O21) -> 1.8232906e+08
A24: AEP Zone Expense from AEP Affiliates | C24: 10476129 | D24: 10476129 | E24: 10476129 | F24: 10476129 | G24: 10476129 | H24: 10476129 | I24: 10476129 | J24: 10476129 | K24: 10476129 | L24: 10476129 | M24: 10476129 | N24: 10476129 | O24: =SUM(C24:N24) -> 1.2571355e+08
A25: AEP Zone Expense from Non-Affiliates | C25: 4741962.1 | D25: 4869654.8 | E25: 4868825.6 | F25: 4869654.8 | G25: 4869654.8 | H25: 4813896.1 | I25: 4799281.4 | J25: 4799281.4 | K25: 4799281.4 | L25: 4799281.4 | M25: 3625746.3 | N25: 4758998.5 | O25: =SUM(C25:N25) -> 56615518
A26: Billing Line Item 1115 Credit | C26: -1097741.9 | D26: -1097741.9 | E26: -1097741.9 | F26: -1097741.9 | G26: -1097741.9 | H26: -1097741.9 | I26: -1097741.9 | J26: -1097741.9 | K26: -1097741.9 | L26: -1097741.9 | M26: -1097741.9 | N26: -1097741.9 | O26: =SUM(C26:N26) -> -13172903
A27: Prior Period Adjustments | I27: -87688.265 | M27: 7925.5913 | N27: 193719.15 | O27: =SUM(C27:N27) -> 113956.48
A28: Total TE Expense to AEP Zone (Includes BLI 1115 Credit) | C28: =SUM(C24:C27) -> 14120349 | D28: =SUM(D24:D27) -> 14248042 | E28: =SUM(E24:E27) -> 14247213 | F28: =SUM(F24:F27) -> 14248042 | G28: =SUM(G24:G27) -> 14248042 | H28: =SUM(H24:H27) -> 14192283 | I28: =SUM(I24:I27) -> 14089980 | J28: =SUM(J24:J27) -> 14177668 | ... O28: =SUM(O24:O27) -> 1.6927012e+08
A30: AEP Zone NSPL (MW) | O30: 22318
A31: RTEP Rate w/o BLI 1115 Credit & Other Adjs ($/MW-Year) | O31: =+O22/O30 -> 8169.5969
A32: RTEP Rate w/ BLI 1115 Credit & Other Adjs ($/MW-Year) | O32: =+O28/O30 -> 7584.4663

Sheet Zonal Rates
V1: 2025
A3: AEP EAST Companies Transmission Formula Rate Revenue Requirement
A4: Forecasted Costs Through December 31, 2025
A5: ="For rates effective January 1, 2025" -> For rates effective January 1, 2025
A8: AEP Zone Transmission Service Revenue Requirement
I10: AEP Annual | K10: APCo Annual | M10: I&M Annual | O10: KPCo Annual | Q10: KNG Annual | S10: OPCo Annual | U10: WPCo Annual
B11: Line | I11: Revenue | K11: Revenue | M11: Revenue | O11: Revenue | Q11: Revenue | S11: Revenue | U11: Revenue
B12: No. | I12: Requirement | K12: Requirement | M12: Requirement | O12: Requirement | Q12: Requirement | S12: Requirement | U12: Requirement
A14: A. | B14: Network Service
B15: 1 | D15: REVENUE REQUIREMENT (w/o incentives) | G15: (TCOS Ln 1 ) | I15: =SUM(K15,M15,O15,Q15,S15,U15) -> 1.4109173e+09 | K15: 5.5956577e+08 | M15: 2.2250665e+08 | O15: 1.075217e+08 | Q15: 7766130.9 | S15: 4.9750578e+08 | U15: 16051301
B17: =+B15+1 -> 2 | D17: LESS: REVENUE CREDITS | G17: (TCOS Ln 2 ) | I17: =SUM(K17,M17,O17,Q17,S17,U17) -> 43836734 | K17: 11605028 | M17: 8288694.3 | O17: 514669.89 | Q17: 291874.18 | S17: 19212762 | U17: 3923705.5
B19: =+B17+1 -> 3 | D19: CURRENT YEAR ZONE 1 AEP NETWORK SERVICE REVENUE REQUIREMENT | G19: (TCOS Ln 3 ) | I19: =SUM(K19,M19,O19,Q19,S19,U19) -> 1.3670806e+09 | K19: =+K15-K17 -> 5.4796075e+08 | M19: =+M15-M17 -> 2.1421796e+08 | O19: =+O15-O17 -> 1.0700703e+08 | Q19: =+Q15-Q17 -> 7474256.7 | S19: =+S15-S17 -> 4.7829302e+08 | U19: =+U15-U17 -> 12127596
B21: =+B19+1 -> 4 | D21: LESS: REVENUE REQUIREMENTS INCLUDED IN LINE 1 FOR:
B22: =+B21+1 -> 5 | D22: RTEP UPGRADES (W/O INCENTIVES) | G22: (TCOS Ln 5) | I22: =SUM(K22,M22,O22,Q22,S22,U22) -> 43924197 | K22: 27589930 | M22: 7354071.2 | O22: 0 | Q22: 0 | S22: 8871135.4 | U22: 109059.88
B23: =+B22+1 -> 6 | D23: OTHER ZONAL UPGRADES (W/O INCENTIVES) | G23: ="(Worksheet J)" -> (Worksheet J) | I23: =SUM(K23,M23,O23,Q23,S23,U23) -> 0 | K23: 0 | M23: 0 | O23: 0 | Q23: 0 | S23: 0 | U23: 0
B24: =+B23+1 -> 7 | D24: SUBTOTAL | I24: =+I23+I22 -> 43924197 | K24: =+K23+K22 -> 27589930 | M24: =+M23+M22 -> 7354071.2 | O24: =+O23+O22 -> 0 | Q24: =+Q23+Q22 -> 0 | S24: =+S23+S22 -> 8871135.4 | U24: =+U23+U22 -> 109059.88
B26: =+B24+1 -> 8 | D26: EXISTING ZONAL ATRR (W/O INCENTIVES) | G26: ="(Ln "&B19&"- Ln "&B24&")" -> (Ln 3- Ln 7) | I26: =SUM(K26,M26,O26,Q26,S26,U26) -> 1.3231564e+09 | K26: =+K19-K24 -> 5.2037082e+08 | M26: =+M19-M24 -> 2.0686389e+08 | O26: =+O19-O24 -> 1.0700703e+08 | Q26: =+Q19-Q24 -> 7474256.7 | S26: =+S19-S24 -> 4.6942189e+08 | U26: =+U19-U24 -> 12018536
B28: =+B26+1 -> 9 | D28: INCENTIVE REVENUE REQUIREMENT FOR ZONAL PROJECTS | G28: ="(Worksheet J)" -> (Worksheet J) | I28: =SUM(K28,M28,O28,Q28,S28,U28) -> 0 | K28: 0 | M28: 0 | O28: 0 | Q28: 0 | S28: 0 | U28: 0
B30: =+B28+1 -> 10 | D30: EXISTING ZONAL ATRR (W/ INCENTIVES) | G30: ="(Ln "&B26&" + Ln "&B28&")" -> (Ln 8 + Ln 9) | I30: =+I26+I28 -> 1.3231564e+09 | K30: =+K26+K28 -> 5.2037082e+08 | M30: =+M26+M28 -> 2.0686389e+08 | O30: =+O26+O28 -> 1.0700703e+08 | Q30: =+Q26+Q28 -> 7474256.7 | S30: =+S26+S28 -> 4.6942189e+08 | U30: =+U26+U28 -> 12018536
B32: =+B30+1 -> 11 | D32: ="BILLED HISTORICAL YEAR ("&V1-1&") ACTUAL ATRR" -> BILLED HISTORICAL YEAR (2024) ACTUAL ATRR | G32: ="Input from "&V1-1&" True-up" -> Input from 2024 True-up | I32: =SUM(K32,M32,O32,Q32,S32,U32) -> 0 | K32: 0 | M32: 0 | O32: 0 | Q32: 0 | S32: 0 | U32: 0
B33: =+B32+1 -> 12 | D33: ="BILLED PROJECTED ("&V1-1&") ATRR FROM PRIOR YEAR" -> BILLED PROJECTED (2024) ATRR FROM PRIOR YEAR | G33: Input from Prior Year | I33: =SUM(K33,M33,O33,Q33,S33,U33) -> 0 | K33: 0 | M33: 0 | O33: 0 | Q33: 0 | S33: 0 | U33: 0
B34: =+B30+1 -> 11 | D34: PRIOR YEAR TRUE-UP (2023 including interest) | G34: (Worksheet Q) | I34: =SUM(K34,M34,O34,Q34,S34,U34) -> -67367136 | K34: -43160629 | M34: -6261113.2 | O34: 2258560.3 | Q34: 83945.76 | S34: -21035326 | U34: 747426.96
B36: 11a | D36: Facility Credits under PJM OATT Section 30.9 | G36: (TCOS Ln 3) | I36: =SUM(K36,M36,O36,Q36,S36,U36) -> 10058192 | M36: 343910.31 | S36: 9714282
B38: 11b | D38: Adjusments from prior Annual Updates (2021 NOL Refund) | I38: =SUM(K38,M38,O38,Q38,S38,U38) -> -11134182 | K38: -3425660.9 | M38: -5697234 | O38: -1674521 | Q38: -323569.65 | S38: 0 | U38: -13196.837
B40: 11c | D40: Adjusments from prior Annual Updates (2019-2022 Rate Relief Refund) | I40: =SUM(K40,M40,O40,Q40,S40,U40) -> -526259.44 | K40: -158937.23 | M40: -108227.19 | O40: -29570.204 | Q40: -5407.1363 | S40: -216218.82 | U40: -7898.8604
B42: 11d | D42: Adjusments from prior Annual Updates (project b2777 update) | I42: =SUM(K42,M42,O42,Q42,S42,U42) -> -1059603.9 | M42: -1059603.9
B44: 11e | D44: Adjusments from 2023 ATRR - customer challenge | I44: =SUM(K44,M44,O44,Q44,S44,U44) -> -393739.89 | K44: -40649.35 | M44: -10083.5 | O44: -153.5214 | Q44: -10.315753 | S44: -342820.18 | U44: -23.027724
B46: =+B34+1 -> 12 | D46: EXISTING ZONAL PTRR FOR PJM OATT | G46: ="(Ln "&B30&" + Ln "&B34&")" -> (Ln 10 + Ln 11) | I46: =+I30+I34+I36+I38+I40+I42+I44 -> 1.2527337e+09 | K46: =+K30+K34+K36+K38+K40+K42+K44 -> 4.7358494e+08 | M46: =+M30+M34+M36+M38+M40+M42+M44 -> 1.9407154e+08 | O46: =+O30+O34+O36+O38+O40+O42+O44 -> 1.0756134e+08 | Q46: =+Q30+Q34+Q36+Q38+Q40+Q42+Q44 -> 7229215.4 | S46: =+S30+S34+S36+S38+S40+S42+S44 -> 4.575418e+08 | U46: =+U30+U34+U36+U38+U40+U42+U44 -> 12744844
A48: B. | B48: Point-to-Point Service
B49: =+B46+1 -> 13 | D49: =""&V1&" AEP East Zone Network Service Peak Load (1 CP)" -> 2025 AEP East Zone Network Service Peak Load (1 CP) | I49: 22318 | J49: MW
B51: =+B49+1 -> 14 | D51: ="Annual Point-to-Point Rate in $/MW - Year" -> Annual Point-to-Point Rate in $/MW - Year | G51: ="(Ln "&B46&" / Ln "&B49&")" -> (Ln 12 / Ln 13) | I51: =ROUND(+I46/I49,4) -> 56131.091
B52: =+B51+1 -> 15 | D52: ="Monthly Point-to-Point Rate in $/MW - Month" -> Monthly Point-to-Point Rate in $/MW - Month | G52: ="(Ln "&B51&" / 12)" -> (Ln 14 / 12) | I52: =ROUND(+I$51/12,4) -> 4677.5909
B53: =+B52+1 -> 16 | D53: ="Weekly Point-to-Point Rate in $/MW - Weekly" -> Weekly Point-to-Point Rate in $/MW - Weekly | G53: ="(Ln "&B51&" / 52)" -> (Ln 14 / 52) | I53: =ROUND(+I51/52,4) -> 1079.4441
B54: =+B53+1 -> 17 | D54: ="Daily On-Peak Point-to-Point Rate in $/MW - Day" -> Daily On-Peak Point-to-Point Rate in $/MW - Day | G54: ="(Ln "&B51&" / 260)" -> (Ln 14 / 260) | I54: =ROUND(+I51/260,4) -> 215.8888
B55: =+B54+1 -> 18 | D55: ="Daily Off-Peak Point-to-Point Rate in $/MW - Day" -> Daily Off-Peak Point-to-Point Rate in $/MW - Day | G55: ="(Ln "&B51&" / 365)" -> (Ln 14 / 365) | I55: =ROUND(+I51/365,4) -> 153.7838
B56: =+B55+1 -> 19 | D56: ="Hourly On-Peak Point-to-Point Rate in $/MW - Hour" -> Hourly On-Peak Point-to-Point Rate in $/MW - Hour | G56: ="(Ln "&B51&" / 4160)" -> (Ln 14 / 4160) | I56: =ROUND(+I51/4160,4) -> 13.4931
B57: =+B56+1 -> 20 | D57: ="Hourly Off-Peak Point-to-Point Rate in $/MW - Hour" -> Hourly Off-Peak Point-to-Point Rate in $/MW - Hour | G57: ="(Ln "&B51&" / 8760)" -> (Ln 14 / 8760) | I57: =ROUND(+I51/8760,4) -> 6.4077
A59: C. | B59: PJM Regional Service
B60: =+B57+1 -> 21 | D60: ="RTEP UPGRADE ATRR W/O INCENTIVES" -> RTEP UPGRADE ATRR W/O INCENTIVES | G60: ="(Ln "&B24&")" -> (Ln 7) | I60: =SUM(K60,M60,O60,Q60,S60,U60) -> 43924197 | K60: =K24 -> 27589930 | M60: =M24 -> 7354071.2 | O60: =O24 -> 0 | Q60: =Q24 -> 0 | S60: =S24 -> 8871135.4 | U60: =U24 -> 109059.88
B61: =+B60+1 -> 22 | D61: ADDITIONAL ATRR FOR FERC-APPROVED INCENTIVES ON RTEP | G61: ="(Worksheet J)" -> (Worksheet J) | I61: =SUM(K61,M61,O61,Q61,S61,U61) -> 0 | K61: 0 | M61: 0 | O61: 0 | Q61: 0 | S61: 0 | U61: 0
...

Sheet TransCo PJM Zonal Rates
A3: AEPTCo subsidiaries in PJM - Transmission Formula Rate Revenue Requirement
A4: ="Forecasted Costs through December 31, 2025" -> Forecasted Costs through December 31, 2025
A5: ="For rates effective January 1, 2025" -> For rates effective January 1, 2025
A8: Revenue Requirements for Network and Point-to-Point Transmission Service
I10: AEPTCo subsidiaries in PJM | K10: APPALACHIAN TRANSMISSION COMPANY | M10: INDIANA MICHIGAN TRANSMISSION COMPANY | O10: KENTUCKY TRANSMISSION COMPANY | Q10: OHIO TRANSMISSION COMPANY | S10: WEST VIRGINIA TRANSMISSION COMPANY
B11: Line | I11: Annual Revenue | K11: Annual Revenue | M11: Annual Revenue | O11: Annual Revenue | Q11: Annual Revenue | S11: Annual Revenue
B12: No. | I12: Requirement | K12: Requirement | M12: Requirement | O12: Requirement | Q12: Requirement | S12: Requirement
A14: A. | B14: Network Service
B15: 1 | D15: REVENUE REQUIREMENT (w/o incentives) | G15: (TCOS Ln 1 ) | I15: =SUM(Q15,K15,S15,O15,M15,) -> 1.9086353e+09 | K15: 20966885 | M15: 5.2592457e+08 | O15: 21219121 | Q15: 9.8446275e+08 | S15: 3.5606193e+08
B17: =+B15+1 -> 2 | D17: LESS: REVENUE CREDITS | G17: (TCOS Ln 2 ) | I17: =SUM(Q17,K17,S17,O17,M17,) -> 18718494 | K17: 0 | M17: 1596307 | O17: 408708.38 | Q17: 10525048 | S17: 6188430.7
B19: =+B17+1 -> 3 | D19: CURRENT YEAR AEPTCo ANNUAL TRANSMISSION REVENUE REQUIREMENT (PTRR) | G19: (TCOS Ln 3 ) | I19: =SUM(Q19,K19,S19,O19,M19,) -> 1.8899168e+09 | K19: =+K15-K17 -> 20966885 | M19: =+M15-M17 -> 5.2432826e+08 | O19: =+O15-O17 -> 20810413 | Q19: =+Q15-Q17 -> 9.7393771e+08 | S19: =+S15-S17 -> 3.498735e+08
B21: =+B19+1 -> 4 | D21: LESS: REVENUE REQUIREMENTS INCLUDED IN LINE 1 FOR:
B22: =+B21+1 -> 5 | D22: RTEP UPGRADES ATRR (W/O INCENTIVES) | G22: (TCOS Ln 5) | I22: =SUM(Q22,K22,S22,O22,M22,) -> 1.4391253e+08 | K22: 0 | M22: 49191628 | O22: 4764985.5 | Q22: 40603282 | S22: 49352636
B23: =+B22+1 -> 6 | D23: OTHER UPGRADES ATRR (W/O INCENTIVES) | G23: ="(Worksheet J)" -> (Worksheet J) | I23: =SUM(Q23,K23,S23,O23,M23,) -> 0 | K23: 0 | M23: 0 | O23: 0 | Q23: 0 | S23: 0
B24: =+B23+1 -> 7 | D24: SUBTOTAL | I24: =+I23+I22 -> 1.4391253e+08 | K24: =+K23+K22 -> 0 | M24: =+M23+M22 -> 49191628 | O24: =+O23+O22 -> 4764985.5 | Q24: =+Q23+Q22 -> 40603282 | S24: =+S23+S22 -> 49352636
B26: =+B24+1 -> 8 | D26: EXISTING AEPTCo ZONAL PTRR (W/O INCENTIVES) | G26: ="(Ln "&B19&"- Ln "&B24&")" -> (Ln 3- Ln 7) | I26: =SUM(Q26,K26,S26,O26,M26,) -> 1.7460042e+09 | K26: =+K19-K24 -> 20966885 | M26: =+M19-M24 -> 4.7513663e+08 | O26: =+O19-O24 -> 16045428 | Q26: =+Q19-Q24 -> 9.3333442e+08 | S26: =+S19-S24 -> 3.0052086e+08
B28: =+B26+1 -> 9 | D28: INCREMENTAL APPROVED INCENTIVE PTRR | G28: ="(Worksheet J)" -> (Worksheet J) | I28: =SUM(Q28,K28,S28,O28,M28,) -> 0 | K28: 0 | M28: 0 | O28: 0 | Q28: 0 | S28: 0
B30: =+B28+1 -> 10 | D30: EXISTING AEPTCo ZONAL PTRR (W/ INCENTIVES) | G30: ="(Ln "&B26&" + Ln "&B28&")" -> (Ln 8 + Ln 9) | I30: =+I26+I28 -> 1.7460042e+09 | K30: =+K26+K28 -> 20966885 | M30: =+M26+M28 -> 4.7513663e+08 | O30: =+O26+O28 -> 16045428 | Q30: =+Q26+Q28 -> 9.3333442e+08 | S30: =+S26+S28 -> 3.0052086e+08
B32: =+B30+1 -> 11 | D32: PRIOR YEAR TRUE-UP (2022 INCLUDING INTEREST) | G32: (Worksheet R) | I32: =SUM(Q32,K32,S32,O32,M32,) -> -46493250 | K32: -1871324.7 | M32: -425438.05 | O32: 683570.87 | Q32: -30427003 | S32: -14453055
B34: 11a | D34: Facility Credits under PJM OATT Section 30.9 | G34: (TCOS Ln 3) | I34: =SUM(Q34,K34,S34,O34,M34,) -> 7798149 | Q34: 7798149
B36: 11b | D36: Adjusments from prior Annual Updates (2021 NOL Refund) | I36: =SUM(Q36,K36,S36,O36,M36,) -> -53135175 | K36: -200015.62 | M36: -17693310 | O36: -920445.03 | Q36: -25876968 | S36: -8444436.5
B38: 11c | D38: Adjusments from prior Annual Updates (2019-2022 Rate Refund) | I38: =SUM(Q38,K38,S38,O38,M38,) -> -432366.97 | K38: -4607.3526 | M38: -147119.07 | O38: -7715.2064 | Q38: -217330.36 | S38: -55594.982
B40: 11d | D40: Adjusments from prior Annual Updates (project b2777 update) | I40: =SUM(Q40,K40,S40,O40,M40,) -> -3585336.6 | M40: -3585336.6
B42: 11e | D42: Adjusments from 2023 ATRR - customer challenge | I42: =SUM(Q42,K42,S42,O42,M42,) -> -10833.315 | K42: -100.85135 | M42: -3337.2933 | O42: -163.05165 | Q42: -5064.4006 | S42: -2167.7182
B44: =B32+1 -> 12 | D44: EXISTING AEPTCo PTRR FOR AEP ZONE OF PJM OATT | G44: ="(Ln "&B30&" + Ln "&B32&" )" -> (Ln 10 + Ln 11 ) | I44: =+I30+I32+I34+I36+I38+I40+I42 -> 1.6501454e+09 | K44: =+K30+K32+K34+K36+K38+K40+K42 -> 18890837 | M44: =+M30+M32+M34+M36+M38+M40+M42 -> 4.5328209e+08 | O44: =+O30+O32+O34+O36+O38+O40+O42 -> 15800675 | Q44: =+Q30+Q32+Q34+Q36+Q38+Q40+Q42 -> 8.8460621e+08 | S44: =+S30+S32+S34+S36+S38+S40+S42 -> 2.7756561e+08
A46: B. | B46: Point-to-Point Service
B47: =+B44+1 -> 13 | D47: =""&X1&" AEP East Zone Network Service Peak Load (1 CP)" -> AEP East Zone Network Service Peak Load (1 CP) | I47: 22318 | J47: MW
B48: =+B47+1 -> 14 | D48: ="Annual Point-to-Point Rate in $/MW - Year" -> Annual Point-to-Point Rate in $/MW - Year | G48: ="(Ln "&B44&" / Ln "&B47&")" -> (Ln 12 / Ln 13) | I48: =ROUND(+I44/I47,4) -> 73937.872
B49: =+B48+1 -> 15 | D49: ="Monthly Point-to-Point Rate in $/MW - Month" -> Monthly Point-to-Point Rate in $/MW - Month | G49: ="(Ln "&$B$48&" / 12)" -> (Ln 14 / 12) | I49: =ROUND(+I$48/12,4) -> 6161.4893
B50: =+B49+1 -> 16 | D50: ="Weekly Point-to-Point Rate in $/MW - Weekly" -> Weekly Point-to-Point Rate in $/MW - Weekly | G50: ="(Ln "&$B$48&" / 52)" -> (Ln 14 / 52) | I50: =ROUND(+I48/52,4) -> 1421.8821
B51: =+B50+1 -> 17 | D51: ="Daily On-Peak Point-to-Point Rate in $/MW - Day" -> Daily On-Peak Point-to-Point Rate in $/MW - Day | G51: ="(Ln "&$B$48&" / 260)" -> (Ln 14 / 260) | I51: =ROUND(+I48/260,4) -> 284.3764
B52: =+B51+1 -> 18 | D52: ="Daily Off-Peak Point-to-Point Rate in $/MW - Day" -> Daily Off-Peak Point-to-Point Rate in $/MW - Day | G52: ="(Ln "&$B$48&" / 365)" -> (Ln 14 / 365) | I52: =ROUND(+I48/365,4) -> 202.5695
B53: =+B52+1 -> 19 | D53: ="Hourly On-Peak Point-to-Point Rate in $/MW - Hour" -> Hourly On-Peak Point-to-Point Rate in $/MW - Hour | G53: ="(Ln "&$B$48&" / 4160)" -> (Ln 14 / 4160) | I53: =ROUND(+I48/4160,4) -> 17.7735
B54: =+B53+1 -> 20 | D54: ="Hourly Off-Peak Point-to-Point Rate in $/MW - Hour" -> Hourly Off-Peak Point-to-Point Rate in $/MW - Hour | G54: ="(Ln "&$B$48&" / 8760)" -> (Ln 14 / 8760) | I54: =ROUND(+I48/8760,4) -> 8.4404
A56: C. | B56: PJM Regional Service
B57: =+B54+1 -> 21 | D57: ="RTEP UPGRADE PTRR W/O INCENTIVES" -> RTEP UPGRADE PTRR W/O INCENTIVES | G57: ="(Ln "&B24&")" -> (Ln 7) | I57: =SUM(Q57,K57,S57,O57,M57,) -> 1.4391253e+08 | K57: =+K22 -> 0 | M57: =+M22 -> 49191628 | O57: =+O22 -> 4764985.5 | Q57: =+Q22 -> 40603282 | S57: =+S22 -> 49352636
B58: =+B57+1 -> 22 | D58: ADDITIONAL ATRR FOR FERC-APPROVED INCENTIVES ON RTEP | G58: ="(Worksheet J)" -> (Worksheet J) | I58: =SUM(Q58,K58,S58,O58,M58,) -> 0 | K58: 0 | M58: 0 | O58: 0 | Q58: 0 | S58: 0
B59: =+B58+1 -> 23 | D59: TRUE-UP ADJUSTMENT INCLUDING INTEREST | G59: (Worksheet R) | I59: =SUM(Q59,K59,S59,O59,M59,) -> -5637712.4 | K59: 0 | M59: -3719283.6 | O59: 49629.289 | Q59: -1277548.5 | S59: -690509.46
B60: =+B59+1 -> 24 | D60: 2021 NOL REFUND INCLUDING INTEREST | I60: =SUM(Q60,K60,S60,O60,M60,) -> -7905725.1 | K60: 0 | M60: -2624192 | O60: -345326.72 | Q60: -1754846.3 | S60: -3181360.1
B61: =+B60+1 -> 25 | D61: RATE RELIEF REFUNDS 2019-2022 INCLUDING INTEREST | I61: =SUM(Q61,K61,S61,O61,M61,) -> -56007.733 | K61: 0 | M61: -21068.704 | O61: -2828.1802 | Q61: -15604.691 | S61: -16506.159
...

Sheet AMPT RR
A1: =RIGHT(CELL("filename",D2),LEN(CELL("filename",D2))-FIND("]",CELL("filename",D2))) -> AMPT RR | K1: Page 1 of 18
A2: AMP Transmission LLC
A3: Calculation of Transmission Revenue Requirements
C4: AEP Transmission Zone | K4: Attachment H-32A
C5: Cash-Flow Model
A6: Year Ended 12/31/2025
A7: Projected
K8: =A7 -> Projected
K9: AEP-Area
A10: Line | D10: (Note A) | K10: Qualifying
A11: No. | C11: Cost of Service Item | D11: Page, Line, Col. | E11: Notes | F11: Company Total | I11: Allocator | K11: Transmission
A12: (a) | C12: (b) | D12: (c) | E12: (d) | F12: (e) | H12: (f) | K12: (g)
K14: (e) x (f)
K15: Allocated
K16: Amount
A17: 1 | C17: GROSS REVENUE REQUIREMENT (line 54) | K17: =K73 -> 2770699.2
A18: =A17+1 -> 2
A19: =A18+1 -> 3
A20: =A19+1 -> 4 | C20: REVENUE CREDITS | D20: (Note C) | F20: Total | H20: Allocator
A21: =A20+1 -> 5 | C21: Account No. 454 | D21: WP02 | F21: 0 | H21: TP | I21: =$K$91 -> 0.10420573 | K21: =+I21*F21 -> 0
A22: =A21+1 -> 6 | C22: Account No. 456 | D22: WP02 | F22: 0 | H22: =+H21 -> TP | I22: =$K$91 -> 0.10420573 | K22: =+I22*F22 -> 0
A23: =A22+1 -> 7 | C23: Revenue Credits Specific to zone | D23: WP02 | F23: 0 | H23: D/A | I23: 1 | K23: =+I23*F23 -> 0
A24: =A23+1 -> 8 | C24: Reserved | F24: 0 | H24: TP | I24: =$K$91 -> 0.10420573 | K24: =+I24*F24 -> 0
A25: =A24+1 -> 9 | C25: Transmission Enhancement Credit | D25: WP07 | F25: 0 | H25: TP | I25: =$K$91 -> 0.10420573 | K25: =+I25*F25 -> 0
A26: =A25+1 -> 10 | C26: TOTAL REVENUE CREDITS (sum lines 5-9) | K26: =SUM(K21:K25) -> 0
A27: =A26+1 -> 11
A28: =A27+1 -> 12 | C28: TRUE-UP ADJUSTMENT WITH INTEREST (Protocols) | D28: (Note D) WP05 | K28: 250759.4
A29: =A28+1 -> 13
A30: =A29+1 -> 14 | C30: Adjustments to Net Revenue Requirement (Note G) | K30: 0
A31: =A30+1 -> 15 | C31: Interest on Adjustments (Note H) | K31: 0
A32: =A31+1 -> 16 | C32: Total Adjustment (line 14 + line 15) | K32: =K30+K31 -> 0
A33: =A32+1 -> 17 | C33: NET REVENUE REQUIREMENTS | K33: =K17-K26+K28+K32 -> 3021458.6
A34: 17a | C34: DIVISOR
A35: 17b | C35: 1 Coincident Peak (CP) (MW) - AEP | K35: 22332.5 | L35: MW
A36: 17c | C36: Annual Network Rate ($/MW/Yr) (Line 17 / Line 17b) | K36: =K33/K35 -> 135.29424 | L36: /MW/Yr
A37: =A33+1 -> 18
A38: =A37+1 -> 19 | C38: O&M/A&G, DEBT SERVICE & OTHER TAXES
A39: =A38+1 -> 20
A40: =A39+1 -> 21 | C40: Transmission O&M allocable to zone | D40: 321.112.b and WP09 | E40: WP09 | F40: 2144208.2 | H40: TP | I40: =$K$91 -> 0.10420573 | K40: =+(I40*F40) -> 223438.79
A41: =A40+1 -> 22 | C41: Transmission O&M Specific to zone (Note M) | D41: AEP | E41: WP09 | F41: 266102.09 | H41: D/A | I41: 1 | K41: =+(I41*F41) -> 266102.09
...

Sheet 03,KY
E1: American Electric Power | I1: TARIFF SUMMARY REVENUE - ALL REVENUE CLASSES
E2: KENTUCKY POWER COMPANY | I2: 12 MONTHS BILLED AND ACCRUED - MCSR0162 - FINAL | L2: Prepared: | M2: 09/09/2026 01:01:32 AM
L3: Go To TOC
A4: State : | B4: KY | M4: August 2026
M5: Realization
A6: Tariff | D6: Revenue | E6: Fuel Clause | F6: Revenue Excl Fuel Clause | G6: Metered KWH | H6: Off Pk KWH | I6: Billing Demand | J6: # Of Cust Incl | K6: # Of Cust Excl | L6: # Of Lamps | M6: Incl Fuel | N6: Excl Fuel | O6: Facility Charge
A7: 11 | C7: RSW-LMWH | D7: 385115.71 | E7: 19980.93 | F7: 365134.78 | G7: 2373312 | H7: 0 | I7: 0 | J7: 142.5 | K7: 0 | L7: 0 | M7: 16.226931 | N7: 15.385031 | O7: 0
A8: 12 | C8: RSW-A | D8: 30560.7 | E8: 1616.58 | F8: 28944.12 | G8: 195425 | H8: 0 | I8: 0 | J8: 10 | K8: 0 | L8: 0 | M8: 15.638071 | N8: 14.810858 | O8: 0
A9: 13 | C9: RSW-B | D9: 2769.72 | E9: 139.13 | F9: 2630.59 | G9: 17465 | H9: 0 | I9: 0 | J9: 1 | K9: 0 | L9: 0 | M9: 15.858689 | N9: 15.062067 | O9: 0
A10: 14 | C10: RSW-C | D10: 31411.58 | E10: 1669.36 | F10: 29742.22 | G10: 200355 | H10: 0 | I10: 0 | J10: 12.333333 | K10: 0 | L10: 0 | M10: 15.677962 | N10: 14.844761 | O10: 0
A11: 15 | C11: RS | D11: 1.5971087e+08 | E11: 7366657.6 | F11: 1.5234421e+08 | G11: 887102833 | H11: 36700 | I11: 11240.6 | J11: 66210.333 | K11: 0 | L11: 0 | M11: 18.003648 | N11: 17.17323 | O11: 0
A12: 17 | C12: RS EMP | D12: 665156.23 | E12: 31697.57 | F12: 633458.66 | G12: 3822890 | H12: 0 | I12: 0 | J12: 219.33333 | K12: 0 | L12: 0 | M12: 17.399303 | N12: 16.570151 | O12: 0
A13: 18 | C13: RS-DEMAND | D13: 23.41 | E13: 0 | F13: 23.41 | G13: 0 | H13: 0 | I13: 0 | J13: 0.083333333 | K13: 0 | L13: 0 | M13: 0 | N13: 0 | O13: 0
A14: 22 | C14: RS-RS | D14: 1.6888733e+08 | E14: 8094022.9 | F14: 1.6079331e+08 | G14: 953624411 | H14: 39655 | I14: 19211.8 | J14: 63089.417 | K14: 0 | L14: 0 | M14: 17.710047 | N14: 16.861283 | O14: 0
A15: 28 | C15: AORH-W ON | D15: 18885.75 | E15: 927.91 | F15: 17957.84 | G15: 114556 | H15: 69103 | I15: 0 | J15: 6 | K15: 0 | L15: 0 | M15: 16.486042 | N15: 15.676036 | O15: 0
A16: 30 | C16: RSW-ONPK | D16: 221738.03 | E16: 11499.11 | F16: 210238.92 | G16: 1315624 | H16: 789463 | I16: 0 | J16: 60.666667 | K16: 0 | L16: 0 | M16: 16.85421 | N16: 15.980168 | O16: 0
A17: 32 | C17: RS LM-ON | D17: 217704.78 | E17: 10621.02 | F17: 207083.76 | G17: 1267748 | H17: 760729 | I17: 0 | J17: 69 | K17: 0 | L17: 0 | M17: 17.17256 | N17: 16.334773 | O17: 0
A18: 34 | C18: AORH-ON | D18: 2400.9 | E18: 125.63 | F18: 2275.27 | G18: 14804 | H18: 8695 | I18: 0 | J18: 2 | K18: 0 | L18: 0 | M18: 16.217914 | N18: 15.369292 | O18: 0
A19: 36 | C19: RS-TOD-ON | D19: 35548.05 | E19: 1794.86 | F19: 33753.19 | G19: 211046 | H19: 124552 | I19: 0 | J19: 8.6666667 | K19: 0 | L19: 0 | M19: 16.843745 | N19: 15.993286 | O19: 0
A20: Residential | F20: =SUM(F7:F19) -> 3.1466876e+08 | G20: =SUM(G7:G19) -> 1850260469 | J20: =SUM(J7:J19) -> 129831.33
A21: 93 | C21: OL 175 MV | D21: 66247.69 | E21: 2078.46 | F21: 64169.23 | G21: 254501 | H21: 0 | I21: 0 | J21: 0 | K21: 278.16667 | L21: 296.16667 | M21: 26.030424 | N21: 25.213744 | O21: 0
A22: 94 | C22: OL 100 HP | D22: 1499479.2 | E22: 36126.42 | F22: 1463352.8 | G22: 4419656 | H22: 0 | I22: 0 | J22: 0 | K22: 8691.3333 | L22: 9247.0833 | M22: 33.927509 | N22: 33.110106 | O22: 26084.21
A23: 95 | C23: OL 400 MV | D23: 22968.43 | E23: 849.81 | F23: 22118.62 | G23: 104877 | H23: 0 | I23: 0 | J23: 0 | K23: 40.333333 | L23: 55.333333 | M23: 21.90035 | N23: 21.090058 | O23: 0
A24: 97 | C24: OL 200 HP | D24: 297993.74 | E24: 9671.84 | F24: 288321.9 | G24: 1176293 | H24: 0 | I24: 0 | J24: 0 | K24: 895.83333 | L24: 1169.1667 | M24: 25.333292 | N24: 24.511061 | O24: 8917.22
A25: 98 | C25: OL 400 HP | D25: 86270.65 | E25: 3260.02 | F25: 83010.63 | G25: 399791 | H25: 0 | I25: 0 | J25: 0 | K25: 80.416667 | L25: 200.33333 | M25: 21.578937 | N25: 20.763506 | O25: 3533.78
A26: 99 | C26: OL175 MVP | D26: 1306.73 | E26: 35.38 | F26: 1271.35 | G26: 4304 | H26: 0 | I26: 0 | J26: 0 | K26: 3 | L26: 5 | M26: 30.360827 | N26: 29.538801 | O26: 0
A27: 103 | C27: OL 250 HP | D27: 696.85 | E27: 17.66 | F27: 679.19 | G27: 2659 | H27: 0 | I27: 0 | J27: 0 | K27: 1.5 | L27: 2.1666667 | M27: 26.207221 | N27: 25.543061 | O27: 0
A28: 107 | C28: OL 200HPF | D28: 370012.91 | E28: 10584.69 | F28: 359428.22 | G28: 1292067 | H28: 0 | I28: 0 | J28: 0 | K28: 924.08333 | L28: 1282.5 | M28: 28.637285 | N28: 27.818079 | O28: 10828.63
A29: 109 | C29: OL400 HPF | D29: 1286826.4 | E29: 46924.9 | F29: 1239901.5 | G29: 5721379 | H29: 0 | I29: 0 | J29: 0 | K29: 1287.9167 | L29: 2880.9167 | M29: 22.491543 | N29: 21.671375 | O29: 31723.09
A30: 110 | C30: OL 250 MH | D30: 31076.06 | E30: 843.52 | F30: 30232.54 | G30: 102409 | H30: 0 | I30: 0 | J30: 0 | K30: 47.833333 | L30: 84.833333 | M30: 30.345048 | N30: 29.52137 | O30: 1814.16
A31: 111 | C31: OL100 HPP | D31: 177220.36 | E31: 2355.14 | F31: 174865.22 | G31: 286619 | H31: 0 | I31: 0 | J31: 0 | K31: 177.75 | L31: 604.83333 | M31: 61.831337 | N31: 61.00964 | O31: 1342.01
A32: 113 | C32: OL 150 HP | D32: 1605926.4 | E32: 45398.77 | F32: 1560527.6 | G32: 5564748 | H32: 0 | I32: 0 | J32: 0 | K32: 7276.5833 | L32: 8009.4167 | M32: 28.858924 | N32: 28.043096 | O32: 66482.45
... A46: 166 | C46: 297WLEDOL | D46: 172688.29 | E46: 3540.2 | F46: 169148.09 | G46: 424267 | H46: 0 | I46: 0 | J46: 0 | K46: 110 | L46: 294.83333 | M46: 40.702739 | N46: 39.868312 | O46: 3815.1
A47: OL | F47: =SUM(F21:F46) -> 9871495.3 | G47: =SUM(G21:G46) -> 29840579 | J47: =SUM(J21:J46) -> 0 | K47: =SUM(K21:K46) -> 45773.833 | L47: =SUM(L21:L46) -> 54838.5
A48: 204 | C48: GS-MTRD | D48: 174957.78 | E48: 5386.07 | F48: 169571.71 | G48: 604326 | H48: 0 | I48: 0 | J48: 331.83333 | K48: 0 | L48: 0 | M48: 28.950894 | N48: 28.059642 | O48: 0
A49: 211 | C49: GS SEC | D49: 91940114 | E49: 3897937.2 | F49: 88042177 | G49: 463607390 | H49: 169869 | I49: 1478585.9 | J49: 27286.333 | K49: 0 | L49: 0 | M49: 19.83146 | N49: 18.990676 | O49: 0
A50: 213 | C50: GS-UMR | D50: 534043.04 | E50: 17000.93 | F50: 517042.11 | G50: 2066977 | H50: 0 | I50: 0 | J50: 568.58333 | K50: 0 | L50: 0 | M50: 25.836913 | N50: 25.01441 | O50: 0
A51: 214 | C51: GS - AF | D51: 283140.48 | E51: 13070.92 | F51: 270069.56 | G51: 1404978 | H51: 269 | I51: 29432.2 | J51: 89.5 | K51: 0 | L51: 0 | M51: 20.152663 | N51: 19.222334 | O51: 0
A52: 215 | C52: GS SEC | D52: 22248908 | E52: 1013330.8 | F52: 21235577 | G52: 120578157 | H52: 0 | I52: 484160.7 | J52: 1843.9167 | K52: 0 | L52: 0 | M52: 18.451856 | N52: 17.611463 | O52: 0
A53: 217 | C53: GS PRI | D53: 637507.22 | E53: 30506.79 | F53: 607000.43 | G53: 3546521 | H53: 0 | I53: 14869.3 | J53: 29.083333 | K53: 0 | L53: 0 | M53: 17.975566 | N53: 17.115377 | O53: 0
...
