Workbook

Sheet Upgrades
D2: =data!B2 -> AEP
D3: Run Date: 6/12/2025
A5: TOID | B5: Revised TOID | C5: Upgrade ID | D5: Description | E5: Driver | F5: Deactivation Study | G5: PJM Required In Service Date | H5: Revised PJM In Service Date | I5: TO Projected In Service Date | J5: Revised TO Projected In Service Date | K5: Actual In Service Date | L5: Status Code | M5: Revised Status Code | N5: % Comp | O5: Revised % Comp | P5: Cost Est (Millions) | Q5: Revised Cost Est (Millions) | R5: TEAC Cost (Millions) | S5: TEAC Date | T5: TO Project Manager | U5: TO Project Manager | V5: e Dart Ticket No | W5: ImpactsTie | Y5: TO Notes
A6: =IF(data!C2="","",data!C2) -> P15082C28 | C6: =IF(data!D2="","",data!D2) -> b2597 | D6: =IF(data!E2="","",data!E2) -> Rebuild approximately 1 mi. section of Dragoon-Virgil Street 34.5 kV line between Dragoon and Dodge Tap switch and replace Dodge switch MOAB to increase thermal capability of Dragoon-Dodge Tap branch | E6: =IF(data!F2="","",data!F2) -> TO Criteria Violation | F6: =IF(data!G2="","",data!G2) | G6: =IF(data!H2="","",data!H2) -> 43617 | H6: =IF(data!I2="","",data!I2) | I6: =IF(data!J2="","",data!J2) -> 46374 | J6: 46458 | L6: =IF(data!L2="","",data!L2) -> EP | N6: =IF(data!M2="","",IF(data!M2>=1,data!M2,data!M2*100)) -> 50 | P6: =IF(data!N2="","",data!N2) -> 2.15 | R6: =IF(data!O2="","",data!O2) -> 2.154 | S6: =IF(data!P2="","",data!P2) -> 42011 | T6: =IF(data!Q2="","",data!Q2) -> Pm Cliff Vaughn/ Planner Joshua Smith | W6: =IF(data!S2="","",data!S2) -> FALSE
A7: =IF(data!C3="","",data!C3) -> P15082C10, P15082C05, P15082C07 | C7: =IF(data!D3="","",data!D3) -> b2598 | D7: =IF(data!E3="","",data!E3) -> Rebuild approximately 1 mile section of the Kline-Virgil Street 34.5 kV line between Kline and Virgil Street tap. Replace MOAB switches at Beiger, risers at Kline, switches and bus at Virgil Street. | E7: =IF(data!F3="","",data!F3) -> TO Criteria Violation | F7: =IF(data!G3="","",data!G3) | G7: =IF(data!H3="","",data!H3) -> 43617 | H7: =IF(data!I3="","",data!I3) | I7: =IF(data!J3="","",data!J3) -> 46220 | L7: =IF(data!L3="","",data!L3) -> EP | N7: =IF(data!M3="","",IF(data!M3>=1,data!M3,data!M3*100)) -> 50 | P7: =IF(data!N3="","",data!N3) -> 1.69 | R7: =IF(data!O3="","",data!O3) -> 1.689 | S7: =IF(data!P3="","",data!P3) -> 42011 | T7: =IF(data!Q3="","",data!Q3) -> Pm Cliff Vaughn/ Planner Joshua Smith | W7: =IF(data!S3="","",data!S3) -> FALSE
A8: =IF(data!C4="","",data!C4) -> P15095006 | C8: =IF(data!D4="","",data!D4) -> b2604.1 | D8: =IF(data!E4="","",data!E4) -> Remove approximately 11.32 miles of the 69 kV line between Millbrook Park and Franklin Furnace. | E8: =IF(data!F4="","",data!F4) -> TO Criteria Violation | F8: =IF(data!G4="","",data!G4) | G8: =IF(data!H4="","",data!H4) -> 43617 | H8: =IF(data!I4="","",data!I4) | I8: =IF(data!J4="","",data!J4) -> 46700 | L8: =IF(data!L4="","",data!L4) -> EP | N8: =IF(data!M4="","",IF(data!M4>=1,data!M4,data!M4*100)) -> 50 | P8: =IF(data!N4="","",data!N4) -> 1.13 | R8: =IF(data!O4="","",data!O4) -> 1.13 | S8: =IF(data!P4="","",data!P4) -> 44244 | T8: =IF(data!Q4="","",data!Q4) -> PM Oliver Duncan/Planner Christian Mitchell-Flores | W8: =IF(data!S4="","",data!S4) -> FALSE
A9: =IF(data!C5="","",data!C5) -> P15095017 | C9: =IF(data!D5="","",data!D5) -> b2604.2 | D9: =IF(data!E5="","",data!E5) -> At Millbrook Park station, add a new 138/69 kV transformer #2 (90 MVA) with 3000 A 40 kA breakers on the high and low side. Replace the 600 A MOAB Switch and add a 3000 A circuit switcher on the high side of transformer #1. | E9: =IF(data!F5="","",data!F5) -> TO Criteria Violation | F9: =IF(data!G5="","",data!G5) | G9: =IF(data!H5="","",data!H5) -> 43617 | H9: =IF(data!I5="","",data!I5) | I9: 46881 | L9: =IF(data!L5="","",data!L5) -> EP | N9: =IF(data!M5="","",IF(data!M5>=1,data!M5,data!M5*100)) -> 0 | O9: 50 | P9: =IF(data!N5="","",data!N5) -> 3.05 | R9: =IF(data!O5="","",data!O5) -> 3.05 | S9: =IF(data!P5="","",data!P5) -> 44244 | T9: =IF(data!Q5="","",data!Q5) -> PM Oliver Duncan/Planner Christian Mitchell-Flores | W9: =IF(data!S5="","",data!S5) -> FALSE
A10: =IF(data!C6="","",data!C6) -> P15095020 | C10: =IF(data!D6="","",data!D6) -> b2604.3 | D10: =IF(data!E6="","",data!E6) -> Replace Sciotoville 69 kV station with a new 138/12 kV in-out station (Cottrell) with 2000A line MOABs facing Millbrook Park and East Wheelersburg 138 kV. | E10: =IF(data!F6="","",data!F6) -> TO Criteria Violation | F10: =IF(data!G6="","",data!G6) | G10: =IF(data!H6="","",data!H6) -> 43617 | H10: =IF(data!I6="","",data!I6) | I10: =IF(data!J6="","",data!J6) -> 46667 | L10: =IF(data!L6="","",data!L6) -> EP | N10: =IF(data!M6="","",IF(data!M6>=1,data!M6,data!M6*100)) -> 0 | O10: 75 | P10: =IF(data!N6="","",data!N6) -> 1.4 | R10: =IF(data!O6="","",data!O6) -> 1.4 | S10: =IF(data!P6="","",data!P6) -> 44244 | T10: =IF(data!Q6="","",data!Q6) -> PM Oliver Duncan/Planner Christian Mitchell-Flores | W10: =IF(data!S6="","",data!S6) -> FALSE
A11: =IF(data!C7="","",data!C7) -> P15095022 | C11: =IF(data!D7="","",data!D7) -> b2604.4 | D11: =IF(data!E7="","",data!E7) -> Tie Cottrell switch into the Millbrook Park-East Wheelersburg 138 kV circuit by constructing 0.50 miles of line using 795 ACSR 26/7 Drake (SE 359 MVA). | E11: =IF(data!F7="","",data!F7) -> TO Criteria Violation | F11: =IF(data!G7="","",data!G7) | G11: =IF(data!H7="","",data!H7) -> 43617 | H11: =IF(data!I7="","",data!I7) | I11: =IF(data!J7="","",data!J7) -> 46667 | L11: =IF(data!L7="","",data!L7) -> EP | N11: =IF(data!M7="","",IF(data!M7>=1,data!M7,data!M7*100)) -> 0 | O11: 75 | P11: =IF(data!N7="","",data!N7) -> 1.96 | R11: =IF(data!O7="","",data!O7) -> 1.96 | S11: =IF(data!P7="","",data!P7) -> 44244 | T11: =IF(data!Q7="","",data!Q7) -> PM Oliver Duncan/Planner Christian Mitchell-Flores | W11: =IF(data!S7="","",data!S7) -> FALSE
A12: =IF(data!C8="","",data!C8) -> P15095028 | C12: =IF(data!D8="","",data!D8) -> b2604.5 | D12: =IF(data!E8="","",data!E8) -> Install a new 2000 A 3-way POP Switch outside of Texas Eastern 138 kV substation (Sadiq Switch). | E12: =IF(data!F8="","",data!F8) -> TO Criteria Violation | F12: =IF(data!G8="","",data!G8) | G12: =IF(data!H8="","",data!H8) -> 43617 | H12: =IF(data!I8="","",data!I8) | I12: =IF(data!J8="","",data!J8) -> 46687 | L12: =IF(data!L8="","",data!L8) -> EP | N12: =IF(data!M8="","",IF(data!M8>=1,data!M8,data!M8*100)) -> 0 | O12: 50 | P12: =IF(data!N8="","",data!N8) -> 1.08 | R12: =IF(data!O8="","",data!O8) -> 1.08 | S12: =IF(data!P8="","",data!P8) -> 44244 | T12: =IF(data!Q8="","",data!Q8) -> PM Oliver Duncan/Planner Christian Mitchell-Flores | W12: =IF(data!S8="","",data!S8) -> FALSE
A13: =IF(data!C9="","",data!C9) -> P15095027 | C13: =IF(data!D9="","",data!D9) -> b2604.6 | D13: =IF(data!E9="","",data!E9) -> Replace the Wheelersburg 69 kV station with a new 138/12 kV in-out station (Sweetgum) with a 3000 A 40 kA breaker facing Sadiq Switch and a 2000 A 138 kV MOAB facing Althea. | E13: =IF(data!F9="","",data!F9) -> TO Criteria Violation | F13: =IF(data!G9="","",data!G9) | G13: =IF(data!H9="","",data!H9) -> 43617 | H13: =IF(data!I9="","",data!I9) | I13: =IF(data!J9="","",data!J9) -> 46730 | L13: =IF(data!L9="","",data!L9) -> EP | N13: =IF(data!M9="","",IF(data!M9>=1,data!M9,data!M9*100)) -> 0 | O13: 50 | P13: =IF(data!N9="","",data!N9) -> 2.16 | R13: =IF(data!O9="","",data!O9) -> 2.16 | S13: =IF(data!P9="","",data!P9) -> 44244 | T13: =IF(data!Q9="","",data!Q9) -> PM Oliver Duncan/Planner Christian Mitchell-Flores | W13: =IF(data!S9="","",data!S9) -> FALSE
A14: =IF(data!C10="","",data!C10) -> P15095032 | C14: =IF(data!D10="","",data!D10) -> b2604.7 | D14: =IF(data!E10="","",data!E10) -> Build approximately 1.4 miles of new 138 kV line using 795 ACSR 26/7 Drake (SE 359 MVA) between the new Sadiq Switch and the new Sweetgum 138 kV stations. | E14: =IF(data!F10="","",data!F10) -> TO Criteria Violation | F14: =IF(data!G10="","",data!G10) | G14: =IF(data!H10="","",data!H10) -> 43617 | H14: =IF(data!I10="","",data!I10) | I14: =IF(data!J10="","",data!J10) -> 46728 | L14: =IF(data!L10="","",data!L10) -> EP | N14: =IF(data!M10="","",IF(data!M10>=1,data!M10,data!M10*100)) -> 0 | O14: 50 | P14: =IF(data!N10="","",data!N10) -> 3.41 | R14: =IF(data!O10="","",data!O10) -> 3.41 | S14: =IF(data!P10="","",data!P10) -> 44244 | T14: =IF(data!Q10="","",data!Q10) -> PM Oliver Duncan/Planner Christian Mitchell-Flores | W14: =IF(data!S10="","",data!S10) -> FALSE
A15: =IF(data!C11="","",data!C11) -> P15095007 | C15: =IF(data!D11="","",data!D11) -> b2604.8 | D15: =IF(data!E11="","",data!E11) -> Remove the existing 69 kV Hayport Road Switch. | E15: =IF(data!F11="","",data!F11) -> TO Criteria Violation | F15: =IF(data!G11="","",data!G11) | G15: =IF(data!H11="","",data!H11) -> 43617 | H15: =IF(data!I11="","",data!I11) | I15: =IF(data!J11="","",data!J11) -> 46700 | L15: =IF(data!L11="","",data!L11) -> EP | N15: =IF(data!M11="","",IF(data!M11>=1,data!M11,data!M11*100)) -> 0 | O15: 50 | P15: =IF(data!N11="","",data!N11) -> 0.1 | R15: =IF(data!O11="","",data!O11) -> 0.1 | S15: =IF(data!P11="","",data!P11) -> 44244 | T15: =IF(data!Q11="","",data!Q11) -> PM Oliver Duncan/Planner Christian Mitchell-Flores | W15: =IF(data!S11="","",data!S11) -> FALSE
A16: =IF(data!C12="","",data!C12) -> P15095015 | C16: =IF(data!D12="","",data!D12) -> b2604.9 | D16: =IF(data!E12="","",data!E12) -> Rebuild approximately 2.3 miles along existing ROW from Sweetgum to the Hayport Rd switch 69 kV location as 138 kV single circuit and rebuild approximately 2.0 miles from the Hayport Road switch to Althea 69 kV with double circuit 138 kV construction, one side operated at 69 kV to continue service to K.O. Wheelersburg, using 795 ACSR 26/7 Drake (SE 359 MVA). | E16: =IF(data!F12="","",data!F12) -> TO Criteria Violation | F16: =IF(data!G12="","",data!G12) | G16: =IF(data!H12="","",data!H12) -> 43617 | H16: =IF(data!I12="","",data!I12) | I16: =IF(data!J12="","",data!J12) -> 46700 | J16: 46906 | L16: =IF(data!L12="","",data!L12) -> EP | N16: =IF(data!M12="","",IF(data!M12>=1,data!M12,data!M12*100)) -> 0 | O16: 50 | P16: =IF(data!N12="","",data!N12) -> 10.76 | R16: =IF(data!O12="","",data!O12) -> 10.76 | S16: =IF(data!P12="","",data!P12) -> 44244 | T16: =IF(data!Q12="","",data!Q12) -> PM Oliver Duncan/Planner Christian Mitchell-Flores | W16: =IF(data!S12="","",data!S12) -> FALSE
A17: =IF(data!C13="","",data!C13) -> P15095015 | C17: =IF(data!D13="","",data!D13) -> b2604.10 | D17: =IF(data!E13="","",data!E13) -> Build a new station (Althea) with a 138/69 kV, 90 MVA transformer. The 138 kV side will have a single 2000 A 40 kA circuit breaker and the 69 kV side will be a 2000 A 40 kA three breaker ring bus. | E17: =IF(data!F13="","",data!F13) -> TO Criteria Violation | F17: =IF(data!G13="","",data!G13) | G17: =IF(data!H13="","",data!H13) -> 43617 | H17: =IF(data!I13="","",data!I13) | I17: =IF(data!J13="","",data!J13) -> 46700 | J17: 46906 | L17: =IF(data!L13="","",data!L13) -> EP | N17: =IF(data!M13="","",IF(data!M13>=1,data!M13,data!M13*100)) -> 0 | O17: 50 | P17: =IF(data!N13="","",data!N13) -> 11.07 | R17: =IF(data!O13="","",data!O13) -> 11.07 | S17: =IF(data!P13="","",data!P13) -> 44244 | T17: =IF(data!Q13="","",data!Q13) -> PM Oliver Duncan/Planner Christian Mitchell-Flores | W17: =IF(data!S13="","",data!S13) -> FALSE
A18: =IF(data!C14="","",data!C14) -> P15095060 | C18: =IF(data!D14="","",data!D14) -> b2604.11 | D18: =IF(data!E14="","",data!E14) -> Remote end work at Hanging Rock, East Wheelersburg and North Haverhill 138 kV. | E18: =IF(data!F14="","",data!F14) -> TO Criteria Violation | F18: =IF(data!G14="","",data!G14) | G18: =IF(data!H14="","",data!H14) -> 43617 | H18: =IF(data!I14="","",data!I14) | I18: =IF(data!J14="","",data!J14) -> 46700 | J18: 46906 | L18: =IF(data!L14="","",data!L14) -> EP | N18: =IF(data!M14="","",IF(data!M14>=1,data!M14,data!M14*100)) -> 0 | O18: 50 | P18: =IF(data!N14="","",data!N14) -> 0.06 | R18: =IF(data!O14="","",data!O14) -> 0.06 | S18: =IF(data!P14="","",data!P14) -> 44244 | T18: =IF(data!Q14="","",data!Q14) -> PM Oliver Duncan/Planner Christian Mitchell-Flores | W18: =IF(data!S14="","",data!S14) -> FALSE
A19: =IF(data!C15="","",data!C15) -> P16108002 | C19: =IF(data!D15="","",data!D15) -> b2753.7 | D19: =IF(data!E15="","",data!E15) -> Retire line sections (Dilles Bottom - Bellaire and Moundsville - Dilles Bottom 69 kV lines) south of First Energy 138 kV line corridor, near “Point A”. Tie George Washington - Moundsville 69 kV circuit to George Washington - West Bellaire 69 kV circuit. | E19: =IF(data!F15="","",data!F15) -> Baseline Load Growth Deliverability & Reliability | F19: =IF(data!G15="","",data!G15) | G19: =IF(data!H15="","",data!H15) -> 43982 | H19: =IF(data!I15="","",data!I15) | I19: =IF(data!J15="","",data!J15) -> 46671 | L19: =IF(data!L15="","",data!L15) -> EP | N19: =IF(data!M15="","",IF(data!M15>=1,data!M15,data!M15*100)) -> 50 | P19: =IF(data!N15="","",data!N15) -> 5.52 | R19: =IF(data!O15="","",data!O15) -> 5.52 | S19: =IF(data!P15="","",data!P15) -> 42937 | T19: =IF(data!Q15="","",data!Q15) -> PM Jon Starr/ Planner Christian Mitchell-Flores | W19: =IF(data!S15="","",data!S15) -> TRUE
A20: =IF(data!C16="","",data!C16) -> P24071001 | C20: =IF(data!D16="","",data!D16) -> b2760 | D20: =IF(data!E16="","",data!E16) -> Perform a Sag Study of the Saltville - Tazewell 138 kV line to increase the thermal rating of the line | E20: =IF(data!F16="","",data!F16) -> Baseline Load Growth Deliverability & Reliability | F20: =IF(data!G16="","",data!G16) | G20: =IF(data!H16="","",data!H16) -> 44348 | H20: =IF(data!I16="","",data!I16) | I20: =IF(data!J16="","",data!J16) -> 45717 | L20: =IF(data!L16="","",data!L16) -> EP | N20: =IF(data!M16="","",IF(data!M16>=1,data!M16,data!M16*100)) -> 5 | P20: =IF(data!N16="","",data!N16) -> 0.1 | R20: =IF(data!O16="","",data!O16) -> 0.1 | S20: =IF(data!P16="","",data!P16) -> 42649 | T20: =IF(data!Q16="","",data!Q16) -> PM Blair Burns / Bobby Valerio | W20: =IF(data!S16="","",data!S16) -> FALSE
A21: =IF(data!C17="","",data!C17) -> P21009002 | C21: =IF(data!D17="","",data!D17) -> b2793 | D21: =IF(data!E17="","",data!E17) -> Energize the spare Fremont Center 138/69 kV 130 MVA transformer #3. Reduces overloaded facilities to 46% loading. | E21: =IF(data!F17="","",data!F17) -> TO Criteria Violation | F21: =IF(data!G17="","",data!G17) | G21: =IF(data!H17="","",data!H17) -> 44348 | H21: =IF(data!I17="","",data!I17) | I21: =IF(data!J17="","",data!J17) -> 46370 | L21: =IF(data!L17="","",data!L17) -> UC | N21: =IF(data!M17="","",IF(data!M17>=1,data!M17,data!M17*100)) -> 26 | P21: =IF(data!N17="","",data!N17) -> 1.3 | R21: =IF(data!O17="","",data!O17) -> 0.081 | S21: =IF(data!P17="","",data!P17) -> 42886 | T21: =IF(data!Q17="","",data!Q17) -> PM Colton Caldwell/Brendan Fuller | W21: =IF(data!S17="","",data!S17) -> FALSE
A22: =IF(data!C18="","",data!C18) -> P19004001 | C22: =IF(data!D18="","",data!D18) -> b2938 | D22: =IF(data!E18="","",data!E18) -> Perform a sag mitigations on the Broadford – Wolf Hills 138kV circuit to allow the line to operate to a higher maximum temperature. | E22: =IF(data!F18="","",data!F18) -> Generator Deactivation | F22: =IF(data!G18="","",data!G18) -> BEAVER VALLEY 1|BEAVER VALLEY 2|DAVIS BESSE 1|PERRY 1 | G22: =IF(data!H18="","",data!H18) -> 44713 | H22: =IF(data!I18="","",data!I18) -> 44348 | I22: =IF(data!J18="","",data!J18) -> 46931 | L22: =IF(data!L18="","",data!L18) -> EP | N22: =IF(data!M18="","",IF(data!M18>=1,data!M18,data!M18*100)) -> 15 | P22: =IF(data!N18="","",data!N18) -> 2.6 | R22: =IF(data!O18="","",data!O18) -> 2.6 | S22: =IF(data!P18="","",data!P18) -> 43258 | T22: =IF(data!Q18="","",data!Q18) -> PM Blair Burns Planner Robert Vaalerio | W22: =IF(data!S18="","",data!S18) -> FALSE
A23: =IF(data!C19="","",data!C19) -> P19269001 | C23: =IF(data!D19="","",data!D19) -> b3037 | D23: =IF(data!E19="","",data!E19) -> Upgrades at the Natrium substation | E23: =IF(data!F19="","",data!F19) -> Baseline Load Growth Deliverability & Reliability | F23: =IF(data!G19="","",data!G19) | G23: =IF(data!H19="","",data!H19) -> 45078 | H23: =IF(data!I19="","",data!I19) | I23: =IF(data!J19="","",data!J19) -> 45810 | L23: =IF(data!L19="","",data!L19) -> EP | N23: =IF(data!M19="","",IF(data!M19>=1,data!M19,data!M19*100)) -> 15 | P23: =IF(data!N19="","",data!N19) -> 1.1 | R23: =IF(data!O19="","",data!O19) -> 1.1 | S23: =IF(data!P19="","",data!P19) -> 43371 | T23: =IF(data!Q19="","",data!Q19) -> PM Wayne Cooper/Planner Christian Mitchell-Flores | W23: =IF(data!S19="","",data!S19) -> FALSE
A24: =IF(data!C20="","",data!C20) -> P21036002 | C24: =IF(data!D20="","",data!D20) -> b3085 | D24: =IF(data!E20="","",data!E20) -> Reconductor Kammer - George Washington 138 kV line (~0.08 miles). Replace the wave trap at Kammer 138 kV. | E24: =IF(data!F20="","",data!F20) -> Generator Deactivation | F24: =IF(data!G20="","",data!G20) -> MANSFIELD 1|MANSFIELD 2|MANSFIELD 3|SAMMIS DIESEL|SAMMIS 6|SAMMIS 7|SAMMIS 5|KIMBERLY CLARK|EASTLAKE 6 | G24: =IF(data!H20="","",data!H20) -> 44713 | H24: =IF(data!I20="","",data!I20) -> 44713 | I24: =IF(data!J20="","",data!J20) -> 45810 | L24: =IF(data!L20="","",data!L20) -> UC | N24: =IF(data!M20="","",IF(data!M20>=1,data!M20,data!M20*100)) -> 75 | P24: =IF(data!N20="","",data!N20) -> 0.5 | R24: =IF(data!O20="","",data!O20) -> 0.5 | S24: =IF(data!P20="","",data!P20) -> 44019 | T24: =IF(data!Q20="","",data!Q20) -> PM Andrew Garlick/Planner Christian Mitchell-Flores | W24: =IF(data!S20="","",data!S20) -> FALSE
A25: =IF(data!C21="","",data!C21) -> P19052004 | C25: =IF(data!D21="","",data!D21) -> b3150 | D25: =IF(data!E21="","",data!E21) -> Rebuild Ferguson 69/12 kV station in the clear as the 138/12 kV Bear station and connect it to a ~1 mile double circuit 138 kV extension from the Aviation – Ellison Rd 138 kV line to remove the load from the 69 kV line. | E25: =IF(data!F21="","",data!F21) -> TO Criteria Violation | F25: =IF(data!G21="","",data!G21) | G25: =IF(data!H21="","",data!H21) -> 45444 | H25: =IF(data!I21="","",data!I21) | I25: =IF(data!J21="","",data!J21) -> 46736 | L25: =IF(data!L21="","",data!L21) -> EP | N25: =IF(data!M21="","",IF(data!M21>=1,data!M21,data!M21*100)) -> 25 | P25: =IF(data!N21="","",data!N21) -> 6.4 | R25: =IF(data!O21="","",data!O21) -> 6.4 | S25: =IF(data!P21="","",data!P21) -> 43817 | T25: =IF(data!Q21="","",data!Q21) -> PM Katherine Vecchiarelli/Planner Valerie Watros | W25: =IF(data!S21="","",data!S21) -> FALSE
A26: =IF(data!C22="","",data!C22) -> P16024021 | C26: =IF(data!D22="","",data!D22) -> b3151.7 | D26: =IF(data!E22="","",data!E22) -> Install a 69 kV Bobay switch at Woodland Station. | E26: =IF(data!F22="","",data!F22) -> TO Criteria Violation | F26: =IF(data!G22="","",data!G22) | G26: =IF(data!H22="","",data!H22) -> 45444 | H26: =IF(data!I22="","",data!I22) | I26: =IF(data!J22="","",data!J22) -> 45918 | L26: =IF(data!L22="","",data!L22) -> UC | N26: =IF(data!M22="","",IF(data!M22>=1,data!M22,data!M22*100)) -> 75 | P26: =IF(data!N22="","",data!N22) -> 0.6 | R26: =IF(data!O22="","",data!O22) -> 0.6 | S26: =IF(data!P22="","",data!P22) -> 43817 | T26: =IF(data!Q22="","",data!Q22) -> PM Katherine Vecchiarelli/Planner Valerie Watros | W26: =IF(data!S22="","",data!S22) -> FALSE
A27: =IF(data!C23="","",data!C23) -> p16024029 | C27: =IF(data!D23="","",data!D23) -> b3151.8 | D27: =IF(data!E23="","",data!E23) -> Replace Carroll and Churubusco 34.5 kV stations with the 69 kV Snapper station. Snapper will have two (2) line circuit breakers, one (1) bus tie circuit breaker and a 14.4 MVAR cap bank | E27: =IF(data!F23="","",data!F23) -> TO Criteria Violation | F27: =IF(data!G23="","",data!G23) | G27: =IF(data!H23="","",data!H23) -> 45444 | H27: =IF(data!I23="","",data!I23) | I27: =IF(data!J23="","",data!J23) -> 45818 | L27: =IF(data!L23="","",data!L23) -> UC | N27: =IF(data!M23="","",IF(data!M23>=1,data!M23,data!M23*100)) -> 75 | P27: =IF(data!N23="","",data!N23) -> 8.7 | R27: =IF(data!O23="","",data!O23) -> 8.7 | S27: =IF(data!P23="","",data!P23) -> 43817 | T27: =IF(data!Q23="","",data!Q23) -> PM Katherine Vecchiarelli/Planner Valerie Watros | W27: =IF(data!S23="","",data!S23) -> FALSE
A28: =IF(data!C24="","",data!C24) -> P16024031 | C28: =IF(data!D24="","",data!D24) -> b3151.9 | D28: =IF(data!E24="","",data!E24) -> Remove 34.5 kV circuit breaker "AD" at Wallen station. | E28: =IF(data!F24="","",data!F24) -> TO Criteria Violation | F28: =IF(data!G24="","",data!G24) | G28: =IF(data!H24="","",data!H24) -> 45444 | H28: =IF(data!I24="","",data!I24) | I28: =IF(data!J24="","",data!J24) -> 45918 | L28: =IF(data!L24="","",data!L24) -> EP | N28: =IF(data!M24="","",IF(data!M24>=1,data!M24,data!M24*100)) -> 25 | P28: =IF(data!N24="","",data!N24) -> 0.3 | R28: =IF(data!O24="","",data!O24) -> 0.3 | S28: =IF(data!P24="","",data!P24) -> 43817 | T28: =IF(data!Q24="","",data!Q24) -> PM Katherine Vecchiarelli/Planner Valerie Watros | W28: =IF(data!S24="","",data!S24) -> FALSE
A29: =IF(data!C25="","",data!C25) -> P19096013 | C29: =IF(data!D25="","",data!D25) -> b3151.15 | D29: =IF(data!E25="","",data!E25) -> Rebuild the 0.6 mile double circuit section of the Rob Park – South Hicksville / Rob Park – Diebold Road as 69 kV | E29: =IF(data!F25="","",data!F25) -> TO Criteria Violation | F29: =IF(data!G25="","",data!G25) | G29: =IF(data!H25="","",data!H25) -> 45444 | H29: =IF(data!I25="","",data!I25) | I29: =IF(data!J25="","",data!J25) -> 46415 | L29: =IF(data!L25="","",data!L25) -> EP | N29: =IF(data!M25="","",IF(data!M25>=1,data!M25,data!M25*100)) -> 25 | P29: =IF(data!N25="","",data!N25) -> 1 | R29: =IF(data!O25="","",data!O25) -> 1 | S29: =IF(data!P25="","",data!P25) -> 43817 | T29: =IF(data!Q25="","",data!Q25) -> PM Katherine Vecchiarelli/Planner Valerie Watros | W29: =IF(data!S25="","",data!S25) -> FALSE
A30: =IF(data!C26="","",data!C26) -> P19297001 | C30: =IF(data!D26="","",data!D26) -> b3160.1 | D30: =IF(data!E26="","",data!E26) -> Construct a ~2.4 mile double circuit 138 kV extension using 1033 ACSR to connect Lake Head to the 138 kV network. | E30: =IF(data!F26="","",data!F26) -> TO Criteria Violation | F30: =IF(data!G26="","",data!G26) | G30: =IF(data!H26="","",data!H26) -> 45444 | H30: =IF(data!I26="","",data!I26) | I30: =IF(data!J26="","",data!J26) -> 45933 | L30: =IF(data!L26="","",data!L26) -> UC | N30: =IF(data!M26="","",IF(data!M26>=1,data!M26,data!M26*100)) -> 75 | P30: =IF(data!N26="","",data!N26) -> 6 | R30: =IF(data!O26="","",data!O26) -> 6 | S30: =IF(data!P26="","",data!P26) -> 43847 | T30: =IF(data!Q26="","",data!Q26) -> Charles Linkous/ Bobby Valerio | W30: =IF(data!S26="","",data!S26) -> FALSE
... A54: =IF(data!C50="","",data!C50) -> P21013015 | C54: =IF(data!D50="","",data!D50) -> b3274 | D54: =IF(data!E50="","",data!E50) -> Rebuild approximately 8.9 miles of 69 kV line between Newcomerstown and Salt Fork Switch with 556 ACSR conductor. | E54: =IF(data!F50="","",data!F50) -> TO Criteria Violation | F54: =IF(data!G50="","",data!G50) | G54: =IF(data!H50="","",data!H50) -> 45809 | H54: =IF(data!I50="","",data!I50) | I54: =IF(data!J50="","",data!J50) -> 45809 | L54: =IF(data!L50="","",data!L50) -> EP | N54: =IF(data!M50="","",IF(data!M50>=1,data!M50,data!M50*100)) -> 0 | P54: =IF(data!N50="","",data!N50) -> 15.89 | R54: =IF(data!O50="","",data!O50) -> 15.89 | S54: =IF(data!P50="","",data!P50) -> 44166 | T54: =IF(data!Q50="","",data!Q50) | W54: =IF(data!S50="","",data!S50) -> FALSE
A55: =IF(data!C51="","",data!C51) -> P21565006 | C55: =IF(data!D51="","",data!D51) -> b3275.1 | D55: =IF(data!E51="","",data!E51) -> Rebuild Kammer Station-Cresaps Switch 69 kV, approximately 0.5 miles. | E55: =IF(data!F51="","",data!F51) -> TO Criteria Violation | F55: =IF(data!G51="","",data!G51) | G55: =IF(data!H51="","",data!H51) -> 45809 | H55: =IF(data!I51="","",data!I51) | I55: =IF(data!J51="","",data!J51) -> 45904 | K55: 45785 | L55: =IF(data!L51="","",data!L51) -> EP | M55: IS | N55: =IF(data!M51="","",IF(data!M51>=1,data!M51,data!M51*100)) -> 15 | O55: 100 | P55: =IF(data!N51="","",data!N51) -> 0.93 | R55: =IF(data!O51="","",data!O51) -> 0.933 | S55: =IF(data!P51="","",data!P51) -> 44166 | T55: =IF(data!Q51="","",data!Q51) -> PM Andrew Garlick/Planner Patrick Hodgson | W55: =IF(data!S51="","",data!S51) -> FALSE
A56: =IF(data!C52="","",data!C52) -> P21565007 | C56: =IF(data!D52="","",data!D52) -> b3275.2 | D56: =IF(data!E52="","",data!E52) -> Rebuild Cresaps Switch-McElroy Station 69 kV, approximately 0.67 miles. | E56: =IF(data!F52="","",data!F52) -> TO Criteria Violation | F56: =IF(data!G52="","",data!G52) | G56: =IF(data!H52="","",data!H52) -> 45809 | H56: =IF(data!I52="","",data!I52) | I56: =IF(data!J52="","",data!J52) -> 45904 | L56: =IF(data!L52="","",data!L52) -> EP | N56: =IF(data!M52="","",IF(data!M52>=1,data!M52,data!M52*100)) -> 15 | P56: =IF(data!N52="","",data!N52) -> 1.25 | R56: =IF(data!O52="","",data!O52) -> 1.25 | S56: =IF(data!P52="","",data!P52) -> 44166 | T56: =IF(data!Q52="","",data!Q52) -> PM Andrew Garlick/Planner Patrick Hodgson | W56: =IF(data!S52="","",data!S52) -> FALSE
A57: =IF(data!C53="","",data!C53) -> P21565009 | B57: P21565008 | C57: =IF(data!D53="","",data!D53) -> b3275.3 | D57: =IF(data!E53="","",data!E53) -> Replace a single span of 4/0 ACSR from Moundsville-Natrium str 93L to Carbon Tap switch 69kV located between Colombia Carbon and Conner Run stations. Remainder of line is 336 ACSR. | E57: =IF(data!F53="","",data!F53) -> TO Criteria Violation | F57: =IF(data!G53="","",data!G53) | G57: =IF(data!H53="","",data!H53) -> 45809 | H57: =IF(data!I53="","",data!I53) | I57: =IF(data!J53="","",data!J53) -> 45904 | K57: 45722 | L57: =IF(data!L53="","",data!L53) -> EP | M57: IS | N57: =IF(data!M53="","",IF(data!M53>=1,data!M53,data!M53*100)) -> 15 | O57: 100 | P57: =IF(data!N53="","",data!N53) -> 0.01 | R57: =IF(data!O53="","",data!O53) -> 0.012 | S57: =IF(data!P53="","",data!P53) -> 44166 | T57: =IF(data!Q53="","",data!Q53) -> PM Andrew Garlick/Planner Patrick Hodgson | W57: =IF(data!S53="","",data!S53) -> FALSE
A58: =IF(data!C54="","",data!C54) -> P21565010 | C58: =IF(data!D54="","",data!D54) -> b3275.4 | D58: =IF(data!E54="","",data!E54) -> Rebuild from Colombia Carbon to Columbia Carbon Tap str 93N 69 kV, approximately 0.72 miles. The remainder of the line between Colombia Carbon Tap structure 93N and Natrium station is 336 ACSR and will remain. | E58: =IF(data!F54="","",data!F54) -> TO Criteria Violation | F58: =IF(data!G54="","",data!G54) | G58: =IF(data!H54="","",data!H54) -> 45809 | H58: =IF(data!I54="","",data!I54) | I58: =IF(data!J54="","",data!J54) -> 45904 | K58: 45722 | L58: =IF(data!L54="","",data!L54) -> EP | M58: IS | N58: =IF(data!M54="","",IF(data!M54>=1,data!M54,data!M54*100)) -> 15 | O58: 100 | P58: =IF(data!N54="","",data!N54) -> 1.08 | R58: =IF(data!O54="","",data!O54) -> 1.082 | S58: =IF(data!P54="","",data!P54) -> 44166 | T58: =IF(data!Q54="","",data!Q54) -> PM Andrew Garlick/Planner Patrick Hodgson | W58: =IF(data!S54="","",data!S54) -> FALSE
A59: =IF(data!C55="","",data!C55) -> P21565001 | C59: =IF(data!D55="","",data!D55) -> b3275.5 | D59: =IF(data!E55="","",data!E55) -> Replace the Cresaps 69 kV 3-Way Phase-Over-Phase Switch and structure with a new 1200 A 3-Way Switch and Steel Pole. | E59: =IF(data!F55="","",data!F55) -> TO Criteria Violation | F59: =IF(data!G55="","",data!G55) | G59: =IF(data!H55="","",data!H55) -> 45809 | H59: =IF(data!I55="","",data!I55) | I59: =IF(data!J55="","",data!J55) -> 45904 | K59: 45785 | L59: =IF(data!L55="","",data!L55) -> EP | M59: IS | N59: =IF(data!M55="","",IF(data!M55>=1,data!M55,data!M55*100)) -> 15 | O59: 100 | P59: =IF(data!N55="","",data!N55) -> 0.71 | R59: =IF(data!O55="","",data!O55) -> 0.706 | S59: =IF(data!P55="","",data!P55) -> 44166 | T59: =IF(data!Q55="","",data!Q55) -> PM Andrew Garlick/Planner Patrick Hodgson | W59: =IF(data!S55="","",data!S55) -> FALSE
A60: =IF(data!C56="","",data!C56) -> P21565004 | C60: =IF(data!D56="","",data!D56) -> b3275.6 | D60: =IF(data!E56="","",data!E56) -> Replace 477 MCM Alum bus and risers at McElroy 69 kV station. | E60: =IF(data!F56="","",data!F56) -> TO Criteria Violation | F60: =IF(data!G56="","",data!G56) | G60: =IF(data!H56="","",data!H56) -> 45809 | H60: =IF(data!I56="","",data!I56) | I60: =IF(data!J56="","",data!J56) -> 45904 | L60: =IF(data!L56="","",data!L56) -> EP | N60: =IF(data!M56="","",IF(data!M56>=1,data!M56,data!M56*100)) -> 15 | P60: =IF(data!N56="","",data!N56) -> 0.33 | R60: =IF(data!O56="","",data!O56) -> 0.325 | S60: =IF(data!P56="","",data!P56) -> 44166 | T60: =IF(data!Q56="","",data!Q56) -> PM Andrew Garlick/Planner Patrick Hodgson | W60: =IF(data!S56="","",data!S56) -> FALSE
A61: =IF(data!C57="","",data!C57) -> P21565008 | B61: P19269001 | C61: =IF(data!D57="","",data!D57) -> b3275.7 | D61: =IF(data!E57="","",data!E57) -> Replace Natrium 138 kV bus existing between CB-BT1 and along the 138 kV Main Bus # 1 dropping to CBH1 from the 500MCM conductors to a 1272 KCM AAC conductor. Replace the dead end clamp and strain insulators. | E61: =IF(data!F57="","",data!F57) -> TO Criteria Violation | F61: =IF(data!G57="","",data!G57) | G61: =IF(data!H57="","",data!H57) -> 45809 | H61: =IF(data!I57="","",data!I57) | I61: =IF(data!J57="","",data!J57) -> 45904 | J61: 45987 | L61: =IF(data!L57="","",data!L57) -> EP | N61: =IF(data!M57="","",IF(data!M57>=1,data!M57,data!M57*100)) -> 15 | O61: 75 | P61: =IF(data!N57="","",data!N57) -> 0.29 | R61: =IF(data!O57="","",data!O57) -> 0.291 | S61: =IF(data!P57="","",data!P57) -> 44166 | T61: =IF(data!Q57="","",data!Q57) -> PM Andrew Garlick/Planner Patrick Hodgson | W61: =IF(data!S57="","",data!S57) -> FALSE
A62: =IF(data!C58="","",data!C58) -> P22062009 | C62: =IF(data!D58="","",data!D58) -> b3276.1 | D62: =IF(data!E58="","",data!E58) -> Rebuild the 2/0 Copper section of the Lancaster-South Lancaster 69 kV line, approximately 2.9 miles of the 3.2 mile total length with 556 ACSR conductor. The remaining section has 336 ACSR conductor. | E62: =IF(data!F58="","",data!F58) -> TO Criteria Violation | F62: =IF(data!G58="","",data!G58) | G62: =IF(data!H58="","",data!H58) -> 45809 | H62: =IF(data!I58="","",data!I58) | I62: =IF(data!J58="","",data!J58) -> 46679 | J62: 47848 | L62: =IF(data!L58="","",data!L58) -> EP | N62: =IF(data!M58="","",IF(data!M58>=1,data!M58,data!M58*100)) -> 0 | P62: =IF(data!N58="","",data!N58) -> 5.37 | R62: =IF(data!O58="","",data!O58) -> 5.37 | S62: =IF(data!P58="","",data!P58) -> 44166 | T62: =IF(data!Q58="","",data!Q58) -> PM Karmyn Wilford/Planner Christian Mitchell-Flores | W62: =IF(data!S58="","",data!S58) -> FALSE
A63: =IF(data!C59="","",data!C59) -> P22062009 | C63: =IF(data!D59="","",data!D59) -> b3276.2 | D63: =IF(data!E59="","",data!E59) -> Rebuild the 1/0 Copper section of the line between Lancaster Junction and Ralston station 69 kV, approximately 2.3 miles of the 3.1 mile total length. | E63: =IF(data!F59="","",data!F59) -> TO Criteria Violation | F63: =IF(data!G59="","",data!G59) | G63: =IF(data!H59="","",data!H59) -> 45809 | H63: =IF(data!I59="","",data!I59) | I63: =IF(data!J59="","",data!J59) -> 45777 | J63: 47848 | L63: =IF(data!L59="","",data!L59) -> EP | N63: =IF(data!M59="","",IF(data!M59>=1,data!M59,data!M59*100)) -> 0 | P63: =IF(data!N59="","",data!N59) -> 4.58 | R63: =IF(data!O59="","",data!O59) -> 4.582 | S63: =IF(data!P59="","",data!P59) -> 44166 | T63: =IF(data!Q59="","",data!Q59) -> PM Karmyn Wilford/Planner Christian Mitchell-Flores | W63: =IF(data!S59="","",data!S59) -> FALSE
A64: =IF(data!C60="","",data!C60) -> P20252011 | C64: =IF(data!D60="","",data!D60) -> b3276.3 | D64: =IF(data!E60="","",data!E60) -> Rebuild the 2/0 Copper portion of the line between East Lancaster Tap and Lancaster 69 kV, approximately 0.81 miles. | E64: =IF(data!F60="","",data!F60) -> TO Criteria Violation | F64: =IF(data!G60="","",data!G60) | G64: =IF(data!H60="","",data!H60) -> 45809 | H64: =IF(data!I60="","",data!I60) | I64: =IF(data!J60="","",data!J60) -> 46132 | J64: 46219 | L64: =IF(data!L60="","",data!L60) -> EP | N64: =IF(data!M60="","",IF(data!M60>=1,data!M60,data!M60*100)) -> 15 | P64: =IF(data!N60="","",data!N60) -> 1.2 | R64: =IF(data!O60="","",data!O60) -> 1.195 | S64: =IF(data!P60="","",data!P60) -> 44166 | T64: =IF(data!Q60="","",data!Q60) | W64: =IF(data!S60="","",data!S60) -> FALSE
A65: =IF(data!C61="","",data!C61) -> P19004009 | C65: =IF(data!D61="","",data!D61) -> b3278.1 | D65: =IF(data!E61="","",data!E61) -> Saltville Station: Replace H.S. MOAB Switches on the high side of the 138/69/34.5 kV T1 with a H.S. Circuit Switcher. | E65: =IF(data!F61="","",data!F61) -> TO Criteria Violation | F65: =IF(data!G61="","",data!G61) | G65: =IF(data!H61="","",data!H61) -> 45992 | H65: =IF(data!I61="","",data!I61) | I65: =IF(data!J61="","",data!J61) -> 46779 | J65: 48022 | L65: =IF(data!L61="","",data!L61) -> On Hold | M65: EP | N65: =IF(data!M61="","",IF(data!M61>=1,data!M61,data!M61*100)) -> 0 | O65: 25 | P65: =IF(data!N61="","",data!N61) -> 0.72 | R65: =IF(data!O61="","",data!O61) -> 0.72 | S65: =IF(data!P61="","",data!P61) -> 44244 | T65: =IF(data!Q61="","",data!Q61) -> PM Blair Burns/Planner Christian Mitchell-Flores | W65: =IF(data!S61="","",data!S61) -> FALSE
...

Sheet Dropdowns
A1: Status
A3: EP
A4: UC
A5: On Hold
A6: IS

Sheet output
A1: Upgrade ID | B1: TO ID Number | C1: Projected In Service Date | D1: Actual In Service Date | E1: Status | F1: Percent Complete (%) | G1: Cost Estimate ($M) | H1: TO Project Manager | I1: eDart Ticket No | J1: IC Notes
A2: =IF(Upgrades!C6="","",Upgrades!C6) -> b2597 | B2: =IF(Upgrades!B6="","",Upgrades!B6) | C2: =IF(Upgrades!J6="","",Upgrades!J6) -> 46458 | D2: =IF(Upgrades!K6="","",Upgrades!K6) | E2: =IF(Upgrades!M6="","",Upgrades!M6) | F2: =IF(Upgrades!O6="","",(Upgrades!O6)) | G2: =IF(Upgrades!Q6="","",(Upgrades!Q6)) | H2: =IF(Upgrades!U6="","",Upgrades!U6) | I2: =IF(Upgrades!V6="","",Upgrades!V6) | J2: =IF(Upgrades!Y6="","",Upgrades!Y6)
A3: =IF(Upgrades!C7="","",Upgrades!C7) -> b2598 | B3: =IF(Upgrades!B7="","",Upgrades!B7) | C3: =IF(Upgrades!J7="","",Upgrades!J7) | D3: =IF(Upgrades!K7="","",Upgrades!K7) | E3: =IF(Upgrades!M7="","",Upgrades!M7) | F3: =IF(Upgrades!O7="","",(Upgrades!O7)) | G3: =IF(Upgrades!Q7="","",(Upgrades!Q7)) | H3: =IF(Upgrades!U7="","",Upgrades!U7) | I3: =IF(Upgrades!V7="","",Upgrades!V7) | J3: =IF(Upgrades!Y7="","",Upgrades!Y7)
A4: =IF(Upgrades!C8="","",Upgrades!C8) -> b2604.1 | B4: =IF(Upgrades!B8="","",Upgrades!B8) | C4: =IF(Upgrades!J8="","",Upgrades!J8) | D4: =IF(Upgrades!K8="","",Upgrades!K8) | E4: =IF(Upgrades!M8="","",Upgrades!M8) | F4: =IF(Upgrades!O8="","",(Upgrades!O8)) | G4: =IF(Upgrades!Q8="","",(Upgrades!Q8)) | H4: =IF(Upgrades!U8="","",Upgrades!U8) | I4: =IF(Upgrades!V8="","",Upgrades!V8) | J4: =IF(Upgrades!Y8="","",Upgrades!Y8)
A5: =IF(Upgrades!C9="","",Upgrades!C9) -> b2604.2 | B5: =IF(Upgrades!B9="","",Upgrades!B9) | C5: =IF(Upgrades!J9="","",Upgrades!J9) | D5: =IF(Upgrades!K9="","",Upgrades!K9) | E5: =IF(Upgrades!M9="","",Upgrades!M9) | F5: =IF(Upgrades!O9="","",(Upgrades!O9)) -> 50 | G5: =IF(Upgrades!Q9="","",(Upgrades!Q9)) | H5: =IF(Upgrades!U9="","",Upgrades!U9) | I5: =IF(Upgrades!V9="","",Upgrades!V9) | J5: =IF(Upgrades!Y9="","",Upgrades!Y9)
A6: =IF(Upgrades!C10="","",Upgrades!C10) -> b2604.3 | B6: =IF(Upgrades!B10="","",Upgrades!B10) | C6: =IF(Upgrades!J10="","",Upgrades!J10) | D6: =IF(Upgrades!K10="","",Upgrades!K10) | E6: =IF(Upgrades!M10="","",Upgrades!M10) | F6: =IF(Upgrades!O10="","",(Upgrades!O10)) -> 75 | G6: =IF(Upgrades!Q10="","",(Upgrades!Q10)) | H6: =IF(Upgrades!U10="","",Upgrades!U10) | I6: =IF(Upgrades!V10="","",Upgrades!V10) | J6: =IF(Upgrades!Y10="","",Upgrades!Y10)
A7: =IF(Upgrades!C11="","",Upgrades!C11) -> b2604.4 | B7: =IF(Upgrades!B11="","",Upgrades!B11) | C7: =IF(Upgrades!J11="","",Upgrades!J11) | D7: =IF(Upgrades!K11="","",Upgrades!K11) | E7: =IF(Upgrades!M11="","",Upgrades!M11) | F7: =IF(Upgrades!O11="","",(Upgrades!O11)) -> 75 | G7: =IF(Upgrades!Q11="","",(Upgrades!Q11)) | H7: =IF(Upgrades!U11="","",Upgrades!U11) | I7: =IF(Upgrades!V11="","",Upgrades!V11) | J7: =IF(Upgrades!Y11="","",Upgrades!Y11)
A8: =IF(Upgrades!C12="","",Upgrades!C12) -> b2604.5 | B8: =IF(Upgrades!B12="","",Upgrades!B12) | C8: =IF(Upgrades!J12="","",Upgrades!J12) | D8: =IF(Upgrades!K12="","",Upgrades!K12) | E8: =IF(Upgrades!M12="","",Upgrades!M12) | F8: =IF(Upgrades!O12="","",(Upgrades!O12)) -> 50 | G8: =IF(Upgrades!Q12="","",(Upgrades!Q12)) | H8: =IF(Upgrades!U12="","",Upgrades!U12) | I8: =IF(Upgrades!V12="","",Upgrades!V12) | J8: =IF(Upgrades!Y12="","",Upgrades!Y12)
A9: =IF(Upgrades!C13="","",Upgrades!C13) -> b2604.6 | B9: =IF(Upgrades!B13="","",Upgrades!B13) | C9: =IF(Upgrades!J13="","",Upgrades!J13) | D9: =IF(Upgrades!K13="","",Upgrades!K13) | E9: =IF(Upgrades!M13="","",Upgrades!M13) | F9: =IF(Upgrades!O13="","",(Upgrades!O13)) -> 50 | G9: =IF(Upgrades!Q13="","",(Upgrades!Q13)) | H9: =IF(Upgrades!U13="","",Upgrades!U13) | I9: =IF(Upgrades!V13="","",Upgrades!V13) | J9: =IF(Upgrades!Y13="","",Upgrades!Y13)
A10: =IF(Upgrades!C14="","",Upgrades!C14) -> b2604.7 | B10: =IF(Upgrades!B14="","",Upgrades!B14) | C10: =IF(Upgrades!J14="","",Upgrades!J14) | D10: =IF(Upgrades!K14="","",Upgrades!K14) | E10: =IF(Upgrades!M14="","",Upgrades!M14) | F10: =IF(Upgrades!O14="","",(Upgrades!O14)) -> 50 | G10: =IF(Upgrades!Q14="","",(Upgrades!Q14)) | H10: =IF(Upgrades!U14="","",Upgrades!U14) | I10: =IF(Upgrades!V14="","",Upgrades!V14) | J10: =IF(Upgrades!Y14="","",Upgrades!Y14)
A11: =IF(Upgrades!C15="","",Upgrades!C15) -> b2604.8 | B11: =IF(Upgrades!B15="","",Upgrades!B15) | C11: =IF(Upgrades!J15="","",Upgrades!J15) | D11: =IF(Upgrades!K15="","",Upgrades!K15) | E11: =IF(Upgrades!M15="","",Upgrades!M15) | F11: =IF(Upgrades!O15="","",(Upgrades!O15)) -> 50 | G11: =IF(Upgrades!Q15="","",(Upgrades!Q15)) | H11: =IF(Upgrades!U15="","",Upgrades!U15) | I11: =IF(Upgrades!V15="","",Upgrades!V15) | J11: =IF(Upgrades!Y15="","",Upgrades!Y15)
A12: =IF(Upgrades!C16="","",Upgrades!C16) -> b2604.9 | B12: =IF(Upgrades!B16="","",Upgrades!B16) | C12: =IF(Upgrades!J16="","",Upgrades!J16) -> 46906 | D12: =IF(Upgrades!K16="","",Upgrades!K16) | E12: =IF(Upgrades!M16="","",Upgrades!M16) | F12: =IF(Upgrades!O16="","",(Upgrades!O16)) -> 50 | G12: =IF(Upgrades!Q16="","",(Upgrades!Q16)) | H12: =IF(Upgrades!U16="","",Upgrades!U16) | I12: =IF(Upgrades!V16="","",Upgrades!V16) | J12: =IF(Upgrades!Y16="","",Upgrades!Y16)
A13: =IF(Upgrades!C17="","",Upgrades!C17) -> b2604.10 | B13: =IF(Upgrades!B17="","",Upgrades!B17) | C13: =IF(Upgrades!J17="","",Upgrades!J17) -> 46906 | D13: =IF(Upgrades!K17="","",Upgrades!K17) | E13: =IF(Upgrades!M17="","",Upgrades!M17) | F13: =IF(Upgrades!O17="","",(Upgrades!O17)) -> 50 | G13: =IF(Upgrades!Q17="","",(Upgrades!Q17)) | H13: =IF(Upgrades!U17="","",Upgrades!U17) | I13: =IF(Upgrades!V17="","",Upgrades!V17) | J13: =IF(Upgrades!Y17="","",Upgrades!Y17)
... A3000: =IF(Upgrades!C3004="","",Upgrades!C3004) | B3000: =IF(Upgrades!B3004="","",Upgrades!B3004) | C3000: =IF(Upgrades!J3004="","",Upgrades!J3004) | D3000: =IF(Upgrades!K3004="","",Upgrades!K3004) | E3000: =IF(Upgrades!M3004="","",Upgrades!M3004) | F3000: =IF(Upgrades!O3004="","",(Upgrades!O3004)) | G3000: =IF(Upgrades!Q3004="","",(Upgrades!Q3004)) | H3000: =IF(Upgrades!U3004="","",Upgrades!U3004) | I3000: =IF(Upgrades!V3004="","",Upgrades!V3004) | J3000: =IF(Upgrades!Y3004="","",Upgrades!Y3004)

Sheet data
A1: Upgrade Type | B1: Transmission Owner | C1: TO ID Number | D1: Upgrade Id | E1: Description | F1: Driver | G1: Deactivation Study | H1: Required In Service Date | I1: Revised In Service Date | J1: Projected In Service Date | K1: Actual In Service Date | L1: Status | M1: Percent Complete (%) | N1: Cost Estimate ($M) | O1: TEAC Cost ($M) | P1: TEAC Date | Q1: TO Project Manager | R1: eDart Ticket No | S1: Impact Tie Line | T1: Breaker Name | U1: Breaker Before Capacity | V1: Breaker After Capacity | W1: Line Rating Name | X1: Line Rating Before Rating (SN/SE/WN/WE) | Y1: Line Rating After Rating (SN/SE/WN/WE) | Z1: Transformer Name | AA1: Transformer High Before Rating (SN/SE/WN/WE) | AB1: Transformer High After Rating (SN/SE/WN/WE) | AC1: Transformer Low Before Rating (SN/SE/WN/WE) | AD1: Transformer Low After Rating (SN/SE/WN/WE) | AE1: Transformer Tertiary Before Rating (SN/SE/WN/WE) | AF1: Transformer Tertiary After Rating (SN/SE/WN/WE) | AG1: Transmission Line Name | AH1: Transmission Line Before Rating (SN/SE/WN/WE) | AI1: Transmission Line After Rating (SN/SE/WN/WE)
A2: Baseline | B2: AEP | C2: P15082C28 | D2: b2597 | E2: Rebuild approximately 1 mi. section of Dragoon-Virgil Street 34.5 kV line between Dragoon and Dodge Tap switch and replace Dodge switch MOAB to increase thermal capability of Dragoon-Dodge Tap branch | F2: TO Criteria Violation | H2: 43617 | J2: 46374 | L2: EP | M2: 50 | N2: 2.15 | O2: 2.154 | P2: 42011 | Q2: Pm Cliff Vaughn/ Planner Joshua Smith | S2: FALSE
A3: Baseline | B3: AEP | C3: P15082C10, P15082C05, P15082C07 | D3: b2598 | E3: Rebuild approximately 1 mile section of the Kline-Virgil Street 34.5 kV line between Kline and Virgil Street tap. Replace MOAB switches at Beiger, risers at Kline, switches and bus at Virgil Street. | F3: TO Criteria Violation | H3: 43617 | J3: 46220 | L3: EP | M3: 50 | N3: 1.69 | O3: 1.689 | P3: 42011 | Q3: Pm Cliff Vaughn/ Planner Joshua Smith | S3: FALSE
A4: Baseline | B4: AEP | C4: P15095006 | D4: b2604.1 | E4: Remove approximately 11.32 miles of the 69 kV line between Millbrook Park and Franklin Furnace. | F4: TO Criteria Violation | H4: 43617 | J4: 46700 | L4: EP | M4: 50 | N4: 1.13 | O4: 1.13 | P4: 44244 | Q4: PM Oliver Duncan/Planner Christian Mitchell-Flores | S4: FALSE
A5: Baseline | B5: AEP | C5: P15095017 | D5: b2604.2 | E5: At Millbrook Park station, add a new 138/69 kV transformer #2 (90 MVA) with 3000 A 40 kA breakers on the high and low side. Replace the 600 A MOAB Switch and add a 3000 A circuit switcher on the high side of transformer #1. | F5: TO Criteria Violation | H5: 43617 | J5: 46826 | L5: EP | M5: 0 | N5: 3.05 | O5: 3.05 | P5: 44244 | Q5: PM Oliver Duncan/Planner Christian Mitchell-Flores | S5: FALSE
A6: Baseline | B6: AEP | C6: P15095020 | D6: b2604.3 | E6: Replace Sciotoville 69 kV station with a new 138/12 kV in-out station (Cottrell) with 2000A line MOABs facing Millbrook Park and East Wheelersburg 138 kV. | F6: TO Criteria Violation | H6: 43617 | J6: 46667 | L6: EP | M6: 0 | N6: 1.4 | O6: 1.4 | P6: 44244 | Q6: PM Oliver Duncan/Planner Christian Mitchell-Flores | S6: FALSE
A7: Baseline | B7: AEP | C7: P15095022 | D7: b2604.4 | E7: Tie Cottrell switch into the Millbrook Park-East Wheelersburg 138 kV circuit by constructing 0.50 miles of line using 795 ACSR 26/7 Drake (SE 359 MVA). | F7: TO Criteria Violation | H7: 43617 | J7: 46667 | L7: EP | M7: 0 | N7: 1.96 | O7: 1.96 | P7: 44244 | Q7: PM Oliver Duncan/Planner Christian Mitchell-Flores | S7: FALSE
A8: Baseline | B8: AEP | C8: P15095028 | D8: b2604.5 | E8: Install a new 2000 A 3-way POP Switch outside of Texas Eastern 138 kV substation (Sadiq Switch). | F8: TO Criteria Violation | H8: 43617 | J8: 46687 | L8: EP | M8: 0 | N8: 1.08 | O8: 1.08 | P8: 44244 | Q8: PM Oliver Duncan/Planner Christian Mitchell-Flores | S8: FALSE
A9: Baseline | B9: AEP | C9: P15095027 | D9: b2604.6 | E9: Replace the Wheelersburg 69 kV station with a new 138/12 kV in-out station (Sweetgum) with a 3000 A 40 kA breaker facing Sadiq Switch and a 2000 A 138 kV MOAB facing Althea. | F9: TO Criteria Violation | H9: 43617 | J9: 46730 | L9: EP | M9: 0 | N9: 2.16 | O9: 2.16 | P9: 44244 | Q9: PM Oliver Duncan/Planner Christian Mitchell-Flores | S9: FALSE
A10: Baseline | B10: AEP | C10: P15095032 | D10: b2604.7 | E10: Build approximately 1.4 miles of new 138 kV line using 795 ACSR 26/7 Drake (SE 359 MVA) between the new Sadiq Switch and the new Sweetgum 138 kV stations. | F10: TO Criteria Violation | H10: 43617 | J10: 46728 | L10: EP | M10: 0 | N10: 3.41 | O10: 3.41 | P10: 44244 | Q10: PM Oliver Duncan/Planner Christian Mitchell-Flores | S10: FALSE
A11: Baseline | B11: AEP | C11: P15095007 | D11: b2604.8 | E11: Remove the existing 69 kV Hayport Road Switch. | F11: TO Criteria Violation | H11: 43617 | J11: 46700 | L11: EP | M11: 0 | N11: 0.1 | O11: 0.1 | P11: 44244 | Q11: PM Oliver Duncan/Planner Christian Mitchell-Flores | S11: FALSE
A12: Baseline | B12: AEP | C12: P15095015 | D12: b2604.9 | E12: Rebuild approximately 2.3 miles along existing ROW from Sweetgum to the Hayport Rd switch 69 kV location as 138 kV single circuit and rebuild approximately 2.0 miles from the Hayport Road switch to Althea 69 kV with double circuit 138 kV construction, one side operated at 69 kV to continue service to K.O. Wheelersburg, using 795 ACSR 26/7 Drake (SE 359 MVA). | F12: TO Criteria Violation | H12: 43617 | J12: 46700 | L12: EP | M12: 0 | N12: 10.76 | O12: 10.76 | P12: 44244 | Q12: PM Oliver Duncan/Planner Christian Mitchell-Flores | S12: FALSE
A13: Baseline | B13: AEP | C13: P15095015 | D13: b2604.10 | E13: Build a new station (Althea) with a 138/69 kV, 90 MVA transformer. The 138 kV side will have a single 2000 A 40 kA circuit breaker and the 69 kV side will be a 2000 A 40 kA three breaker ring bus. | F13: TO Criteria Violation | H13: 43617 | J13: 46700 | L13: EP | M13: 0 | N13: 11.07 | O13: 11.07 | P13: 44244 | Q13: PM Oliver Duncan/Planner Christian Mitchell-Flores | S13: FALSE
A14: Baseline | B14: AEP | C14: P15095060 | D14: b2604.11 | E14: Remote end work at Hanging Rock, East Wheelersburg and North Haverhill 138 kV. | F14: TO Criteria Violation | H14: 43617 | J14: 46700 | L14: EP | M14: 0 | N14: 0.06 | O14: 0.06 | P14: 44244 | Q14: PM Oliver Duncan/Planner Christian Mitchell-Flores | S14: FALSE
A15: Baseline | B15: AEP | C15: P16108002 | D15: b2753.7 | E15: Retire line sections (Dilles Bottom - Bellaire and Moundsville - Dilles Bottom 69 kV lines) south of First Energy 138 kV line corridor, near “Point A”. Tie George Washington - Moundsville 69 kV circuit to George Washington - West Bellaire 69 kV circuit. | F15: Baseline Load Growth Deliverability & Reliability | H15: 43982 | J15: 46671 | L15: EP | M15: 50 | N15: 5.52 | O15: 5.52 | P15: 42937 | Q15: PM Jon Starr/ Planner Christian Mitchell-Flores | R15: 16329 | S15: TRUE
A16: Baseline | B16: AEP | C16: P24071001 | D16: b2760 | E16: Perform a Sag Study of the Saltville - Tazewell 138 kV line to increase the thermal rating of the line | F16: Baseline Load Growth Deliverability & Reliability | H16: 44348 | J16: 45717 | L16: EP | M16: 5 | N16: 0.1 | O16: 0.1 | P16: 42649 | Q16: PM Blair Burns / Bobby Valerio | S16: FALSE
A17: Baseline | B17: AEP | C17: P21009002 | D17: b2793 | E17: Energize the spare Fremont Center 138/69 kV 130 MVA transformer #3. Reduces overloaded facilities to 46% loading. | F17: TO Criteria Violation | H17: 44348 | J17: 46370 | L17: UC | M17: 26 | N17: 1.3 | O17: 0.081 | P17: 42886 | Q17: PM Colton Caldwell/Brendan Fuller | S17: FALSE
A18: Baseline | B18: AEP | C18: P19004001 | D18: b2938 | E18: Perform a sag mitigations on the Broadford – Wolf Hills 138kV circuit to allow the line to operate to a higher maximum temperature. | F18: Generator Deactivation | G18: BEAVER VALLEY 1|BEAVER VALLEY 2|DAVIS BESSE 1|PERRY 1 | H18: 44713 | I18: 44348 | J18: 46931 | L18: EP | M18: 15 | N18: 2.6 | O18: 2.6 | P18: 43258 | Q18: PM Blair Burns Planner Robert Vaalerio | S18: FALSE
A19: Baseline | B19: AEP | C19: P19269001 | D19: b3037 | E19: Upgrades at the Natrium substation | F19: Baseline Load Growth Deliverability & Reliability | H19: 45078 | J19: 45810 | L19: EP | M19: 15 | N19: 1.1 | O19: 1.1 | P19: 43371 | Q19: PM Wayne Cooper/Planner Christian Mitchell-Flores | S19: FALSE
A20: Baseline | B20: AEP | C20: P21036002 | D20: b3085 | E20: Reconductor Kammer - George Washington 138 kV line (~0.08 miles). Replace the wave trap at Kammer 138 kV. | F20: Generator Deactivation | G20: MANSFIELD 1|MANSFIELD 2|MANSFIELD 3|SAMMIS DIESEL|SAMMIS 6|SAMMIS 7|SAMMIS 5|KIMBERLY CLARK|EASTLAKE 6 | H20: 44713 | I20: 44713 | J20: 45810 | L20: UC | M20: 75 | N20: 0.5 | O20: 0.5 | P20: 44019 | Q20: PM Andrew Garlick/Planner Christian Mitchell-Flores | S20: FALSE
A21: Baseline | B21: AEP | C21: P19052004 | D21: b3150 | E21: Rebuild Ferguson 69/12 kV station in the clear as the 138/12 kV Bear station and connect it to a ~1 mile double circuit 138 kV extension from the Aviation – Ellison Rd 138 kV line to remove the load from the 69 kV line. | F21: TO Criteria Violation | H21: 45444 | J21: 46736 | L21: EP | M21: 25 | N21: 6.4 | O21: 6.4 | P21: 43817 | Q21: PM Katherine Vecchiarelli/Planner Valerie Watros | S21: FALSE
A22: Baseline | B22: AEP | C22: P16024021 | D22: b3151.7 | E22: Install a 69 kV Bobay switch at Woodland Station. | F22: TO Criteria Violation | H22: 45444 | J22: 45918 | L22: UC | M22: 75 | N22: 0.6 | O22: 0.6 | P22: 43817 | Q22: PM Katherine Vecchiarelli/Planner Valerie Watros | S22: FALSE
A23: Baseline | B23: AEP | C23: p16024029 | D23: b3151.8 | E23: Replace Carroll and Churubusco 34.5 kV stations with the 69 kV Snapper station. Snapper will have two (2) line circuit breakers, one (1) bus tie circuit breaker and a 14.4 MVAR cap bank | F23: TO Criteria Violation | H23: 45444 | J23: 45818 | L23: UC | M23: 75 | N23: 8.7 | O23: 8.7 | P23: 43817 | Q23: PM Katherine Vecchiarelli/Planner Valerie Watros | S23: FALSE
A24: Baseline | B24: AEP | C24: P16024031 | D24: b3151.9 | E24: Remove 34.5 kV circuit breaker "AD" at Wallen station. | F24: TO Criteria Violation | H24: 45444 | J24: 45918 | L24: EP | M24: 25 | N24: 0.3 | O24: 0.3 | P24: 43817 | Q24: PM Katherine Vecchiarelli/Planner Valerie Watros | S24: FALSE
A25: Baseline | B25: AEP | C25: P19096013 | D25: b3151.15 | E25: Rebuild the 0.6 mile double circuit section of the Rob Park – South Hicksville / Rob Park – Diebold Road as 69 kV | F25: TO Criteria Violation | H25: 45444 | J25: 46415 | L25: EP | M25: 25 | N25: 1 | O25: 1 | P25: 43817 | Q25: PM Katherine Vecchiarelli/Planner Valerie Watros | S25: FALSE
A26: Baseline | B26: AEP | C26: P19297001 | D26: b3160.1 | E26: Construct a ~2.4 mile double circuit 138 kV extension using 1033 ACSR to connect Lake Head to the 138 kV network. | F26: TO Criteria Violation | H26: 45444 | J26: 45933 | L26: UC | M26: 75 | N26: 6 | O26: 6 | P26: 43847 | Q26: Charles Linkous/ Bobby Valerio | S26: FALSE
A27: Baseline | B27: AEP | C27: A15701239 | D27: b3160.2 | E27: Retire the ~2.5 mile 34.5 kV Niles – Simplicity Tap line. | F27: TO Criteria Violation | H27: 45444 | J27: 46407 | L27: EP | M27: 10 | N27: 1.2 | O27: 1.2 | P27: 43847 | Q27: PM Joseph Scott/Planner Joshua Smith | S27: FALSE
A28: Baseline | B28: AEP | C28: P17078023 | D28: b3160.3 | E28: Retire the ~4.6 mile Lakehead 69 kV Tap | F28: TO Criteria Violation | H28: 45444 | J28: 45985 | L28: EP | M28: 10 | N28: 1.4 | O28: 1.4 | P28: 43847 | Q28: PM Mitchell Rice/Pl;anner Joshua Smith | S28: FALSE
A29: Baseline | B29: AEP | C29: p19297011 | D29: b3160.4 | E29: Build new 138/69 kV drop down station to feed Lakehead with a 138 kV breaker, 138 kV switcher, 138/69 kV transformer and a 138 kV MOAB | F29: TO Criteria Violation | H29: 45444 | J29: 45933 | L29: UC | M29: 50 | N29: 4 | O29: 4 | P29: 43847 | Q29: PM Mitchell Rice/Pl;anner Joshua Smith | S29: FALSE
A30: Baseline | B30: AEP | C30: P19298001 | D30: b3160.5 | E30: Rebuild the ~1.2 mile Buchanan South 69 kV Radial Tap using 795 ACSR | F30: TO Criteria Violation | H30: 45444 | J30: 46757 | L30: EP | M30: 10 | N30: 3 | O30: 3 | P30: 43847 | Q30: PM Mitchell Rice/Pl;anner Joshua Smith | S30: FALSE
A31: Baseline | B31: AEP | C31: P19298001 | D31: b3160.6 | E31: Rebuild the ~8.4 mile 69 kV Pletcher – Buchanan Hydro line as the ~9 mile Pletcher – Buchanan South 69 kV line using 795 ACSR. | F31: TO Criteria Violation | H31: 45444 | J31: 46757 | L31: EP | M31: 10 | N31: 20 | O31: 20 | P31: 43847 | Q31: PM Mitchell Rice/Pl;anner Joshua Smith | S31: FALSE
A32: Baseline | B32: AEP | C32: P19298020 | D32: b3160.7 | E32: Install a PoP switch at Buchanan South station with 2 line Moabs. | F32: TO Criteria Violation | H32: 45444 | J32: 46757 | L32: EP | M32: 10 | N32: 0.6 | O32: 0.6 | P32: 43847 | Q32: PM Mitchell Rice/Pl;anner Joshua Smith | S32: FALSE
... A44: Baseline | B44: AEP | C44: P20896002, P20896006 | D44: b3271 | E44: Install a 138 kV circuit breaker at Fremont station on line towards Fremont Center and install a 9.6 MVAR 69 kV capacitor bank at Bloom Road station. | F44: TO Criteria Violation | H44: 45809 | J44: 45536 | L44: EP | M44: 25 | N44: 1.76 | O44: 1.76 | P44: 44139 | Q44: PM Colton Caldwell/Planner Hunter Hutchison | S44: FALSE
A45: Baseline | B45: AEP | C45: P23024001 | D45: b3272 | E45: Install two 138 kV circuit switchers on the high side of 138/34.5 kV transformers #1 & #2 at Rockhill station. | F45: TO Criteria Violation | H45: 45809 | J45: 45809 | L45: EP | M45: 0 | N45: 1.47 | O45: 1.47 | P45: 44139 | S45: FALSE
A46: Baseline | B46: AEP | C46: P20017004 | D46: b3273.1 | E46: Rebuild and convert the existing 17.6 miles East Leipsic-New Liberty 34.5 kV circuit to 138 kV using 795 ACSR | F46: TO Criteria Violation | H46: 45809 | J46: 46708 | L46: EP | M46: 25 | N46: 31.35 | O46: 31.351 | P46: 44166 | Q46: PM Benjamin Gilsdorf/Planner Jason Lee | S46: FALSE
A47: Baseline | B47: AEP | C47: P20017002 | D47: b3273.2 | E47: Convert the existing 34.5 kV equipment to 138 kV and expanded the existing McComb station to the north and east to allow for new equipment to be installed. Install two new 138 kV box bays to allow for line positions and two new 138/12 kV transformers. | F47: TO Criteria Violation | H47: 45809 | J47: 46420 | L47: EP | M47: 25 | N47: 0.87 | O47: 0.868 | P47: 44166 | Q47: PM Benjamin Gilsdorf/Planner Jason Lee | S47: FALSE
A48: Baseline | B48: AEP | C48: P20017004 | D48: b3273.3 | E48: Expand the existing East Leipsic 138 kV station to the north to allow for another 138 kV line exit to be installed. The new line exit will involve installing a new 138 kV circuit breaker, disconnect switches and new dead end structure along with extending existing 138 kV bus work. | F48: TO Criteria Violation | H48: 45809 | J48: 46708 | L48: EP | M48: 25 | N48: 1.3 | O48: 1.3 | P48: 44166 | Q48: PM Benjamin Gilsdorf/Planner Jason Lee | S48: FALSE
A49: Baseline | B49: AEP | C49: P20017015 | D49: b3273.4 | E49: Add one 138 kV circuit breaker and disconnect switches in order to add an additional line position at New Liberty 138 kV station. Install line relaying potential devices and retire the 34.5 kV breaker F. | F49: TO Criteria Violation | H49: 45809 | J49: 46618 | L49: EP | M49: 25 | N49: 0.9 | O49: 0.899 | P49: 44166 | Q49: PM Benjamin Gilsdorf/Planner Jason Lee | S49: FALSE
A50: Baseline | B50: AEP | C50: P21013015 | D50: b3274 | E50: Rebuild approximately 8.9 miles of 69 kV line between Newcomerstown and Salt Fork Switch with 556 ACSR conductor. | F50: TO Criteria Violation | H50: 45809 | J50: 45809 | L50: EP | M50: 0 | N50: 15.89 | O50: 15.89 | P50: 44166 | S50: FALSE
A51: Baseline | B51: AEP | C51: P21565006 | D51: b3275.1 | E51: Rebuild Kammer Station-Cresaps Switch 69 kV, approximately 0.5 miles. | F51: TO Criteria Violation | H51: 45809 | J51: 45904 | L51: EP | M51: 15 | N51: 0.93 | O51: 0.933 | P51: 44166 | Q51: PM Andrew Garlick/Planner Patrick Hodgson | S51: FALSE
...
