Workbook

Sheet Proposed Project
C2: T-LINE INSTALL | I2: T-LINE REMOVAL
D3: Line Work | E3: Contingency | F3: Total | J3: Line Work | K3: Contingency | L3: Total
B4: P19092007 | C4: Internal Labor | D4: =94181+7843.63+135256+54093+169193+4175.2+4784+45925.05 -> 515450.88 | E4: =9295+12930+5587+16096+6822 -> 50730 | F4: =D4+E4 -> 566180.88 | H4: P19092007 | I4: Internal Labor | L4: =J4+K4 -> 0
B5: P19092008 | C5: External Engineering | D5: =1455761+1501660+1241289+1873218 -> 6071928 | E5: =111727+116610+118151+121712 -> 468200 | F5: =D5+E5 -> 6540128 | H5: P19092011 | I5: External Engineering | L5: =J5+K5 -> 0
B6: P19092011 | C6: Material | D6: =367053+615307+237240+514018 -> 1733618 | E6: =66127+111819+42364+93488 -> 313798 | F6: =D6+E6 -> 2047416 | H6: P19092012 | I6: Material | L6: =J6+K6 -> 0
B7: P19092012 | C7: Construction Labor | D7: =508748+1228874+492006+1340156 -> 3569784 | E7: =127187+307218+125739+312712+2144502 -> 3017358 | F7: =D7+E7 -> 6587142 | H7: P19092013 | I7: Construction Labor | J7: =46619+31729+38531+33599 -> 150478 | K7: =11655+7970+9633+8400 -> 37658 | L7: =J7+K7 -> 188136
B8: P19092013 | C8: ROW Acquisition | D8: =68.23+21140+777.44+37.34+1302.36+46471.59+116344.44+61013.51 -> 247154.91 | F8: =D8+E8 -> 247154.91 | I8: ROW Acquisition | L8: =J8+K8 -> 0
B9: P19092017 | C9: Fleet | D9: =1667+310.46+2394+925+3027+137.95+324.92 -> 8786.33 | F9: =D9+E9 -> 8786.33 | I9: Fleet | L9: =J9+K9 -> 0
B10: P19092018 | C10: Overhead | D10: =609056.6+17781.54+857777.99+397526+794146+19918.85+8420.77+76408.62 -> 2781036.4 | F10: =D10+E10 -> 2781036.4 | I10: Overhead | J10: =9469+3188+3853+3360 -> 19870 | L10: =J10+K10 -> 19870
B11: P19092019
C12: Total | D12: =SUM(D4:D10) -> 14927758 | E12: =SUM(E4:E9) -> 3850086 | F12: =SUM(F4:F10) -> 18777844 | I12: Total | J12: =SUM(J4:J10) -> 170348 | K12: =SUM(K4:K10) -> 37658 | L12: =SUM(L4:L10) -> 208006
C14: T-STATION INSTALL | I14: T-STATION REMOVAL
D15: Station Work | E15: Contingency | F15: Total | J15: Station Work | K15: Contingency | L15: Total
B16: P19092005 | C16: Internal Labor | D16: =583729+62099+12877+26561 -> 685266 | E16: =66112+6948+1465 -> 74525 | F16: =D16+E16 -> 759791 | H16: P19092015 | I16: Internal Labor | J16: =17058 -> 17058 | K16: 1531 | L16: =J16+K16 -> 18589
B17: P19092006 | C17: External Engineering | D17: =788565+17494 -> 806059 | E17: =50706 -> 50706 | F17: =D17+E17 -> 856765 | I17: External Engineering | L17: =J17+K17 -> 0
B18: P19092009 | C18: Material | D18: =8440109+88036+11229+75453 -> 8614827 | E18: =1471200+16160+2005 -> 1489365 | F18: =D18+E18 -> 10104192 | I18: Material | L18: =J18+K18 -> 0
B19: P19092015 | C19: Construction Labor | D19: =1955552+111875+53944 -> 2121371 | E19: =452023+27969+13486 -> 493478 | F19: =D19+E19 -> 2614849 | I19: Construction Labor | L19: =J19+K19 -> 0
B20: P19092022 | C20: Land Acquisition | D20: =1647.81+269673-8486+10659 -> 273493.81 | F20: =D20+E20 -> 273493.81 | I20: Land Acquisition | L20: =J20+K20 -> 0
B21: P19092023 | C21: Fleet | D21: =10331+1099+228 -> 11658 | F21: =D21+E21 -> 11658 | I21: Fleet | J21: 292 | L21: =J21+K21 -> 292
B22: P19092024 | C22: Overhead | D22: =2504272+150874+29214+61053 -> 2745413 | F22: =D22+E22 -> 2745413 | I22: Overhead | J22: 21570 | L22: =J22+K22 -> 21570
C24: Total | D24: =SUM(D16:D22) -> 15258088 | E24: =SUM(E16:E22) -> 2108074 | F24: =SUM(F16:F22) -> 17366162 | I24: Total | J24: =SUM(J16:J22) -> 38920 | K24: =SUM(K16:K22) -> 1531 | L24: =SUM(L16:L22) -> 40451
C26: D-LINE INSTALL | I26: D-LINE REMOVAL
D27: Line Work | E27: Contingency | F27: Total | J27: Line Work | K27: Contingency | L27: Total
B28: TP1909210 | C28: Internal Labor | D28: 2423.78 | F28: =D28+E28 -> 2423.78 | I28: Internal Labor | J28: 776.39 | L28: =J28+K28 -> 776.39
C29: External Engineering | D29: 191102.6 | F29: =D29+E29 -> 191102.6 | I29: External Engineering | L29: =J29+K29 -> 0
C30: Material | D30: 114683 | F30: =D30+E30 -> 114683 | I30: Material | L30: =J30+K30 -> 0
C31: Construction Labor | F31: =D31+E31 -> 0 | I31: Construction Labor | L31: =J31+K31 -> 0
C32: ROW Acquisition | D32: 9024.24 | F32: =D32+E32 -> 9024.24 | I32: ROW Acquisition | J32: 18638.03 | L32: =J32+K32 -> 18638.03
C33: Fleet | D33: 290.11 | F33: =D33+E33 -> 290.11 | I33: Fleet | J33: 98.6 | L33: =J33+K33 -> 98.6
C34: Overhead | D34: =1017.7+60955.86+23990.36 -> 85963.92 | F34: =D34+E34 -> 85963.92 | I34: Overhead | J34: =332.33+311.1 -> 643.43 | L34: =J34+K34 -> 643.43
C36: Total | D36: =SUM(D28:D34) -> 403487.65 | E36: =SUM(E28:E33) -> 0 | F36: =SUM(F28:F34) -> 403487.65 | I36: Total | J36: =SUM(J28:J34) -> 20156.45 | K36: =SUM(K28:K34) -> 0 | L36: =SUM(L28:L34) -> 20156.45
C38: D-STATION INSTALL | I38: D-STATION REMOVAL
D39: Station Work | E39: Contingency | F39: Total | J39: Station Work | K39: Contingency | L39: Total
B40: P19092002 | C40: Internal Labor | D40: =373176+168107+78553 -> 619836 | E40: =40107+29231+11743 -> 81081 | F40: =D40+E40 -> 700917 | H40: P19092002 | I40: Internal Labor | L40: =J40+K40 -> 0
B41: P19092014 | C41: External Engineering | D41: =240148+30850+94148 -> 365146 | E41: =14687+9415 -> 24102 | F41: =D41+E41 -> 389248 | H41: P19092014 | I41: External Engineering | L41: =J41+K41 -> 0
B42: P19092016 | C42: Material | D42: =4187195+420096+99183 -> 4706474 | E42: =747951+77063+18219 -> 843233 | F42: =D42+E42 -> 5549707 | H42: P19092016 | I42: Material | L42: =J42+K42 -> 0
C43: Construction Labor | D43: =1439737+177092+104584 -> 1721413 | E43: =360014+44273+26146 -> 430433 | F43: =D43+E43 -> 2151846 | I43: Construction Labor | J43: =984366+3237+3213 -> 990816 | K43: =248383+809 -> 249192 | L43: =J43+K43 -> 1240008
C44: Land Acquisition | D44: =554.96+209.9+4198.82 -> 4963.68 | F44: =D44+E44 -> 4963.68 | I44: Land Acquisition | L44: =J44+K44 -> 0
C45: Fleet | D45: =6605+2975+1543.65 -> 11123.65 | F45: =D45+E45 -> 11123.65 | I45: Fleet | J45: =426 -> 426 | L45: =J45+K45 -> 426
C46: Overhead | D46: =2071644.59+362982.03+210660 -> 2645286.6 | F46: =D46+E46 -> 2645286.6 | I46: Overhead | J46: =188634.06+622.26+615.71 -> 189872.03 | L46: =J46+K46 -> 189872.03
...

Sheet Alternative Solution 2020
B2: P19092007 | C2: T-LINE INSTALL | I2: T-LINE REMOVAL
B3: P19092008 | D3: Line Work | E3: Contingency | F3: Total | J3: Line Work | K3: Contingency | L3: Total
B4: P19092009 | C4: Internal Labor | D4: =53548.28+9103.21+4856.24+825.56+123215.2+20946.58+6909.12+1174.55+151369+25732.73+3716.18+631.75+170923.92+29057.07 -> 602009.39 | E4: =7028.87+971.25+17192.98+999.09+21159.18+743.24+23349.71 -> 71444.32 | F4: =D4+E4 -> 673453.71 | H4: P19092007 | I4: Internal Labor | J4: =25654.28+4361.23 -> 30015.51 | K4: =3101.79 -> 3101.79 | L4: =J4+K4 -> 33117.3
B5: P19092011 | C5: External Engineering | D5: =358321+49540+272440+16895+248790+32040+499087.5 -> 1477113.5 | E5: =40335.7+9908+30548+3363+27800+6408+52758.75 -> 171121.45 | F5: =D5+E5 -> 1648234.9 | H5: P19092011 | I5: External Engineering | J5: =45196 -> 45196 | K5: =16 -> 16 | L5: =J5+K5 -> 45212
B6: P19092012 | C6: Material | D6: =145055.97+8703.36+10153.92+77370+4642.2+86718.6+5203.12+6070.3+5982.34+358.94+418.76+2872.34+172.34+172.34+115033.81+6902.03+8052.37+43330+2599.8+511353.13+30681.19+32173.12 -> 1104020 | E6: =14505.6+8671.86+598.23+287.23+11503.38+51135.31 -> 86701.61 | F6: =D6+E6 -> 1190721.6 | H6: P19092012 | I6: Material | L6: =J6+K6 -> 0
B7: P19092013 | C7: Construction Labor | D7: =1794340.93+21500+726017.56+25000+32770.17+5604+1112000.12+20000+3419211.36 -> 7156444.1 | E7: =358868.19+4300+145203.51+5000+6554.03+1120.8+222400.02+4000+683842.27 -> 1431288.8 | F7: =D7+E7 -> 8587733 | H7: P19092013 | I7: Construction Labor | J7: =19494.9+5057.64+4478.49+35426.34 -> 64457.37 | K7: =3898.98+1011.53+895.7+7085.27 -> 12891.48 | L7: =J7+K7 -> 77348.85
B8: P19092017 | C8: ROW Acquisition | D8: 769777.54 | F8: =D8+E8 -> 769777.54 | I8: ROW Acquisition | L8: =J8+K8 -> 0
B9: P19092018 | C9: Fleet | D9: =5354.83+485.62+12321.52+690.91+15136.9+371.62+17092.39 -> 51453.79 | F9: =D9+E9 -> 51453.79 | I9: Fleet | J9: =2565.43 -> 2565.43 | L9: =J9+K9 -> 2565.43
B10: P19092019 | C10: Overhead | D10: =520828.5+31139.2+386614.88+20727.54+502888.75+19707.72+1102205.93 -> 2584112.5 | F10: =D10+E10 -> 2584112.5 | I10: Overhead | J10: =43176.92+505.76+626.99+4959.69 -> 49269.36 | L10: =J10+K10 -> 49269.36
B11: P19092020
B12: P19092021 | C12: Total | D12: =SUM(D4:D10) -> 13744931 | E12: =SUM(E4:E9) -> 1760556.2 | F12: =SUM(F4:F10) -> 15505487 | I12: Total | J12: =SUM(J4:J10) -> 191503.67 | K12: =SUM(K4:K10) -> 16009.27 | L12: =SUM(L4:L10) -> 207512.94
C14: T-STATION INSTALL | I14: T-STATION REMOVAL
D15: Station Work | E15: Contingency | F15: Total | J15: Station Work | K15: Contingency | L15: Total
B16: P19092015 | C16: Internal Labor | D16: =235875.44+40098.82+23636.94+4018.28+6814.74+1158.51+22590.72+3840.42 -> 338033.87 | E16: =23587.54+2837.73+681.47+2259.07 -> 29365.81 | F16: =D16+E16 -> 367399.68 | H16: P19092015 | I16: Internal Labor | J16: =5999.6+1019.93+5999.6+1019.93 -> 14039.06 | K16: =599.96+599.96 -> 1199.92 | L16: =J16+K16 -> 15238.98
B17: P19092016 | C17: External Engineering | D17: =175367+55000+2500+55000 -> 287867 | E17: =6626+250 -> 6876 | F17: =D17+E17 -> 294743 | I17: External Engineering | L17: =J17+K17 -> 0
B18: P19092022 | C18: Material | D18: =1703022.14+102181.33+94968.26+57026.53+3421.59+570.27+7683.52+461.01+153.67+38295.47+2297.73+2680.68 -> 2012762.2 | E18: =170302.21+5702.65+768.35+3829.55 -> 180602.76 | F18: =D18+E18 -> 2193365 | I18: Material | L18: =J18+K18 -> 0
B19: P19092023 | C19: Construction Labor | D19: =3791029.67+112537.18+33025+97727.99 -> 4034319.8 | E19: =751205.93+20507.44+6355+17545.6 -> 795613.97 | F19: =D19+E19 -> 4829933.8 | I19: Construction Labor | J19: =4852+4852 -> 9704 | K19: =970.4+970.4 -> 1940.8 | L19: =J19+K19 -> 11644.8
B20: P19092024 | C20: Land Acquisition | D20: 740664.88 | F20: =D20+E20 -> 740664.88 | I20: Land Acquisition | L20: =J20+K20 -> 0
C21: Fleet | D21: =25946.3+2363.69+749.62+2259.07 -> 31318.68 | F21: =D21+E21 -> 31318.68 | I21: Fleet | J21: =599.96+599.96 -> 1199.92 | L21: =J21+K21 -> 1199.92
C22: Overhead | D22: =1746067.12+28127.96+15818.57+75658.32+40360.38 -> 1906032.4 | F22: =D22+E22 -> 1906032.4 | I22: Overhead | J22: =7139.52+8159.46+824.84 -> 16123.82 | L22: =J22+K22 -> 16123.82
C24: Total | D24: =SUM(D16:D22) -> 9350998.8 | E24: =SUM(E16:E22) -> 1012458.5 | F24: =SUM(F16:F22) -> 10363457 | I24: Total | J24: =SUM(J16:J22) -> 41066.8 | K24: =SUM(K16:K22) -> 3140.72 | L24: =SUM(L16:L22) -> 44207.52
C26: D-LINE INSTALL | I26: D-LINE REMOVAL
D27: Line Work | E27: Contingency | F27: Total | J27: Line Work | K27: Contingency | L27: Total
B28: TP1909210 | C28: Internal Labor | D28: 3429.6487 | E28: 0 | F28: =D28+E28 -> 3429.6487 | H28: TP1909210 | I28: Internal Labor | J28: 1102.4738 | K28: 0 | L28: =J28+K28 -> 1102.4738
C29: External Engineering | D29: 270910.18 | E29: 0 | F29: =D29+E29 -> 270910.18 | I29: External Engineering | J29: 0 | K29: 0 | L29: =J29+K29 -> 0
C30: Material | D30: 162276.45 | E30: 0 | F30: =D30+E30 -> 162276.45 | I30: Material | J30: 0 | K30: 0 | L30: =J30+K30 -> 0
C31: Construction Labor | D31: 0 | E31: 0 | F31: =D31+E31 -> 0 | I31: Construction Labor | J31: 0 | K31: 0 | L31: =J31+K31 -> 0
C32: ROW Acquisition | D32: 12769.3 | E32: 0 | F32: =D32+E32 -> 12769.3 | I32: ROW Acquisition | J32: 26466.003 | K32: 0 | L32: =J32+K32 -> 26466.003
C33: Fleet | D33: 410.50565 | E33: 0 | F33: =D33+E33 -> 410.50565 | I33: Fleet | J33: 140.012 | K33: 0 | L33: =J33+K33 -> 140.012
C34: Overhead | D34: 121638.95 | E34: 0 | F34: =D34+E34 -> 121638.95 | I34: Overhead | J34: 913.6706 | K34: 0 | L34: =J34+K34 -> 913.6706
C36: Total | D36: =SUM(D28:D34) -> 571435.02 | E36: =SUM(E28:E33) -> 0 | F36: =SUM(F28:F34) -> 571435.02 | I36: Total | J36: =SUM(J28:J34) -> 28622.159 | K36: =SUM(K28:K34) -> 0 | L36: =SUM(L28:L34) -> 28622.159
C38: D-STATION INSTALL | I38: D-STATION REMOVAL
D39: Station Work | E39: Contingency | F39: Total | J39: Station Work | K39: Contingency | L39: Total
B40: P19092002 | C40: Internal Labor | D40: =57235.76+9730.08 -> 66965.84 | E40: =5918.62 -> 5918.62 | F40: =D40+E40 -> 72884.46 | I40: Internal Labor | L40: =J40+K40 -> 0
B41: P19092004 | C41: External Engineering | D41: =302000 -> 302000 | E41: =200 -> 200 | F41: =D41+E41 -> 302200 | I41: External Engineering | L41: =J41+K41 -> 0
C42: Material | D42: =1133328.49+67999.71+46219.25 -> 1247547.4 | E42: =113332.85 -> 113332.85 | F42: =D42+E42 -> 1360880.3 | I42: Material | L42: =J42+K42 -> 0
C43: Construction Labor | D43: =763562.31 -> 763562.31 | E43: =150712.46 -> 150712.46 | F43: =D43+E43 -> 914274.77 | I43: Construction Labor | L43: =J43+K43 -> 0
C44: Land Acquisition | D44: 243531.01 | F44: =D44+E44 -> 243531.01 | I44: Land Acquisition | L44: =J44+K44 -> 0
C45: Fleet | D45: =5723.58 -> 5723.58 | F45: =D45+E45 -> 5723.58 | I45: Fleet | L45: =J45+K45 -> 0
C46: Overhead | D46: =575956.68 -> 575956.68 | F46: =D46+E46 -> 575956.68 | I46: Overhead | L46: =J46+K46 -> 0
...

Sheet Alternative Solution 2026
B2: P19092007 | C2: T-LINE INSTALL | I2: T-LINE REMOVAL
B3: P19092008 | D3: Line Work | E3: Contingency | F3: Total | J3: Line Work | K3: Contingency | L3: Total
B4: P19092009 | C4: Internal Labor | D4: ='Alternative Solution 2020'!D4*1.4743+81000+112000 -> 1080542.4 | E4: ='Alternative Solution 2020'!E4*1.4743 -> 105330.36 | F4: =D4+E4 -> 1185872.8 | H4: P19092007 | I4: Internal Labor | L4: =J4+K4 -> 0
B5: P19092011 | C5: External Engineering | D5: ='Alternative Solution 2020'!D5*1.4743+339000+336000+60000+371000 -> 3283708.4 | E5: ='Alternative Solution 2020'!E5*1.4743 -> 252284.35 | F5: =D5+E5 -> 3535992.8 | H5: P19092011 | I5: External Engineering | J5: ='Alternative Solution 2020'!J5*1.4743 -> 66632.463 | K5: ='Alternative Solution 2020'!K5*1.4743 -> 23.5888 | L5: =J5+K5 -> 66656.052
B6: P19092012 | C6: Material | D6: ='Alternative Solution 2020'!D6*1.4743+120000+170000+204000 -> 2121656.7 | E6: ='Alternative Solution 2020'!E6*1.4743 -> 127824.18 | F6: =D6+E6 -> 2249480.8 | H6: P19092012 | I6: Material | J6: ='Alternative Solution 2020'!J6*1.4743 -> 0 | K6: ='Alternative Solution 2020'!K6*1.4743 -> 0 | L6: =J6+K6 -> 0
B7: P19092013 | C7: Construction Labor | D7: ='Alternative Solution 2020'!D7*1.4743 -> 10550746 | E7: ='Alternative Solution 2020'!E7*1.4743 -> 2110149.1 | F7: =D7+E7 -> 12660895 | H7: P19092013 | I7: Construction Labor | J7: ='Alternative Solution 2020'!J7*1.4743 -> 95029.501 | K7: ='Alternative Solution 2020'!K7*1.4743 -> 19005.909 | L7: =J7+K7 -> 114035.41
B8: P19092017 | C8: ROW Acquisition | D8: ='Alternative Solution 2020'!D8*1.4743 -> 1134883 | E8: ='Alternative Solution 2020'!E8*1.4743 -> 0 | F8: =D8+E8 -> 1134883 | I8: ROW Acquisition | J8: ='Alternative Solution 2020'!J8*1.4743 -> 0 | K8: ='Alternative Solution 2020'!K8*1.4743 -> 0 | L8: =J8+K8 -> 0
B9: P19092018 | C9: Fleet | D9: ='Alternative Solution 2020'!D9*1.4743 -> 75858.323 | E9: ='Alternative Solution 2020'!E9*1.4743 -> 0 | F9: =D9+E9 -> 75858.323 | I9: Fleet | J9: ='Alternative Solution 2020'!J9*1.4743 -> 3782.2134 | K9: ='Alternative Solution 2020'!K9*1.4743 -> 0 | L9: =J9+K9 -> 3782.2134
B10: P19092019 | C10: Overhead | D10: ='Alternative Solution 2020'!D10*1.4743+49000 -> 3858757.1 | E10: ='Alternative Solution 2020'!E10*1.4743 -> 0 | F10: =D10+E10 -> 3858757.1 | I10: Overhead | J10: ='Alternative Solution 2020'!J10*1.4743 -> 72637.817 | K10: ='Alternative Solution 2020'!K10*1.4743 -> 0 | L10: =J10+K10 -> 72637.817
B11: P19092020
B12: P19092021 | C12: Total | D12: =SUM(D4:D10) -> 22106152 | E12: =SUM(E4:E9) -> 2595588 | F12: =SUM(F4:F10) -> 24701740 | I12: Total | J12: =SUM(J4:J10) -> 238081.99 | K12: =SUM(K4:K10) -> 19029.498 | L12: =SUM(L4:L10) -> 257111.49
C14: T-STATION INSTALL | I14: T-STATION REMOVAL
D15: Station Work | E15: Contingency | F15: Total | J15: Station Work | K15: Contingency | L15: Total
B16: P19092015 | C16: Internal Labor | D16: ='Alternative Solution 2020'!D16*1.4743+145000 -> 643363.33 | E16: ='Alternative Solution 2020'!E16*1.4743 -> 43294.014 | F16: =D16+E16 -> 686657.35 | H16: P19092015 | I16: Internal Labor | J16: ='Alternative Solution 2020'!J16*1.4743 -> 20697.786 | K16: ='Alternative Solution 2020'!K16*1.4743 -> 1769.0421 | L16: =J16+K16 -> 22466.828
B17: P19092016 | C17: External Engineering | D17: ='Alternative Solution 2020'!D17*1.4743+325000 -> 749402.32 | E17: ='Alternative Solution 2020'!E17*1.4743 -> 10137.287 | F17: =D17+E17 -> 759539.6 | I17: External Engineering | J17: ='Alternative Solution 2020'!J17*1.4743 -> 0 | K17: ='Alternative Solution 2020'!K17*1.4743 -> 0 | L17: =J17+K17 -> 0
B18: P19092022 | C18: Material | D18: ='Alternative Solution 2020'!D18*1.4743+4248000 -> 7215415.3 | E18: ='Alternative Solution 2020'!E18*1.4743 -> 266262.65 | F18: =D18+E18 -> 7481678 | I18: Material | J18: ='Alternative Solution 2020'!J18*1.4743 -> 0 | K18: ='Alternative Solution 2020'!K18*1.4743 -> 0 | L18: =J18+K18 -> 0
B19: P19092023 | C19: Construction Labor | D19: ='Alternative Solution 2020'!D19*1.4743 -> 5947797.7 | E19: ='Alternative Solution 2020'!E19*1.4743 -> 1172973.7 | F19: =D19+E19 -> 7120771.4 | I19: Construction Labor | J19: ='Alternative Solution 2020'!J19*1.4743 -> 14306.607 | K19: ='Alternative Solution 2020'!K19*1.4743 -> 2861.3214 | L19: =J19+K19 -> 17167.929
B20: P19092024 | C20: Land Acquisition | D20: ='Alternative Solution 2020'!D20*1.4743 -> 1091962.2 | E20: ='Alternative Solution 2020'!E20*1.4743 -> 0 | F20: =D20+E20 -> 1091962.2 | I20: Land Acquisition | J20: ='Alternative Solution 2020'!J20*1.4743 -> 0 | K20: ='Alternative Solution 2020'!K20*1.4743 -> 0 | L20: =J20+K20 -> 0
C21: Fleet | D21: ='Alternative Solution 2020'!D21*1.4743 -> 46173.13 | E21: ='Alternative Solution 2020'!E21*1.4743 -> 0 | F21: =D21+E21 -> 46173.13 | I21: Fleet | J21: ='Alternative Solution 2020'!J21*1.4743 -> 1769.0421 | K21: ='Alternative Solution 2020'!K21*1.4743 -> 0 | L21: =J21+K21 -> 1769.0421
C22: Overhead | D22: ='Alternative Solution 2020'!D22*1.4743 -> 2810063.5 | E22: ='Alternative Solution 2020'!E22*1.4743 -> 0 | F22: =D22+E22 -> 2810063.5 | I22: Overhead | J22: ='Alternative Solution 2020'!J22*1.4743 -> 23771.348 | K22: ='Alternative Solution 2020'!K22*1.4743 -> 0 | L22: =J22+K22 -> 23771.348
C24: Total | D24: =SUM(D16:D22) -> 18504178 | E24: =SUM(E16:E22) -> 1492667.6 | F24: =SUM(F16:F22) -> 19996845 | I24: Total | J24: =SUM(J16:J22) -> 60544.783 | K24: =SUM(K16:K22) -> 4630.3635 | L24: =SUM(L16:L22) -> 65175.147
C26: D-LINE INSTALL | I26: D-LINE REMOVAL
D27: Line Work | E27: Contingency | F27: Total | J27: Line Work | K27: Contingency | L27: Total
B28: TP1909210 | C28: Internal Labor | D28: ='Alternative Solution 2020'!D28*1.4743+102000 -> 107056.33 | E28: ='Alternative Solution 2020'!E28*1.4743 -> 0 | F28: =D28+E28 -> 107056.33 | H28: TP1909210 | I28: Internal Labor | J28: ='Alternative Solution 2020'!J28*1.4743 -> 1625.3771 | K28: ='Alternative Solution 2020'!K28*1.4743 -> 0 | L28: =J28+K28 -> 1625.3771
C29: External Engineering | D29: ='Alternative Solution 2020'!D29*1.4743 -> 399402.88 | E29: ='Alternative Solution 2020'!E29*1.4743 -> 0 | F29: =D29+E29 -> 399402.88 | I29: External Engineering | J29: ='Alternative Solution 2020'!J29*1.4743 -> 0 | K29: ='Alternative Solution 2020'!K29*1.4743 -> 0 | L29: =J29+K29 -> 0
C30: Material | D30: ='Alternative Solution 2020'!D30*1.4743+93000+45000+1058000 -> 1435244.2 | E30: ='Alternative Solution 2020'!E30*1.4743 -> 0 | F30: =D30+E30 -> 1435244.2 | I30: Material | J30: ='Alternative Solution 2020'!J30*1.4743 -> 0 | K30: ='Alternative Solution 2020'!K30*1.4743 -> 0 | L30: =J30+K30 -> 0
C31: Construction Labor | D31: 0 | E31: ='Alternative Solution 2020'!E31*1.4743 -> 0 | F31: =D31+E31 -> 0 | I31: Construction Labor | J31: ='Alternative Solution 2020'!J31*1.4743 -> 0 | K31: ='Alternative Solution 2020'!K31*1.4743 -> 0 | L31: =J31+K31 -> 0
C32: ROW Acquisition | D32: ='Alternative Solution 2020'!D32*1.4743 -> 18825.778 | E32: ='Alternative Solution 2020'!E32*1.4743 -> 0 | F32: =D32+E32 -> 18825.778 | I32: ROW Acquisition | J32: ='Alternative Solution 2020'!J32*1.4743 -> 39018.828 | K32: ='Alternative Solution 2020'!K32*1.4743 -> 0 | L32: =J32+K32 -> 39018.828
C33: Fleet | D33: ='Alternative Solution 2020'!D33*1.4743 -> 605.20848 | E33: ='Alternative Solution 2020'!E33*1.4743 -> 0 | F33: =D33+E33 -> 605.20848 | I33: Fleet | J33: ='Alternative Solution 2020'!J33*1.4743 -> 206.41969 | K33: ='Alternative Solution 2020'!K33*1.4743 -> 0 | L33: =J33+K33 -> 206.41969
C34: Overhead | D34: ='Alternative Solution 2020'!D34*1.4743 -> 179332.3 | E34: ='Alternative Solution 2020'!E34*1.4743 -> 0 | F34: =D34+E34 -> 179332.3 | I34: Overhead | J34: ='Alternative Solution 2020'!J34*1.4743 -> 1347.0246 | K34: ='Alternative Solution 2020'!K34*1.4743 -> 0 | L34: =J34+K34 -> 1347.0246
C36: Total | D36: =SUM(D28:D34) -> 2140466.7 | E36: =SUM(E28:E33) -> 0 | F36: =SUM(F28:F34) -> 2140466.7 | I36: Total | J36: =SUM(J28:J34) -> 42197.649 | K36: =SUM(K28:K34) -> 0 | L36: =SUM(L28:L34) -> 42197.649
C38: D-STATION INSTALL | I38: D-STATION REMOVAL
D39: Station Work | E39: Contingency | F39: Total | J39: Station Work | K39: Contingency | L39: Total
B40: P19092002 | C40: Internal Labor | D40: ='Alternative Solution 2020'!D40*1.4743 -> 98727.738 | E40: ='Alternative Solution 2020'!E40*1.4743 -> 8725.8215 | F40: =D40+E40 -> 107453.56 | I40: Internal Labor | J40: ='Alternative Solution 2020'!J40*1.4743 -> 0 | K40: ='Alternative Solution 2020'!K40*1.4743 -> 0 | L40: =J40+K40 -> 0
B41: P19092004 | C41: External Engineering | D41: ='Alternative Solution 2020'!D41*1.4743 -> 445238.6 | E41: ='Alternative Solution 2020'!E41*1.4743 -> 294.86 | F41: =D41+E41 -> 445533.46 | I41: External Engineering | J41: ='Alternative Solution 2020'!J41*1.4743 -> 0 | K41: ='Alternative Solution 2020'!K41*1.4743 -> 0 | L41: =J41+K41 -> 0
C42: Material | D42: ='Alternative Solution 2020'!D42*1.4743 -> 1839259.2 | E42: ='Alternative Solution 2020'!E42*1.4743 -> 167086.62 | F42: =D42+E42 -> 2006345.8 | I42: Material | J42: ='Alternative Solution 2020'!J42*1.4743 -> 0 | K42: ='Alternative Solution 2020'!K42*1.4743 -> 0 | L42: =J42+K42 -> 0
C43: Construction Labor | D43: ='Alternative Solution 2020'!D43*1.4743 -> 1125719.9 | E43: ='Alternative Solution 2020'!E43*1.4743 -> 222195.38 | F43: =D43+E43 -> 1347915.3 | I43: Construction Labor | J43: ='Alternative Solution 2020'!J43*1.4743 -> 0 | K43: ='Alternative Solution 2020'!K43*1.4743 -> 0 | L43: =J43+K43 -> 0
C44: Land Acquisition | D44: ='Alternative Solution 2020'!D44*1.4743 -> 359037.77 | E44: ='Alternative Solution 2020'!E44*1.4743 -> 0 | F44: =D44+E44 -> 359037.77 | I44: Land Acquisition | J44: ='Alternative Solution 2020'!J44*1.4743 -> 0 | K44: ='Alternative Solution 2020'!K44*1.4743 -> 0 | L44: =J44+K44 -> 0
C45: Fleet | D45: ='Alternative Solution 2020'!D45*1.4743 -> 8438.274 | E45: ='Alternative Solution 2020'!E45*1.4743 -> 0 | F45: =D45+E45 -> 8438.274 | I45: Fleet | J45: ='Alternative Solution 2020'!J45*1.4743 -> 0 | K45: ='Alternative Solution 2020'!K45*1.4743 -> 0 | L45: =J45+K45 -> 0
C46: Overhead | D46: ='Alternative Solution 2020'!D46*1.4743 -> 849132.93 | E46: ='Alternative Solution 2020'!E46*1.4743 -> 0 | F46: =D46+E46 -> 849132.93 | I46: Overhead | J46: ='Alternative Solution 2020'!J46*1.4743 -> 0 | K46: ='Alternative Solution 2020'!K46*1.4743 -> 0 | L46: =J46+K46 -> 0
...
