Workbook

Sheet SAO
B1: SCHEDULE OF ADJUSTED OPERATIONS - (NORTH LOGAN WATER DISTRICT) - (2025)
B2: ALTERNATIVE RATE FILING
H4: Test Year | J4: Adjustment | L4: Ref. | N4: Pro Forma
B5: Operating Revenues
C6: Unmetered Water Revenue | H6: 70510 | N6: =H6+J6 -> 70510
C7: Metered Water Revenue | N7: =H7+J7 -> 0
D8: Sales to Residential Customers | H8: 270778 | N8: =H8+J8 -> 270778 | P8: =H8+H9 -> 415945
D9: Sales to Commercial Customers | H9: 145167 | J9: =BAE!G14 -> -7200.1871 | N9: =H9+J9 -> 137966.81
D10: Sales to Industrial Customers | N10: =H10+J10 -> 0
D11: Sales to Public Authorities | N11: =H11+J11 -> 0
D12: Sales to Multiple Family Dwellings | N12: =H12+J12 -> 0
D13: Sales through Bulk Loading Stations | N13: =H13+J13 -> 0
C14: Total Metered Sales of Water | H14: =SUM(H6:H13) -> 486455 | J14: =SUM(J8:J13) -> -7200.1871 | N14: =SUM(N6:N13) -> 479254.81
C15: Other Water Revenues
D16: Miscellaneous Service Revenues | N16: =H16+J16 -> 0
D17: Other Water Revenues | H17: 11544 | N17: =H17+J17 -> 11544
C18: Total Other Water Revenues | H18: =SUM(H16:H17) -> 11544 | J18: =SUM(J16:J17) -> 0 | N18: =SUM(N16:N17) -> 11544
B19: Total Operating Revenues | H19: =H14+H18 -> 497999 | J19: =J14+J18 -> -7200.1871 | N19: =N14+N18 -> 490798.81
B21: Operating Expenses
C22: Operating and Maintenance Expenses
D23: Salaries and Wages - Employees | H23: 139184 | N23: =H23+J23 -> 139184 | R23: 84222.25 | S23: 54771.04 | T23: =R23+S23 -> 138993.29
D24: Salaries and Wages - Officers | H24: 17400 | J24: 6600 | N24: =H24+J24 -> 24000
D25: Employee Pensions and Benefits | H25: 6611 | N25: =H25+J25 -> 6611
D26: Purchased Water | H26: 188325 | N26: =H26+J26 -> 188325
D27: Purchased Power | H27: 6383 | N27: =H27+J27 -> 6383
D28: Fuel for Power Production | N28: =H28+J28 -> 0 | T28: 6000
D29: Chemicals | N29: =H29+J29 -> 0
D30: Materials and Supplies | H30: 29375 | N30: =H30+J30 -> 29375 | T30: =T28*4 -> 24000
D31: Contractual Services - Eng. | N31: =H31+J31 -> 0
D32: Contractual Services - Acct. | H32: 35479 | N32: =H32+J32 -> 35479 | P32: =H32+H34 -> 51122
D33: Contractual Services - Legal | N33: =H33+J33 -> 0 | T33: =T30-H24 -> 6600 | V33: 0.0765 | X33: =T33*V33 -> 504.9
D34: Contractual Services - Management Fees | H34: 15643 | N34: =H34+J34 -> 15643
D35: Contractual Services - Water Testing | H35: 4224 | N35: =H35+J35 -> 4224
D36: Contractual Services - Other | N36: =H36+J36 -> 0
D37: Rental of Bld./Real Property | N37: =H37+J37 -> 0
D38: Rental of Equipment | N38: =H38+J38 -> 0
D39: Transportation Expenses | H39: 11290 | N39: =H39+J39 -> 11290
D40: Insurance - Vehicle | N40: =H40+J40 -> 0
D41: Insurance - General Liability | H41: 29750 | N41: =H41+J41 -> 29750 | P41: =H41+H42 -> 31428
D42: Insurance - Workers Compensation | H42: 1678 | N42: =H42+J42 -> 1678
...

Sheet RR-OR
C2: Pro Forma Operating Expenses | L2: =SAO!N49 -> 558391.04
C3: Divide by: | E3: Operating Ratio | L3: 0.88
C4: Subtotal | L4: =ROUND(L2/L3,0) -> 634535
C5: Add: Average Annual Interest Expense | L5: 0
C6: Total Revenue Requirement | L6: =SUM(L4:L5) -> 634535
C7: Less: | E7: Other Operating Revenue | L7: =-SAO!N17 -> -11544
E8: Interest Income | L8: =-[1]SAO!M58 -> 0
E9: Miscellaneous Nonutility Expenses
C10: Revenue Required from Rates | L10: =SUM(L6:L9) -> 622991
C11: Less: | D11: Normalized Revenues from Water Sales | L11: =-SAO!N14 -> -479254.81
C13: Required Revenue Increase | L13: =SUM(L10:L11) -> 143736.19
C14: Percentage Increase | L14: =ROUND(L13/(-L11),4) -> 0.2999
C17: WORKING CAPITAL
C18: Total Revenue Requirement | L18: =L6 -> 634535
C19: Less: | E19: Pro Forma Operating Expenses | L19: =-L2 -> -558391.04
E20: Cost of Excess Water Loss | L20: =[1]SAO!I31+[1]SAO!I32 -> 3392
E21: Average Debt Service | L21: =-'[1]Revenue Requirement - DSC'!L4 -> 0
C22: Subtotal | L22: =SUM(L18:L21) -> 79535.963
C23: Add: | E23: Non Cash Items: Depreciation Exp. | L23: =[1]SAO!M48 -> 3112
C24: Working Capital | L24: =SUM(L22:L23) -> 82647.963

Sheet Dep
K1: Pro Forma | N1: Dep. Expense
A2: System Number | C2: Description | E2: Life | G2: Cost | I2: Current Depreciation | K2: Life | L2: Dep. Expense | N2: Adjustment
A4: 25 | C4: Transmission Lines | E4: 20 | G4: 195734.75 | I4: =G4/E4 -> 9786.7375 | K4: 62.5 | L4: =G4/K4 -> 3131.756 | N4: =L4-I4 -> -6654.9815
A5: 28 | C5: Transmission Lines | E5: 20 | G5: 224493.39 | I5: =G5/E5 -> 11224.669 | K5: 62.5 | L5: =G5/K5 -> 3591.8942 | N5: =L5-I5 -> -7632.7753
A6: 29 | C6: Transmission Lines | E6: 20 | G6: 271573.18 | I6: =G6/E6 -> 13578.659 | K6: 62.5 | L6: =G6/K6 -> 4345.1709 | N6: =L6-I6 -> -9233.4881
A7: 31 | C7: Thompson Chaps | E7: 20 | G7: 34673.35 | I7: =G7/E7 -> 1733.6675 | K7: 62.5 | L7: =G7/K7 -> 554.7736 | N7: =L7-I7 -> -1178.8939
A8: 32 | C8: Thompson Chaps | E8: 20 | G8: 40840 | I8: =G8/E8 -> 2042 | K8: 62.5 | L8: =G8/K8 -> 653.44 | N8: =L8-I8 -> -1388.56
A9: 33 | C9: Kings Ford | E9: 20 | G9: 90716.58 | I9: =G9/E9 -> 4535.829 | K9: 62.5 | L9: =G9/K9 -> 1451.4653 | N9: =L9-I9 -> -3084.3637
A10: 34 | C10: Transmission Lines | E10: 20 | G10: 8700 | I10: =G10/E10 -> 435 | K10: 62.5 | L10: =G10/K10 -> 139.2 | N10: =L10-I10 -> -295.8
L12: Total | N12: =SUM(N4:N11) -> -29468.862

Sheet AvgDebt1

Sheet Salaries

Sheet BAE
A1: CURRENT BILLING ANALYSIS - 2025 USAGE AND EXISTING RATES.
A2: NORTH LOGAN WATER DISTRICT #1
A4: SUMMARY
F6: Gallons
E7: No. of Bills | F7: Sold | G7: Revenue
A8: 5/8" X 3/4" Meters - Rate 1 | E8: =C27 -> 7028 | F8: =D27 -> 49575180 | G8: =F38 -> 479254.81 | L8: =G11*ProposedRates!U6 -> 143728.52 | M8: =G11+L8 -> 622983.33
D11: Totals | E11: =SUM(E8:E9) -> 7028 | F11: =SUM(F8:F9) -> 49575180 | G11: =SUM(G8:G9) -> 479254.81
D12: Water Sales From Annual Report | G12: =SAO!H14 -> 486455
D14: Water Sales from Annual Report | G14: =G11-G12 -> -7200.1871
A17: 5/8" X 3/4" METERS - RATE 1
E19: First | F19: Next | G19: Next | H19: Next | I19: Over
B20: Usage | C20: Bills | D20: Gallons | E20: =B21 -> 2000 | F20: =B22 -> 2000 | G20: =B23 -> 6000 | H20: =B24 -> 15000 | I20: =B25 -> 25000 | J20: Total
A21: First | B21: 2000 | C21: 2274 | D21: 2552200 | E21: =D21 -> 2552200 | J21: =SUM(E21:I21) -> 2552200
A22: Next | B22: 2000 | C22: 2672 | D22: 7737810 | E22: =C22*E20 -> 5344000 | F22: =D22-E22 -> 2393810 | J22: =SUM(E22:I22) -> 7737810
A23: Next | B23: 6000 | C23: 1717 | D23: 10076710 | E23: =C23*E20 -> 3434000 | F23: =C23*F20 -> 3434000 | G23: =D23-E23-F23 -> 3208710 | J23: =SUM(E23:I23) -> 10076710
A24: Next | B24: 15000 | C24: 314 | D24: 4337970 | E24: =C24*E20 -> 628000 | F24: =C24*F20 -> 628000 | G24: =C24*G20 -> 1884000 | H24: =D24-E24-F24-G24 -> 1197970 | J24: =SUM(E24:I24) -> 4337970
A25: Over | B25: 25000 | C25: 51 | D25: 24870490 | E25: =C25*E20 -> 102000 | F25: =C25*F20 -> 102000 | G25: =C25*G20 -> 306000 | H25: =C25*H20 -> 765000 | I25: =D25-E25-F25-G25-H25 -> 23595490 | J25: =SUM(E25:I25) -> 24870490
L26: Average Bill
A27: Totals | C27: =SUM(C21:C25) -> 7028 | D27: =SUM(D21:D25) -> 49575180 | E27: =SUM(E21:E25) -> 12060200 | F27: =SUM(F21:F25) -> 6557810 | G27: =SUM(G21:G25) -> 5398710 | H27: =SUM(H21:H25) -> 1962970 | I27: =SUM(I21:I25) -> 23595490 | J27: =SUM(J21:J25) -> 49575180 | L27: =J27/C27 -> 7053.9528
A29: 5/8" X 3/4" METERS - RATE 1 REVENUE BY RATE INCREMENT
B31: Usage | C31: Bills | D31: Gallons | E31: Rates | F31: Revenue
A32: First | B32: =B21 -> 2000 | C32: =C27 -> 7028 | D32: =E27 -> 12060200 | E32: 26.15 | F32: =C32*E32 -> 183782.2
A33: Next | B33: =B22 -> 2000 | D33: =F27 -> 6557810 | E33: 11.95 | F33: =(D33*E33)/1000 -> 78365.83
A34: Next | B34: =B23 -> 6000 | D34: =G27 -> 5398710 | E34: 7.64 | F34: =(D34*E34)/1000 -> 41246.144
A35: Next | B35: =B24 -> 15000 | D35: =H27 -> 1962970 | E35: 7.25 | F35: =(D35*E35)/1000 -> 14231.532
A36: Over | B36: =B25 -> 25000 | D36: =I27 -> 23595490 | E36: 6.85 | F36: =(D36*E36)/1000 -> 161629.11
A38: Totals | C38: =SUM(C32:C36) -> 7028 | D38: =SUM(D32:D36) -> 49575180 | F38: =SUM(F32:F36) -> 479254.81

Sheet BAP
A1: CURRENT BILLING ANALYSIS - 2025 USAGE AND PROPOSED RATES.
A2: NORTH LOGAN WATER DISTRICT #1
A4: SUMMARY
F6: Gallons
E7: No. of Bills | F7: Sold | G7: Revenue
A8: 5/8" X 3/4" Meters - Rate 1 | E8: =C27 -> 7028 | F8: =D27 -> 49575180 | G8: =F38 -> 622824.74
D11: Totals | E11: =SUM(E8:E9) -> 7028 | F11: =SUM(F8:F9) -> 49575180 | G11: =SUM(G8:G9) -> 622824.74
A17: 5/8" X 3/4" METERS - RATE 1
E19: First | F19: Next | G19: Next | H19: Next | I19: Over
B20: Usage | C20: Bills | D20: Gallons | E20: =B21 -> 2000 | F20: =B22 -> 2000 | G20: =B23 -> 6000 | H20: =B24 -> 15000 | I20: =B25 -> 25000 | J20: Total
A21: First | B21: 2000 | C21: 2274 | D21: 2552200 | E21: =D21 -> 2552200 | J21: =SUM(E21:I21) -> 2552200
A22: Next | B22: 2000 | C22: 2672 | D22: 7737810 | E22: =C22*E20 -> 5344000 | F22: =D22-E22 -> 2393810 | J22: =SUM(E22:I22) -> 7737810
A23: Next | B23: 6000 | C23: 1717 | D23: 10076710 | E23: =C23*E20 -> 3434000 | F23: =C23*F20 -> 3434000 | G23: =D23-E23-F23 -> 3208710 | J23: =SUM(E23:I23) -> 10076710
A24: Next | B24: 15000 | C24: 314 | D24: 4337970 | E24: =C24*E20 -> 628000 | F24: =C24*F20 -> 628000 | G24: =C24*G20 -> 1884000 | H24: =D24-E24-F24-G24 -> 1197970 | J24: =SUM(E24:I24) -> 4337970
A25: Over | B25: 25000 | C25: 51 | D25: 24870490 | E25: =C25*E20 -> 102000 | F25: =C25*F20 -> 102000 | G25: =C25*G20 -> 306000 | H25: =C25*H20 -> 765000 | I25: =D25-E25-F25-G25-H25 -> 23595490 | J25: =SUM(E25:I25) -> 24870490
L26: Average Bill
A27: Totals | C27: =SUM(C21:C25) -> 7028 | D27: =SUM(D21:D25) -> 49575180 | E27: =SUM(E21:E25) -> 12060200 | F27: =SUM(F21:F25) -> 6557810 | G27: =SUM(G21:G25) -> 5398710 | H27: =SUM(H21:H25) -> 1962970 | I27: =SUM(I21:I25) -> 23595490 | J27: =SUM(J21:J25) -> 49575180 | L27: =J27/C27 -> 7053.9528
A29: 5/8" X 3/4" METERS - RATE 1 REVENUE BY RATE INCREMENT
B31: Usage | C31: Bills | D31: Gallons | E31: Rates | F31: Revenue
A32: First | B32: =B21 -> 2000 | C32: =C27 -> 7028 | D32: =E27 -> 12060200 | E32: =ProposedRates!O8 -> 33.99 | F32: =C32*E32 -> 238881.72
A33: Next | B33: =B22 -> 2000 | D33: =F27 -> 6557810 | E33: =ProposedRates!O9*1000 -> 15.53 | F33: =(D33*E33)/1000 -> 101842.79
A34: Next | B34: =B23 -> 6000 | D34: =G27 -> 5398710 | E34: =ProposedRates!O10*1000 -> 9.93 | F34: =(D34*E34)/1000 -> 53609.19
A35: Next | B35: =B24 -> 15000 | D35: =H27 -> 1962970 | E35: =ProposedRates!O11*1000 -> 9.42 | F35: =(D35*E35)/1000 -> 18491.177
A36: Over | B36: =B25 -> 25000 | D36: =I27 -> 23595490 | E36: =ProposedRates!O12*1000 -> 8.9 | F36: =(D36*E36)/1000 -> 209999.86
A38: Totals | C38: =SUM(C32:C36) -> 7028 | D38: =SUM(D32:D36) -> 49575180 | F38: =SUM(F32:F36) -> 622824.74

Sheet ProposedRates
C4: CURRENT AND PROPOSED RATES
C5: Current Rates | K5: Proposed Rates | R5: Change ($) | S5: Change (%) | U5: Proposed Increase
U6: ='RR-OR'!L14 -> 0.2999
C7: 5/8" x 3/4" Meter | K7: 5/8" x 3/4" Meter
C8: First | E8: 2000 | G8: 26.15 | H8: Minimum Bill | K8: First | M8: =E8 -> 2000 | O8: =ROUND(G8*(1+$U$6),2) -> 33.99 | P8: Minimum Bill | R8: =O8-G8 -> 7.84 | S8: =R8/G8 -> 0.2998088
C9: Next | E9: 2000 | G9: 0.01195 | H9: per gallon | K9: Next | M9: =E9 -> 2000 | O9: =ROUND(G9*(1+$U$6),5) -> 0.01553 | P9: per gallon | R9: =O9-G9 -> 0.00358 | S9: =R9/G9 -> 0.29958159
C10: Next | E10: 6000 | G10: 0.00764 | H10: per gallon | K10: Next | M10: =E10 -> 6000 | O10: =ROUND(G10*(1+$U$6),5) -> 0.00993 | P10: per gallon | R10: =O10-G10 -> 0.00229 | S10: =R10/G10 -> 0.29973822
C11: Next | E11: 15000 | G11: 0.00725 | H11: per gallon | K11: Next | M11: =E11 -> 15000 | O11: =ROUND(G11*(1+$U$6),5) -> 0.00942 | P11: per gallon | R11: =O11-G11 -> 0.00217 | S11: =R11/G11 -> 0.29931034
C12: Over | E12: 25000 | G12: 0.00685 | H12: per gallon | K12: Over | M12: =E12 -> 25000 | O12: =ROUND(G12*(1+$U$6),5) -> 0.0089 | P12: per gallon | R12: =O12-G12 -> 0.00205 | S12: =R12/G12 -> 0.29927007
C14: 1" Meter | K14: 1" Meter | U14: Customer | V14: Average Usage (gals) | W14: Monthly Bill at Current Rates | X14: Monthly Bill at Proposed Rates | Y14: Monthly Bill Increase (%) | Z14: $ Increase
C15: First | E15: 10000 | G15: 91.26 | H15: Minimum Bill | K15: First | M15: 10000 | O15: =ROUND(G15*(1+$U$6),5) -> 118.62887 | P15: Minimum Bill | R15: =O15-G15 -> 27.36887 | S15: =R15/G15 -> 0.29989996
C16: Next | E16: 10000 | G16: 0.00804 | H16: per gallon | K16: Next | M16: 10000 | O16: =ROUND(G16*(1+$U$6),5) -> 0.01045 | P16: per gallon | R16: =O16-G16 -> 0.00241 | S16: =R16/G16 -> 0.29975124 | U16: 5/8" x 3/4" meter | V16: =BAE!L27 -> 7053.9528 | W16: =G8+(G9*2000)+(G10*AC16) -> 73.38256 | X16: =O8+(O9*2000)+(O10*AC16) -> 95.37622 | Y16: =(X16-W16)/W16 -> 0.29971236 | Z16: =X16-W16 -> 21.99366 | AB16: 7054 | AC16: =AB16-4000 -> 3054
C17: Next | E17: 30000 | G17: 0.00755 | H17: per gallon | K17: Next | M17: 30000 | O17: =ROUND(G17*(1+$U$6),5) -> 0.00981 | P17: per gallon | R17: =O17-G17 -> 0.00226 | S17: =R17/G17 -> 0.29933775
C18: Over | E18: 50000 | G18: 0.00664 | H18: per gallon | K18: Over | M18: 50000 | O18: =ROUND(G18*(1+$U$6),5) -> 0.00863 | P18: per gallon | R18: =O18-G18 -> 0.00199 | S18: =R18/G18 -> 0.2996988
C20: 2" Meter | K20: 2" Meter
C21: First | E21: 20000 | G21: 171.58 | H21: Minimum Bill | K21: First | M21: 20000 | O21: =ROUND(G21*(1+$U$6),5) -> 223.03684 | P21: Minimum Bill | R21: =O21-G21 -> 51.45684 | S21: =R21/G21 -> 0.29989999
C22: Next | E22: 30000 | G22: 0.00755 | H22: per gallon | K22: Next | M22: 30000 | O22: =ROUND(G22*(1+$U$6),5) -> 0.00981 | P22: per gallon | R22: =O22-G22 -> 0.00226 | S22: =R22/G22 -> 0.29933775
C23: Over | E23: 50000 | G23: 0.00664 | H23: per gallon | K23: Over | M23: 50000 | O23: =ROUND(G23*(1+$U$6),5) -> 0.00863 | P23: per gallon | R23: =O23-G23 -> 0.00199 | S23: =R23/G23 -> 0.2996988
C25: 3" Meter | K25: 3" Meter
C26: First | E26: 50000 | G26: 398.13 | H26: Minimum Bill | K26: First | M26: 50000 | O26: =ROUND(G26*(1+$U$6),5) -> 517.52919 | P26: Minimum Bill | R26: =O26-G26 -> 119.39919 | S26: =R26/G26 -> 0.29990001
C27: Over | E27: 50000 | G27: 0.00664 | H27: per gallon | K27: Over | M27: 50000 | O27: =ROUND(G27*(1+$U$6),5) -> 0.00863 | P27: per gallon | R27: =O27-G27 -> 0.00199 | S27: =R27/G27 -> 0.2996988
C29: Wholesale Rates | K29: Wholesale Rates
C30: All | G30: 0.00446 | H30: per gallon | K30: All | O30: =ROUND(G30*(1+$U$6),5) -> 0.0058 | P30: per gallon | R30: =O30-G30 -> 0.00134 | S30: =R30/G30 -> 0.30044843

Sheet Sheet1
