Workbook

Sheet SAO
B1: SCHEDULE OF ADJUSTED OPERATIONS - (SOUTH HOPKINS WATER DISTRICT) - (TY2025)
B2: ALTERNATIVE RATE FILING
H4: Test Year | J4: Adjustment | L4: Ref. | N4: Pro Forma
B5: Operating Revenues
C6: Metered Water Revenue
D7: Sales to Residential Customers | H7: 1230943 | J7: =BAE!G18 -> 146107.6 | N7: =SUM(H7,J7) -> 1377050.6
D8: Sales to Commercial Customers | H8: 275290 | N8: =SUM(H8,J8) -> 275290 | Q8: =N8+N9+N10 -> 343081
D9: Sales to Industrial Customers | H9: 12248 | N9: =SUM(H9,J9) -> 12248
D10: Sales to Public Authorities | H10: 55543 | N10: =SUM(H10,J10) -> 55543
D11: Sales to Multiple Family Dwellings | N11: =SUM(H11,J11) -> 0
D12: Sales through Bulk Loading Stations | N12: =SUM(H12,J12) -> 0
C13: Total Metered Sales of Water | H13: =SUM(H7:H12) -> 1574024 | J13: =SUM(J7:J12) -> 146107.6 | N13: =SUM(N7:N12) -> 1720131.6
C14: Other Water Revenues
D15: Sales for Resale | H15: 318933 | N15: =SUM(H15,J15) -> 318933 | Q15: =N13+N15 -> 2039064.6
D16: Forfeited Discounts | H16: 30682 | N16: =SUM(H16,J16) -> 30682
D17: Miscellaneous Service Revenues | H17: 8639 | N17: =SUM(H17,J17) -> 8639
D18: Other Water Revenues | N18: =SUM(H18,J18) -> 0
C19: Total Other Water Revenues | H19: =SUM(H15:H18) -> 358254 | J19: =SUM(J16:J18) -> 0 | N19: =SUM(N15:N18) -> 358254
B20: Total Operating Revenues | H20: =H13+H19 -> 1932278 | J20: =J13+J19 -> 146107.6 | N20: =N13+N19 -> 2078385.6
B22: Operating Expenses
C23: Operating and Maintenance Expenses
D24: Salaries and Wages - Employees | H24: 360865 | J24: =Salaries!P20 -> 31940 | N24: =SUM(H24,J24) -> 392805
D25: Salaries and Wages - Officers | H25: 11162 | N25: =SUM(H25,J25) -> 11162
D26: Employee Pensions and Benefits | H26: 99321 | J26: =Salaries!P34 -> 1272.8485 | N26: =SUM(H26,J26) -> 100593.85
D27: Purchased Water | H27: 1181206 | J27: =WaterLoss!D25 -> -329027.98 | N27: =SUM(H27,J27) -> 852178.02
D28: Purchased Power | H28: 79640 | J28: =WaterLoss!F25 -> -22183.928 | N28: =SUM(H28,J28) -> 57456.072
D29: Fuel for Power Production | N29: =SUM(H29,J29) -> 0
D30: Chemicals | N30: =SUM(H30,J30) -> 0
D31: Materials and Supplies | H31: 98051 | N31: =SUM(H31,J31) -> 98051
D32: Contractual Services - Eng. | N32: =SUM(H32,J32) -> 0
D33: Contractual Services - Acct. | H33: 12200 | N33: =SUM(H33,J33) -> 12200 | P33: =SUM(H33:H36) -> 27012
D34: Contractual Services - Legal | H34: 3934 | N34: =SUM(H34,J34) -> 3934
D35: Contractual Services - Management Fees | N35: =SUM(H35,J35) -> 0
D36: Contractual Services - Water Testing | H36: 10878 | N36: =SUM(H36,J36) -> 10878
D37: Contractual Services - Other | N37: =SUM(H37,J37) -> 0
D38: Rental of Bld./Real Property | N38: =SUM(H38,J38) -> 0
D39: Rental of Equipment | N39: =SUM(H39,J39) -> 0
D40: Transportation Expenses | H40: 24399 | N40: =SUM(H40,J40) -> 24399
D41: Insurance - Vehicle | H41: 15177 | N41: =SUM(H41,J41) -> 15177 | P41: =SUM(H41:H44) -> 44016
D42: Insurance - General Liability | H42: 13133 | N42: =SUM(H42,J42) -> 13133
...

Sheet RR-DC
B2: Pro Forma Operating Expenses | K2: =SAO!N50 -> 1835924.6
B3: Plus: Average Annual Debt Principal and Interest Payments | K3: =AvgDebt!V11 -> 79837.673
D4: Debt Coverage Requirement | K4: =AvgDebt!V12 -> 15967.535
B6: Total Revenue Requirement | K6: =SUM(K2:K4) -> 1931729.8
B7: Less: Other Operating Revenue | K7: =-(SAO!H16+SAO!H17) -> -39321
D8: Non-operating Revenue
D9: Interest Income | K9: -462
B11: Revenue Required from Rates | K11: =SUM(K6:K9) -> 1891946.8
B12: Less: Revenue from Sales at Present Rates | K12: =-SAO!Q15 -> -2039064.6
B14: Required Revenue Increase | K14: =SUM(K11:K12) -> -147117.81
A17: Required Revenue Increase Stated as a Percentage of Revenue at Present Rates | K17: =(K14/-K12) -> -0.072149657

Sheet RR-OR
B3: Pro Forma Operating Expenses | G3: =SAO!N50 -> 1835924.6 | K3: 1506148
B4: Divided by: Operating Ratio | G4: 0.88
B5: Subtotal | G5: =G3/G4 -> 2086277.9 | K5: =K3/G4 -> 1711531.8
B6: Plus: | D6: Interest Expense | G6: 29272 | K6: 20952
B7: Total Revenue Requirement | G7: =G5+G6 -> 2115549.9 | K7: =SUM(K5:K6) -> 1732483.8
B8: Less: | D8: Other Operating Revenue | G8: =-SUM(SAO!N16:N18) -> -39321 | K8: -40602
D9: Non-Utility Income
B10: Revenue Required From Sales of Water | G10: =SUM(G7:G8) -> 2076228.9 | K10: =SUM(K7:K9) -> 1691881.8
B11: Less: | D11: Revenue from Metered Sales with Present Rates | G11: =-SAO!Q15 -> -2039064.6 | K11: =-1617039 -> -1617039
B13: Required Revenue Increase | G13: =SUM(G10:G11) -> 37164.332 | K13: =SUM(K10:K12) -> 74842.818
B14: Percent Increase | G14: =G13/-G11 -> 0.018226167 | K14: =K13/-K11 -> 0.046283867

Sheet Dep
A1: South Hopkins Water District
A2: Depreciation History Report - 2025
A4: Asset Group | C4: Dep From Date | E4: Service Life | G4: Item Cost | I4: Prior Dep. Amount | K4: Beginning ValueTotal Selected Dep. Amount | M4: Ending Value
A6: Group 04 Trans & Dist. Mains | E6: 65 | G6: 3775273.4 | K6: =G6/E6 -> 58081.129 | N6: Current depreciation rate
E7: 62.5 | G7: =G6 -> 3775273.4 | K7: =G7/E7 -> 60404.374
I9: Difference | K9: =K7-K6 -> 2323.2452

Sheet AvgDebt
G1: 3-Year | I1: 5-Year
A2: Debt Coverage Requirement:
A3: Average Annual Debt Principal and Interest Payments | G3: =USDALoan!P39+'KIA#B17-011'!N27 -> 79837.673 | M3: 2027 | P3: 2028 | S3: 2029
A4: Times :DSC Coverage Ratio | G4: 1.2 | I4: 1.2
M5: Principal | N5: Interest & Fees | P5: Principal | Q5: Interest & Fees | S5: Principal | T5: Interest & Fees | V5: Total
A6: Debt Coverage Requirement | G6: =G3*G4 -> 95805.208
A7: Less: Average Annual Principal and Interest Payments | G7: =-G3 -> -79837.673 | L7: KIA B17-011 | M7: ='KIA#B17-011'!B19+'KIA#B17-011'!B20 -> 28060.63 | N7: ='KIA#B17-011'!C19+'KIA#B17-011'!C20+'KIA#B17-011'!F19+'KIA#B17-011'!F20 -> 8811.83 | P7: ='KIA#B17-011'!B21+'KIA#B17-011'!B22 -> 28553.86 | Q7: ='KIA#B17-011'!C21+'KIA#B17-011'!C22+'KIA#B17-011'!F21+'KIA#B17-011'!F22 -> 8262.23 | S7: ='KIA#B17-011'!B23+'KIA#B17-011'!B24 -> 29055.73 | T7: ='KIA#B17-011'!C23+'KIA#B17-011'!C24+'KIA#B17-011'!F23+'KIA#B17-011'!F24 -> 7702.99 | V7: =SUM(M7:T7) -> 110447.27 | X7: =M7+N7 -> 36872.46 | Y7: =P7+Q7 -> 36816.09 | Z7: =S7+T7 -> 36758.72
L8: USDA-RD | M8: =USDALoan!O20+USDALoan!O26 -> 28700 | N8: =USDALoan!P20+USDALoan!P26 -> 13821.75 | P8: =USDALoan!O21+USDALoan!O27 -> 30900 | Q8: =USDALoan!P21+USDALoan!P27 -> 12480.75 | S8: =USDALoan!O22+USDALoan!O28 -> 32100 | T8: =USDALoan!P22+USDALoan!P28 -> 11063.25 | V8: =SUM(M8:T8) -> 129065.75 | X8: =M8+N8 -> 42521.75 | Y8: =P8+Q8 -> 43380.75 | Z8: =S8+T8 -> 43163.25
A9: Additional Working Capital | G9: =SUM(G6:G8) -> 15967.535
T10: Total | V10: =SUM(V7:V9) -> 239513.02
S11: Average Principal & Interest | V11: =V10/3 -> 79837.673
S12: Debt Service Coverage | V12: =V11*0.2 -> 15967.535

Sheet Salaries
A1: Salaries and Wages
E2: 2025 Hours | H2: 2026 Pro Forma Wage Rates | K2: 2026 Pro Forma Wages
A3: Employees | C3: Position | E3: Regular | F3: Overtime | H3: Regular | I3: Overtime | K3: Regular | L3: Overtime | N3: Total Pro Forma Wages | P3: Pro Forma Pension Contribution | R3: CERS Pension Rate Date | T3: % Rate
A4: Kayla Goodaker | C4: Office Manager | E4: Salary | F4: 62400 | H4: Salary | I4: 62400 | K4: =F4 -> 62400 | N4: =K4+L4 -> 62400 | P4: =N4*$T$6 -> 10876.32
A5: Christina Norris | C5: Front Office Clerk | E5: 2120 | H5: 19 | I5: =H5*1.5 -> 28.5 | K5: =E5*H5 -> 40280 | L5: =F5*I5 -> 0 | N5: =K5+L5 -> 40280 | P5: =N5*$T$6 -> 7020.804 | R5: 45839 | T5: 0.1862
A6: Alexis Morris | C6: Front Office Clerk | E6: 2960 | H6: 16 | I6: =H6*1.5 -> 24 | K6: =E6*H6 -> 47360 | L6: =F6*I6 -> 0 | N6: =K6+L6 -> 47360 | P6: =N6*$T$6 -> 8254.848 | R6: 46204 | T6: 0.1743
A7: Jon Blalock | C7: Superintendent | E7: Salary | F7: 80000 | H7: Salary | I7: 80000 | K7: =F7 -> 80000 | N7: =K7+L7 -> 80000 | P7: =N7*$T$6 -> 13944
A8: James Kilkenny | C8: Laborer/Maintenance | E8: 2132 | F8: 134.5 | H8: 20 | I8: =H8*1.5 -> 30 | K8: =E8*H8 -> 42640 | L8: =F8*I8 -> 4035 | N8: =K8+L8 -> 46675 | P8: =N8*$T$6 -> 8135.4525
A9: Donald Terry | C9: Laborer/Maintenance | E9: 2096 | F9: 115 | H9: 20 | I9: =H9*1.5 -> 30 | K9: =E9*H9 -> 41920 | L9: =F9*I9 -> 3450 | N9: =K9+L9 -> 45370 | P9: =N9*$T$6 -> 7907.991
A10: Employee #7 | C10: Laborer/Maintenance | E10: 2080 | H10: 17 | I10: =H10*1.5 -> 25.5 | K10: =E10*H10 -> 35360 | L10: =F10*I10 -> 0 | N10: =K10+L10 -> 35360 | P10: =N10*$T$6 -> 6163.248
A11: Employee #8 | C11: Laborer/Maintenance | E11: 2080 | H11: 17 | I11: =H11*1.5 -> 25.5 | K11: =E11*H11 -> 35360 | L11: =F11*I11 -> 0 | N11: =K11+L11 -> 35360 | P11: =N11*$T$6 -> 6163.248
K13: Total Pro Forma Wages | N13: =SUM(N4:N12) -> 392805 | P13: =SUM(P4:P12) -> 68465.912 | Q13: (Pro Forma Pension Contribution)
P16: Adjustments
K17: Pro Forma Salaries and Wages Expense | P17: =N13 -> 392805
K18: Less:Test Year Salaries and Wages Expense | P18: =-SAO!H24 -> -360865
K20: Pro Forma Salaries and Wages Adjustment | P20: =SUM(P17:P19) -> 31940
K22: Pro Forma Salaries and Wages Expense | P22: =N13 -> 392805
K23: Commissioner Salaries | P23: 30000 | Y23: Test Year Salaries | AA23: =SAO!H24 -> 360865
Y24: FICA Rate | AA24: 0.0765
N25: Total Wages | P25: =SUM(P22:P24) -> 422805
K26: Times: FICA Rate | P26: 0.0765 | Y26: Test Year Payroll Taxes | AA26: =AA23*AA24 -> 27606.173
K27: Pro Forma Payroll Taxes | P27: =P25*P26 -> 32344.583
K28: Less: Test Year Payroll Taxes | P28: -29166.94
K30: Payroll Tax Adjustment | P30: =SUM(P27:P29) -> 3177.6425
T31: Kentucky Retirement Systems General Ledger | Y31: 70503.33
K32: Total Pro Forma Pension Contribution | P32: =P13 -> 68465.912
K33: Less: Test Year Pension Contribution | P33: =SAO!H24*Salaries!T5 -> 67193.063
K34: Pensions and Benefits Adjustment | P34: =P32-P33 -> 1272.8485

Sheet WaterLoss
D1: Annual Report - 2025
D2: Total Pumped and/or Purchased | F2: Water Sold to Customers | J2: Produced and/or Purchased | M2: =D16 -> 454803
A3: January | D3: 35453 | F3: 23760 | J3: Gallons Sold | M3: =-F16 -> -257417
A4: February | D4: 37473 | F4: 17860 | J4: Other Water Used
A5: March | D5: 34511 | F5: 19541 | K5: System Flushing | M5: 2354
A6: April | D6: 37975 | F6: 17896 | K6: Fire Department | M6: 125
A7: May | D7: 44614 | F7: 21625 | J7: Total: Other Water Used | M7: =SUM(M5:M6) -> 2479
A8: June | D8: 45288 | F8: 22432
A9: July | D9: 43796 | F9: 26505 | K9: Line Leaks | M9: 8462
A10: August | D10: 43970 | F10: 24848 | K10: Other Loss | M10: 186445
A11: September | D11: 39971 | F11: 26463 | J11: Total Water Loss | M11: =SUM(M9:M10) -> 194907 | O11: =F16+M7+M11 -> 454803
A12: October | D12: 36208 | F12: 19686
A13: November | D13: 26323 | F13: 19637 | J13: Water Loss Percentage | M13: =M11/M2 -> 0.42855258
A14: December | D14: 29221 | F14: 17164
J15: Allowable in Rates | M15: 0.15
A16: Total | D16: =SUM(D3:D15) -> 454803 | F16: =SUM(F3:F15) -> 257417 | J16: Realized Water Loss Percentage | M16: =M13 -> 0.42855258
J18: Excess Water Expense Adjustment | M18: =M15-M16 -> -0.27855258
D20: Purchased | F20: Purchased
D21: Water | F21: Power | H21: Total
A22: Reported Purchased Water Expense | D22: =SAO!H27 -> 1181206 | F22: =SAO!H28 -> 79640 | H22: =SUM(D22:F22) -> 1260846
A23: Adjustment Percentage | D23: =M18 -> -0.27855258 | F23: =M18 -> -0.27855258 | H23: =M18 -> -0.27855258
A25: Adjustment Excess Water Expense | D25: =D22*D23 -> -329027.98 | F25: =F22*F23 -> -22183.928 | H25: =H22*H23 -> -351211.91 | I25: =D25+F25 -> -351211.91

Sheet BAE
A1: CURRENT BILLING ANALYSIS - 2025 USAGE AND EXISTING RATES.
A2: SOUTH HOPKINS WATER DISTRICT
A4: SUMMARY
F6: Gallons
E7: No. of Bills | F7: Sold | G7: Revenue
A8: 5/8" X 3/4" Meters - Rate 1 | E8: =C31 -> 34972 | F8: =D31 -> 128493560 | G8: =F42 -> 1323724.4
A9: 5/8" X 3/4" Meters - Rate 2 | E9: =C54 -> 180 | F9: =D54 -> 928020 | G9: =F65 -> 10337.952 | N9: =G10+G11+G12 -> 344505.52
A10: 1" Meters | E10: =C76 -> 342 | F10: =D76 -> 16565030 | G10: =F86 -> 131389.6
A11: 2" Meters | E11: =C96 -> 146 | F11: =D96 -> 21278310 | G11: =F105 -> 153037.5
A12: 3" Meters | E12: =C114 -> 24 | F12: =D114 -> 8800531 | G12: =F122 -> 60078.422
A13: Wholesale Rates | E13: 12 | F13: =B126 -> 80828871 | G13: =E126 -> 360496.76
D15: Totals | E15: =SUM(E8:E13) -> 35676 | F15: =SUM(F8:F13) -> 256894322 | G15: =SUM(G8:G13) -> 2039064.6
D16: Water Sales from Annual Report | G16: 1892957
G18: =G15-G16 -> 146107.6 | H18: Revenue PWA Increase | N18: =G18+SAO!H15 -> 465040.6 | Q18: =G18/G15 -> 0.071654229
Q19: =G18/G16 -> 0.07718485
A21: 5/8" X 3/4" METERS - RATE 1
E23: First | F23: Next | G23: Next | H23: Next | I23: Over
B24: Usage | C24: Bills | D24: Gallons | E24: =B25 -> 1000 | F24: =B26 -> 9000 | G24: =B27 -> 10000 | H24: =B28 -> 30000 | I24: =B29 -> 50000 | J24: Total
A25: First | B25: 1000 | C25: 7585 | D25: 2664512 | E25: 2664512 | J25: =SUM(E25:I25) -> 2664512
A26: Next | B26: 9000 | C26: 25850 | D26: 89211995 | E26: 25850000 | F26: 63361995 | J26: =SUM(E26:I26) -> 89211995
A27: Next | B27: 10000 | C27: 1119 | D27: 14892494 | E27: 1119000 | F27: 10071000 | G27: 3702494 | J27: =SUM(E27:I27) -> 14892494
A28: Next | B28: 30000 | C28: 315 | D28: 9079989 | E28: 315000 | F28: 2835000 | G28: 3150000 | H28: 2779989 | J28: =SUM(E28:I28) -> 9079989
A29: Over | B29: 50000 | C29: 103 | D29: 12644570 | E29: 103000 | F29: 927000 | G29: 1030000 | H29: 3090000 | I29: 7494570 | J29: =SUM(E29:I29) -> 12644570
A31: Totals | C31: =SUM(C25:C29) -> 34972 | D31: =SUM(D25:D29) -> 128493560 | E31: =SUM(E25:E29) -> 30051512 | F31: =SUM(F25:F29) -> 77194995 | G31: =SUM(G25:G29) -> 7882494 | H31: =SUM(H25:H29) -> 5869989 | I31: =SUM(I25:I29) -> 7494570 | J31: =SUM(J25:J29) -> 128493560 | L31: =J31/C31 -> 3674.1839 | M31: Avg
A33: 5/8" X 3/4" METERS - RATE 1 REVENUE BY RATE INCREMENT
B35: Usage | C35: Bills | D35: Gallons | E35: Rates | F35: Revenue
A36: First | B36: =B25 -> 1000 | C36: =C31 -> 34972 | D36: =E31 -> 30051512 | E36: 14.52 | F36: =C36*E36 -> 507793.44
A37: Next | B37: =B26 -> 9000 | D37: =F31 -> 77194995 | E37: 8.53 | F37: =(D37*E37)/1000 -> 658473.31
A38: Next | B38: =B27 -> 10000 | D38: =G31 -> 7882494 | E38: 8.04 | F38: =(D38*E38)/1000 -> 63375.252
A39: Next | B39: =B28 -> 30000 | D39: =H31 -> 5869989 | E39: 7.55 | F39: =(D39*E39)/1000 -> 44318.417
A40: Over | B40: =B29 -> 50000 | D40: =I31 -> 7494570 | E40: 6.64 | F40: =(D40*E40)/1000 -> 49763.945
A42: Totals | C42: =SUM(C36:C40) -> 34972 | D42: =SUM(D36:D40) -> 128493560 | F42: =SUM(F36:F40) -> 1323724.4
A44: 5/8" X 3/4" METERS - RATE 2
E46: First | F46: Next | G46: Next | H46: Next | I46: Over
B47: Usage | C47: Bills | D47: Gallons | E47: =B48 -> 1000 | F47: =B49 -> 8000 | G47: =B50 -> 10000 | H47: =B51 -> 30000 | I47: =B52 -> 50000 | J47: Total
A48: First | B48: 1000 | C48: 39 | D48: 41690 | E48: 41690 | J48: =SUM(E48:I48) -> 41690
A49: Next | B49: 8000 | C49: 117 | D49: 560340 | E49: 234000 | F49: 326340 | J49: =SUM(E49:I49) -> 560340
A50: Next | B50: 10000 | C50: 22 | D50: 281810 | E50: 44000 | F50: 176000 | G50: 61810 | J50: =SUM(E50:I50) -> 281810
A51: Next | B51: 30000 | C51: 2 | D51: 44180 | E51: 4000 | F51: 16000 | G51: 20000 | H51: 4180 | J51: =SUM(E51:I51) -> 44180
A52: Over | B52: 50000 | C52: 0 | D52: 0 | E52: 0 | F52: 0 | G52: 0 | H52: 0 | I52: 0 | J52: =SUM(E52:I52) -> 0
...

Sheet BAP
A1: CURRENT BILLING ANALYSIS - 2025 USAGE AND PROPOSED RATES.
A2: SOUTH HOPKINS WATER DISTRICT
A4: SUMMARY
F6: Gallons
E7: No. of Bills | F7: Sold | G7: Revenue
A8: 5/8" X 3/4" Meters - Rate 1 | E8: =C31 -> 34972 | F8: =D31 -> 128493560 | G8: =F42 -> 1348071.8
A9: 5/8" X 3/4" Meters - Rate 2 | E9: =C54 -> 180 | F9: =D54 -> 928020 | G9: =F65 -> 10527.343
A10: 1" Meters | E10: =C76 -> 342 | F10: =D76 -> 16565030 | G10: =F86 -> 133791.47
A11: 2" Meters | E11: =C96 -> 146 | F11: =D96 -> 21278310 | G11: =F105 -> 155817.07
A12: 3" Meters | E12: =C114 -> 24 | F12: =D114 -> 8800531 | G12: =F122 -> 61165.647
A13: Wholesale Rates | E13: 12 | F13: 80828871 | G13: =E126 -> 366963.07
D15: Totals | E15: =SUM(E8:E13) -> 35676 | F15: =SUM(F8:F13) -> 256894322 | G15: =SUM(G8:G13) -> 2076336.4
A21: 5/8" X 3/4" METERS - RATE 1
E23: First | F23: Next | G23: Next | H23: Next | I23: Over
B24: Usage | C24: Bills | D24: Gallons | E24: =B25 -> 1000 | F24: =B26 -> 9000 | G24: =B27 -> 10000 | H24: =B28 -> 30000 | I24: =B29 -> 50000 | J24: Total
A25: First | B25: 1000 | C25: 7585 | D25: 2664512 | E25: 2664512 | J25: =SUM(E25:I25) -> 2664512
A26: Next | B26: 9000 | C26: 25850 | D26: 89211995 | E26: 25850000 | F26: 63361995 | J26: =SUM(E26:I26) -> 89211995
A27: Next | B27: 10000 | C27: 1119 | D27: 14892494 | E27: 1119000 | F27: 10071000 | G27: 3702494 | J27: =SUM(E27:I27) -> 14892494
A28: Next | B28: 30000 | C28: 315 | D28: 9079989 | E28: 315000 | F28: 2835000 | G28: 3150000 | H28: 2779989 | J28: =SUM(E28:I28) -> 9079989
A29: Over | B29: 50000 | C29: 103 | D29: 12644570 | E29: 103000 | F29: 927000 | G29: 1030000 | H29: 3090000 | I29: 7494570 | J29: =SUM(E29:I29) -> 12644570
A31: Totals | C31: =SUM(C25:C29) -> 34972 | D31: =SUM(D25:D29) -> 128493560 | E31: =SUM(E25:E29) -> 30051512 | F31: =SUM(F25:F29) -> 77194995 | G31: =SUM(G25:G29) -> 7882494 | H31: =SUM(H25:H29) -> 5869989 | I31: =SUM(I25:I29) -> 7494570 | J31: =SUM(J25:J29) -> 128493560
A33: 5/8" X 3/4" METERS - RATE 1 REVENUE BY RATE INCREMENT
B35: Usage | C35: Bills | D35: Gallons | E35: Rates | F35: Revenue
A36: First | B36: =B25 -> 1000 | C36: =C31 -> 34972 | D36: =E31 -> 30051512 | E36: =ProposedRates!N8 -> 14.78 | F36: =C36*E36 -> 516886.16
A37: Next | B37: =B26 -> 9000 | D37: =F31 -> 77194995 | E37: =ProposedRates!N9*1000 -> 8.69 | F37: =(D37*E37)/1000 -> 670824.51
A38: Next | B38: =B27 -> 10000 | D38: =G31 -> 7882494 | E38: =ProposedRates!N10*1000 -> 8.19 | F38: =(D38*E38)/1000 -> 64557.626
A39: Next | B39: =B28 -> 30000 | D39: =H31 -> 5869989 | E39: =ProposedRates!N11*1000 -> 7.69 | F39: =(D39*E39)/1000 -> 45140.215
A40: Over | B40: =B29 -> 50000 | D40: =I31 -> 7494570 | E40: =ProposedRates!N12*1000 -> 6.76 | F40: =(D40*E40)/1000 -> 50663.293
A42: Totals | C42: =SUM(C36:C40) -> 34972 | D42: =SUM(D36:D40) -> 128493560 | F42: =SUM(F36:F40) -> 1348071.8
A44: 5/8" X 3/4" METERS - RATE 2
E46: First | F46: Next | G46: Next | H46: Next | I46: Over
B47: Usage | C47: Bills | D47: Gallons | E47: =B48 -> 1000 | F47: =B49 -> 8000 | G47: =B50 -> 10000 | H47: =B51 -> 30000 | I47: =B52 -> 50000 | J47: Total
A48: First | B48: 1000 | C48: 39 | D48: 41690 | E48: 41690 | J48: =SUM(E48:I48) -> 41690
A49: Next | B49: 8000 | C49: 117 | D49: 560340 | E49: 234000 | F49: 326340 | J49: =SUM(E49:I49) -> 560340
A50: Next | B50: 10000 | C50: 22 | D50: 281810 | E50: 44000 | F50: 176000 | G50: 61810 | J50: =SUM(E50:I50) -> 281810
A51: Next | B51: 30000 | C51: 2 | D51: 44180 | E51: 4000 | F51: 16000 | G51: 20000 | H51: 4180 | J51: =SUM(E51:I51) -> 44180
A52: Over | B52: 50000 | C52: 0 | D52: 0 | E52: 0 | F52: 0 | G52: 0 | H52: 0 | I52: 0 | J52: =SUM(E52:I52) -> 0
A54: Totals | C54: =SUM(C48:C52) -> 180 | D54: =SUM(D48:D52) -> 928020 | E54: =SUM(E48:E52) -> 323690 | F54: =SUM(F48:F52) -> 518340 | G54: =SUM(G48:G52) -> 81810 | H54: =SUM(H48:H52) -> 4180 | I54: =SUM(I48:I52) -> 0 | J54: =SUM(J48:J52) -> 928020
A56: 5/8" X 3/4" METERS - RATE 2 REVENUE BY RATE INCREMENT
B58: Usage | C58: Bills | D58: Gallons | E58: Rates | F58: Revenue
...

Sheet ProposedRates
B4: CURRENT AND PROPOSED RATES
B5: Current Rates | J5: Proposed Rates | Q5: Change ($) | R5: Change (%) | T5: Proposed Increase
T6: ='RR-OR'!G14 -> 0.018226167
B7: 5/8" x 3/4" Meter | J7: 5/8" x 3/4" Meter
B8: First | D8: 1000 | F8: 14.52 | G8: Minimum Bill | J8: First | L8: 1000 | N8: =ROUND(F8*(1+$T$6),2) -> 14.78 | O8: Minimum Bill | Q8: =N8-F8 -> 0.26 | R8: =Q8/F8 -> 0.017906336
B9: Next | D9: 9000 | F9: 0.00853 | G9: per gallon | J9: Next | L9: 9000 | N9: =ROUND(F9*(1+$T$6),5) -> 0.00869 | O9: per gallon | Q9: =N9-F9 -> 0.00016 | R9: =Q9/F9 -> 0.018757327
B10: Next | D10: 10000 | F10: 0.00804 | G10: per gallon | J10: Next | L10: 10000 | N10: =ROUND(F10*(1+$T$6),5) -> 0.00819 | O10: per gallon | Q10: =N10-F10 -> 0.00015 | R10: =Q10/F10 -> 0.018656716
B11: Next | D11: 30000 | F11: 0.00755 | G11: per gallon | J11: Next | L11: 30000 | N11: =ROUND(F11*(1+$T$6),5) -> 0.00769 | O11: per gallon | Q11: =N11-F11 -> 0.00014 | R11: =Q11/F11 -> 0.018543046
B12: Over | D12: 50000 | F12: 0.00664 | G12: per gallon | J12: Over | L12: 50000 | N12: =ROUND(F12*(1+$T$6),5) -> 0.00676 | O12: per gallon | Q12: =N12-F12 -> 0.00012 | R12: =Q12/F12 -> 0.018072289
W13: Customer | X13: Average Usage (gals) | Y13: Monthly Bill at Current Rates | Z13: Monthly Bill at Proposed Rates | AA13: Monthly Bill Increase (%) | AB13: $ Increase
B14: 1" Meter | J14: 1" Meter
B15: First | D15: 10000 | F15: 91.26 | G15: Minimum Bill | J15: First | L15: 10000 | N15: =ROUND(F15*(1+$T$6),5) -> 92.92332 | O15: Minimum Bill | Q15: =N15-F15 -> 1.66332 | R15: =Q15/F15 -> 0.018226167 | W15: 5/8" x 3/4" meter | X15: =BAE!L31 -> 3674.1839 | Y15: =F8+(F9*2674) -> 37.32922 | Z15: =N8+(N9*2674) -> 38.01706 | AA15: =(Z15-Y15)/Y15 -> 0.018426316 | AB15: =Z15-Y15 -> 0.68784
B16: Next | D16: 10000 | F16: 0.00804 | G16: per gallon | J16: Next | L16: 10000 | N16: =ROUND(F16*(1+$T$6),5) -> 0.00819 | O16: per gallon | Q16: =N16-F16 -> 0.00015 | R16: =Q16/F16 -> 0.018656716 | W16: 1" meter | X16: =BAE!L76 -> 48435.76 | Y16: =F15+(F16*10000)+(F17*28436) -> 386.3518 | Z16: =N15+(N16*10000)+(N17*28436) -> 393.49616 | AA16: =(Z16-Y16)/Y16 -> 0.018491851 | AB16: =Z16-Y16 -> 7.14436
B17: Next | D17: 30000 | F17: 0.00755 | G17: per gallon | J17: Next | L17: 30000 | N17: =ROUND(F17*(1+$T$6),5) -> 0.00769 | O17: per gallon | Q17: =N17-F17 -> 0.00014 | R17: =Q17/F17 -> 0.018543046 | W17: 2" meter | X17: =BAE!L96 -> 145741.85 | Y17: =F21+(F22*30000)+(F23*95742) -> 1033.8069 | Z17: =N21+(N22*30000)+(N23*95742) -> 1052.6232 | AA17: =(Z17-Y17)/Y17 -> 0.018200972 | AB17: =Z17-Y17 -> 18.81629
B18: Over | D18: 50000 | F18: 0.00664 | G18: per gallon | J18: Over | L18: 50000 | N18: =ROUND(F18*(1+$T$6),5) -> 0.00676 | O18: per gallon | Q18: =N18-F18 -> 0.00012 | R18: =Q18/F18 -> 0.018072289 | W18: 3" meter | X18: =BAE!L114 -> 366688.79 | Y18: =F26+(F27*AC18) -> 2500.9436 | Z18: =N26+(N27*AC18) -> 2546.2026 | AA18: =(Z18-Y18)/Y18 -> 0.018096784 | AB18: =Z18-Y18 -> 45.259035 | AC18: =X18-D26 -> 316688.79
W19: Wholesale | X19: =BAE!L126 -> 6735739.2 | Y19: =F30*X19 -> 30041.397 | Z19: =N30*X19 -> 30580.256 | AA19: =(Z19-Y19)/Y19 -> 0.01793722 | AB19: =Z19-Y19 -> 538.85914
B20: 2" Meter | J20: 2" Meter
B21: First | D21: 20000 | F21: 171.58 | G21: Minimum Bill | J21: First | L21: 20000 | N21: =ROUND(F21*(1+$T$6),5) -> 174.70725 | O21: Minimum Bill | Q21: =N21-F21 -> 3.12725 | R21: =Q21/F21 -> 0.018226192
B22: Next | D22: 30000 | F22: 0.00755 | G22: per gallon | J22: Next | L22: 30000 | N22: =ROUND(F22*(1+$T$6),5) -> 0.00769 | O22: per gallon | Q22: =N22-F22 -> 0.00014 | R22: =Q22/F22 -> 0.018543046
B23: Over | D23: 50000 | F23: 0.00664 | G23: per gallon | J23: Over | L23: 50000 | N23: =ROUND(F23*(1+$T$6),5) -> 0.00676 | O23: per gallon | Q23: =N23-F23 -> 0.00012 | R23: =Q23/F23 -> 0.018072289
B25: 3" Meter | J25: 3" Meter
B26: First | D26: 50000 | F26: 398.13 | G26: Minimum Bill | J26: First | L26: 50000 | N26: =ROUND(F26*(1+$T$6),5) -> 405.38638 | O26: Minimum Bill | Q26: =N26-F26 -> 7.25638 | R26: =Q26/F26 -> 0.018226157
B27: Over | D27: 50000 | F27: 0.00664 | G27: per gallon | J27: Over | L27: 50000 | N27: =ROUND(F27*(1+$T$6),5) -> 0.00676 | O27: per gallon | Q27: =N27-F27 -> 0.00012 | R27: =Q27/F27 -> 0.018072289
B29: Wholesale Rates | J29: Wholesale Rates
B30: All | F30: 0.00446 | G30: per gallon | J30: All | N30: =ROUND(F30*(1+$T$6),5) -> 0.00454 | O30: per gallon | Q30: =N30-F30 -> 8e-05 | R30: =Q30/F30 -> 0.01793722

Sheet USDALoan
A1: PMT YEAR | B1: UNPAID BALANCE | C1: INT DUE | D1: PRINCIPAL DUE | E1: TOTAL PAYMENT | F1: INTEREST DUE 7/1 | G1: TOTAL DEBT SERVICE
A3: 1997 | B3: 670000 | C3: 15075 | D3: 0 | E3: =C3+D3 -> 15075 | F3: 15075 | G3: =F3+E3 -> 30150
A4: 1998 | B4: 670000 | C4: =F3 -> 15075 | D4: 6000 | E4: =C4+D4 -> 21075 | F4: 14940 | G4: =F4+E4 -> 36015
A5: 1999 | B5: =B4-D4 -> 664000 | C5: =F4 -> 14940 | D5: 7000 | E5: =C5+D5 -> 21940 | F5: 14783 | G5: =F5+E5 -> 36723
A6: 2000 | B6: =B5-D5 -> 657000 | C6: =F5 -> 14783 | D6: 7000 | E6: =C6+D6 -> 21783 | F6: 14625 | G6: =F6+E6 -> 36408
A7: 2001 | B7: =B6-D6 -> 650000 | C7: =F6 -> 14625 | D7: 7000 | E7: =C7+D7 -> 21625 | F7: 14468 | G7: =F7+E7 -> 36093
A8: 2002 | B8: =B7-D7 -> 643000 | C8: =F7 -> 14468 | D8: 8000 | E8: =C8+D8 -> 22468 | F8: 14288 | G8: =F8+E8 -> 36756
A9: 2003 | B9: =B8-D8 -> 635000 | C9: =F8 -> 14288 | D9: 8000 | E9: =C9+D9 -> 22288 | F9: 14108 | G9: =F9+E9 -> 36396
A10: 2004 | B10: =B9-D9 -> 627000 | C10: =F9 -> 14108 | D10: 8000 | E10: =C10+D10 -> 22108 | F10: 13928 | G10: =F10+E10 -> 36036
A11: 2005 | B11: =B10-D10 -> 619000 | C11: =F10 -> 13928 | D11: 9000 | E11: =C11+D11 -> 22928 | F11: 13725 | G11: =F11+E11 -> 36653
A12: 2006 | B12: =B11-D11 -> 610000 | C12: =F11 -> 13725 | D12: 9000 | E12: =C12+D12 -> 22725 | F12: 13523 | G12: =F12+E12 -> 36248
A13: 2007 | B13: =B12-D12 -> 601000 | C13: =F12 -> 13523 | D13: 10000 | E13: =C13+D13 -> 23523 | F13: 13298 | G13: =F13+E13 -> 36821
A14: 2008 | B14: =B13-D13 -> 591000 | C14: =F13 -> 13298 | D14: 10000 | E14: =C14+D14 -> 23298 | F14: 13073 | G14: =F14+E14 -> 36371
A15: 2009 | B15: =B14-D14 -> 581000 | C15: =F14 -> 13073 | D15: 11000 | E15: =C15+D15 -> 24073 | F15: 12825 | G15: =F15+E15 -> 36898
A16: 2010 | B16: =B15-D15 -> 570000 | C16: =F15 -> 12825 | D16: 11000 | E16: =C16+D16 -> 23825 | F16: 12578 | G16: =F16+E16 -> 36403
A17: 2011 | B17: =B16-D16 -> 559000 | C17: =F16 -> 12578 | D17: 12000 | E17: =C17+D17 -> 24578 | F17: 12308 | G17: =F17+E17 -> 36886
A18: 2012 | B18: =B17-D17 -> 547000 | C18: =F17 -> 12308 | D18: 12000 | E18: =C18+D18 -> 24308 | F18: 12038 | G18: =F18+E18 -> 36346 | N18: Loan #91-01(WEP-1-1)
A19: 2013 | B19: =B18-D18 -> 535000 | C19: =F18 -> 12038 | D19: 13000 | E19: =C19+D19 -> 25038 | F19: 11745 | G19: =F19+E19 -> 36783 | O19: Principal | P19: Interest | Q19: Total Payment
A20: 2014 | B20: =B19-D19 -> 522000 | C20: =F19 -> 11745 | D20: 14000 | E20: =C20+D20 -> 25745 | F20: 11430 | G20: =F20+E20 -> 37175 | N20: 2027 | O20: 25000 | P20: =6322.5+5760 -> 12082.5 | Q20: =O20+P20 -> 37082.5
A21: 2015 | B21: =B20-D20 -> 508000 | C21: =F20 -> 11430 | D21: 14000 | E21: =C21+D21 -> 25430 | F21: 11115 | G21: =F21+E21 -> 36545 | N21: 2028 | O21: 27000 | P21: =5760+5152.5 -> 10912.5 | Q21: =O21+P21 -> 37912.5
A22: 2016 | B22: =B21-D21 -> 494000 | C22: =F21 -> 11115 | D22: 15000 | E22: =C22+D22 -> 26115 | F22: 10778 | G22: =F22+E22 -> 36893 | N22: 2029 | O22: 28000 | P22: =5152.5+4522.5 -> 9675 | Q22: =O22+P22 -> 37675
A23: 2017 | B23: =B22-D22 -> 479000 | C23: =F22 -> 10778 | D23: 16000 | E23: =C23+D23 -> 26778 | F23: 10418 | G23: =F23+E23 -> 37196
A24: 2018 | B24: =B23-D23 -> 463000 | C24: =F23 -> 10418 | D24: 16000 | E24: =C24+D24 -> 26418 | F24: 10058 | G24: =F24+E24 -> 36476 | N24: Loan #91-05(WEP-2-1)
A25: 2019 | B25: =B24-D24 -> 447000 | C25: =F24 -> 10058 | D25: 18000 | E25: =C25+D25 -> 28058 | F25: 9653 | G25: =F25+E25 -> 37711 | O25: Principal | P25: Interest | Q25: Total Payment
A26: 2020 | B26: =B25-D25 -> 429000 | C26: =F25 -> 9653 | D26: 18000 | E26: =C26+D26 -> 27653 | F26: 9248 | G26: =F26+E26 -> 36901 | N26: 2027 | O26: 3700 | P26: =911.25+828 -> 1739.25 | Q26: =O26+P26 -> 5439.25
A27: 2021 | B27: =B26-D26 -> 411000 | C27: =F26 -> 9248 | D27: 19000 | E27: =C27+D27 -> 28248 | F27: 8820 | G27: =F27+E27 -> 37068 | N27: 2028 | O27: 3900 | P27: =828+740.25 -> 1568.25 | Q27: =O27+P27 -> 5468.25
A28: 2022 | B28: =B27-D27 -> 392000 | C28: =F27 -> 8820 | D28: 20000 | E28: =C28+D28 -> 28820 | F28: 8370 | G28: =F28+E28 -> 37190 | N28: 2029 | O28: 4100 | P28: =740.25+648 -> 1388.25 | Q28: =O28+P28 -> 5488.25
A29: 2023 | B29: =B28-D28 -> 372000 | C29: =F28 -> 8370 | D29: 21000 | E29: =C29+D29 -> 29370 | F29: 7898 | G29: =F29+E29 -> 37268
A30: 2024 | B30: =B29-D29 -> 351000 | C30: =F29 -> 7898 | D30: 22000 | E30: =C30+D30 -> 29898 | F30: 7403 | G30: =F30+E30 -> 37301
A31: 2025 | B31: =B30-D30 -> 329000 | C31: =F30 -> 7403 | D31: 23000 | E31: =C31+D31 -> 30403 | F31: 6885 | G31: =F31+E31 -> 37288
A32: 2026 | B32: =B31-D31 -> 306000 | C32: =F31 -> 6885 | D32: 25000 | E32: =C32+D32 -> 31885 | F32: 6323 | G32: =F32+E32 -> 38208 | I32: 3 - Year Principle & Interest Payments | N32: Revised Amortization Payment Schedule
A33: 2027 | B33: =B32-D32 -> 281000 | C33: =F32 -> 6323 | D33: 25000 | E33: =C33+D33 -> 31323 | F33: 5760 | G33: =F33+E33 -> 37083 | I33: 2027 | K33: =C33+D33+F33 -> 37083 | N33: 2027 | P33: =Q20+Q26 -> 42521.75
A34: 2028 | B34: =B33-D33 -> 256000 | C34: =F33 -> 5760 | D34: 27000 | E34: =C34+D34 -> 32760 | F34: 5153 | G34: =F34+E34 -> 37913 | I34: 2028 | K34: =C34+D34+F34 -> 37913 | N34: 2028 | P34: =Q21+Q27 -> 43380.75
A35: 2029 | B35: =B34-D34 -> 229000 | C35: =F34 -> 5153 | D35: 28000 | E35: =C35+D35 -> 33153 | F35: 4523 | G35: =F35+E35 -> 37676 | I35: 2029 | K35: =C35+D35+F35 -> 37676 | N35: 2029 | P35: =Q22+Q28 -> 43163.25
A36: 2030 | B36: =B35-D35 -> 201000 | C36: =F35 -> 4523 | D36: 30000 | E36: =C36+D36 -> 34523 | F36: 3848 | G36: =F36+E36 -> 38371
A37: 2031 | B37: =B36-D36 -> 171000 | C37: =F36 -> 3848 | D37: 31000 | E37: =C37+D37 -> 34848 | F37: 3150 | G37: =F37+E37 -> 37998 | I37: Total | K37: =SUM(K33:K36) -> 112672 | N37: Total | P37: =SUM(P33:P36) -> 129065.75
A38: 2032 | B38: =B37-D37 -> 140000 | C38: =F37 -> 3150 | D38: 33000 | E38: =C38+D38 -> 36150 | F38: 2408 | G38: =F38+E38 -> 38558
A39: 2033 | B39: =B38-D38 -> 107000 | C39: =F38 -> 2408 | D39: 34000 | E39: =C39+D39 -> 36408 | F39: 1643 | G39: =F39+E39 -> 38051 | I39: 3-Year Average | K39: =K37/3 -> 37557.333 | N39: 3-Year Average | P39: =P37/3 -> 43021.917
A40: 2034 | B40: =B39-D39 -> 73000 | C40: =F39 -> 1643 | D40: 36000 | E40: =C40+D40 -> 37643 | F40: 833 | G40: =F40+E40 -> 38476
A41: 2035 | B41: =B40-D40 -> 37000 | C41: =F40 -> 833 | D41: 37000 | E41: =C41+D41 -> 37833 | F41: 0 | G41: =F41+E41 -> 37833 | N41: Difference | P41: =P39-K39 -> 5464.5833

Sheet KIA#B17-011
A1: KENTUCKY INFRASTRUCTURE AUTHORITY
A2: REPAYMENT SCHEDULE
A3: LOAN #B17-011
A4: SOUTH HOPKINS WATER DISTRICT | E4: 1.75% Interest
A5: FINAL | E5: 17984.34 | F5: P & I Calculation
A6: Payment Date | B6: Principal Due | C6: Interest Due | D6: Interest Rate | E6: Principal & Interest | F6: Servicing Fee | G6: Credit Due | H6: Total Payment | I6: Principal Balance | J6: R & M Reserve | K6: Total Reserve
I7: 574674
A8: 12/01/21 | B8: 12061.14 | C8: 5090.94 | D8: 0.0175 | E8: 17152.08 | F8: 574.67 | G8: 0 | H8: 17726.75 | I8: 592070.86 | J8: 1900 | K8: 1900
A9: 06/01/22 | B9: 12803.72 | C9: 5160.14 | D9: 0.0175 | E9: 17963.86 | F9: 562.61 | G9: 0 | H9: 18526.47 | I9: 579267.14 | J9: 0 | K9: 1900
A10: 12/01/22 | B10: 12915.76 | C10: 5068.58 | D10: 0.0175 | E10: 17984.34 | F10: 579.27 | G10: 0 | H10: 18563.61 | I10: 566351.38 | J10: 1900 | K10: 3800
A11: 06/01/23 | B11: 13028.77 | C11: 4955.57 | D11: 0.0175 | E11: 17984.34 | F11: 566.35 | G11: 0 | H11: 18550.69 | I11: 553322.61 | J11: 0 | K11: 3800
A12: 12/01/23 | B12: 13142.77 | C12: 4841.57 | D12: 0.0175 | E12: 17984.34 | F12: 553.32 | G12: 0 | H12: 18537.66 | I12: 540179.84 | J12: 1900 | K12: 5700
A13: 06/01/24 | B13: 13257.76 | C13: 4726.58 | D13: 0.0175 | E13: 17984.34 | F13: 540.18 | G13: 0 | H13: 18524.52 | I13: 526922.08 | J13: 0 | K13: 5700
A14: 12/01/24 | B14: 13373.78 | C14: 4610.56 | D14: 0.0175 | E14: 17984.34 | F14: 526.93 | G14: 0 | H14: 18511.27 | I14: 513548.3 | J14: 1900 | K14: 7600
A15: 06/01/25 | B15: 13490.79 | C15: 4493.55 | D15: 0.0175 | E15: 17984.34 | F15: 513.55 | G15: 0 | H15: 18497.89 | I15: 500057.51 | J15: 0 | K15: 7600
A16: 12/01/25 | B16: 13608.84 | C16: 4375.5 | D16: 0.0175 | E16: 17984.34 | F16: 500.06 | G16: 0 | H16: 18484.4 | I16: 486448.67 | J16: 1900 | K16: 9500
A17: 06/01/26 | B17: 13727.92 | C17: 4256.42 | D17: 0.0175 | E17: 17984.34 | F17: 486.45 | G17: 0 | H17: 18470.79 | I17: 472720.75 | J17: 0 | K17: 9500 | M17: 3 - Year Principle & Interest Payments
A18: 12/01/26 | B18: 13848.03 | C18: 4136.31 | D18: 0.0175 | E18: 17984.34 | F18: 472.72 | G18: 0 | H18: 18457.06 | I18: 458872.72 | J18: 1900 | K18: 11400
A19: 06/01/27 | B19: 13969.2 | C19: 4015.14 | D19: 0.0175 | E19: 17984.34 | F19: 458.87 | G19: 0 | H19: 18443.21 | I19: 444903.52 | J19: 0 | K19: 11400 | M19: 2027 | N19: =H19+H20 -> 36872.46 | P19: =B19+C19+F19 -> 18443.21
A20: 12/01/27 | B20: 14091.43 | C20: 3892.91 | D20: 0.0175 | E20: 17984.34 | F20: 444.91 | G20: 0 | H20: 18429.25 | I20: 430812.09 | J20: 1900 | K20: 13300 | P20: =B20+C20+F20 -> 18429.25
A21: 06/01/28 | B21: 14214.74 | C21: 3769.6 | D21: 0.0175 | E21: 17984.34 | F21: 430.81 | G21: 0 | H21: 18415.15 | I21: 416597.35 | J21: 0 | K21: 13300 | M21: 2028 | N21: =H21+H22 -> 36816.09 | P21: =B21+C21+F21 -> 18415.15
A22: 12/01/28 | B22: 14339.12 | C22: 3645.22 | D22: 0.0175 | E22: 17984.34 | F22: 416.6 | G22: 0 | H22: 18400.94 | I22: 402258.23 | J22: 1900 | K22: 15200 | P22: =B22+C22+F22 -> 18400.94
A23: 06/01/29 | B23: 14464.58 | C23: 3519.76 | D23: 0.0175 | E23: 17984.34 | F23: 402.25 | G23: 0 | H23: 18386.59 | I23: 387793.65 | J23: 0 | K23: 15200 | M23: 2029 | N23: =H23+H24 -> 36758.72 | P23: =B23+C23+F23 -> 18386.59
A24: 12/01/29 | B24: 14591.15 | C24: 3393.19 | D24: 0.0175 | E24: 17984.34 | F24: 387.79 | G24: 0 | H24: 18372.13 | I24: 373202.5 | J24: 1900 | K24: 17100
A25: 06/01/30 | B25: 14718.82 | C25: 3265.52 | D25: 0.0175 | E25: 17984.34 | F25: 373.2 | G25: 0 | H25: 18357.54 | I25: 358483.68 | J25: 0 | K25: 17100 | M25: Total | N25: =SUM(N19:N24) -> 110447.27
A26: 12/01/30 | B26: 14847.61 | C26: 3136.73 | D26: 0.0175 | E26: 17984.34 | F26: 358.49 | G26: 0 | H26: 18342.83 | I26: 343636.07 | J26: 1900 | K26: 19000
A27: 06/01/31 | B27: 14977.53 | C27: 3006.81 | D27: 0.0175 | E27: 17984.34 | F27: 343.64 | G27: 0 | H27: 18327.98 | I27: 328658.54 | J27: 0 | K27: 19000 | M27: 3-Year Average | N27: =N25/3 -> 36815.757
A28: 12/01/31 | B28: 15108.58 | C28: 2875.76 | D28: 0.0175 | E28: 17984.34 | F28: 328.66 | G28: 0 | H28: 18313 | I28: 313549.96 | J28: 1900 | K28: 20900
A29: 06/01/32 | B29: 15240.78 | C29: 2743.56 | D29: 0.0175 | E29: 17984.34 | F29: 313.55 | G29: 0 | H29: 18297.89 | I29: 298309.18 | J29: 0 | K29: 20900
A30: 12/01/32 | B30: 15374.13 | C30: 2610.21 | D30: 0.0175 | E30: 17984.34 | F30: 298.31 | G30: 0 | H30: 18282.65 | I30: 282935.05 | J30: 1900 | K30: 22800
A31: 06/01/33 | B31: 15508.66 | C31: 2475.68 | D31: 0.0175 | E31: 17984.34 | F31: 282.94 | G31: 0 | H31: 18267.28 | I31: 267426.39 | J31: 0 | K31: 22800
A32: 12/01/33 | B32: 15644.36 | C32: 2339.98 | D32: 0.0175 | E32: 17984.34 | F32: 267.43 | G32: 0 | H32: 18251.77 | I32: 251782.03 | J32: 1900 | K32: 24700
A33: 06/01/34 | B33: 15781.25 | C33: 2203.09 | D33: 0.0175 | E33: 17984.34 | F33: 251.78 | G33: 0 | H33: 18236.12 | I33: 236000.78 | J33: 0 | K33: 24700
A34: 12/01/34 | B34: 15919.33 | C34: 2065.01 | D34: 0.0175 | E34: 17984.34 | F34: 236 | G34: 0 | H34: 18220.34 | I34: 220081.45 | J34: 1900 | K34: 26600
A35: 06/01/35 | B35: 16058.63 | C35: 1925.71 | D35: 0.0175 | E35: 17984.34 | F35: 220.08 | G35: 0 | H35: 18204.42 | I35: 204022.82 | J35: 0 | K35: 26600
A36: 12/01/35 | B36: 16199.14 | C36: 1785.2 | D36: 0.0175 | E36: 17984.34 | F36: 204.02 | G36: 0 | H36: 18188.36 | I36: 187823.68 | J36: 1900 | K36: 28500
A37: 06/01/36 | B37: 16340.88 | C37: 1643.46 | D37: 0.0175 | E37: 17984.34 | F37: 187.82 | G37: 0 | H37: 18172.16 | I37: 171482.8 | J37: 0 | K37: 28500
A38: 12/01/36 | B38: 16483.87 | C38: 1500.47 | D38: 0.0175 | E38: 17984.34 | F38: 171.48 | G38: 0 | H38: 18155.82 | I38: 154998.93 | J38: 1900 | K38: 30400
A39: 06/01/37 | B39: 16628.1 | C39: 1356.24 | D39: 0.0175 | E39: 17984.34 | F39: 155 | G39: 0 | H39: 18139.34 | I39: 138370.83 | J39: 0 | K39: 30400
... A47: 06/01/41 | B47: 17828.18 | C47: 156.16 | D47: 0.0175 | E47: 17984.34 | F47: 17.83 | G47: 0 | H47: 18002.17 | I47: 0 | J47: 0 | K47: 38000
...
