Workbook
Name DATE: #REF!
Name NvsElapsedTime: 0.000277777777228039
Name NvsEndTime: 45362.5129976852

Sheet WACC-FairRateReturn
G1: Attachment Rebuttal VVR-2R
G2: Page 1 of 1
A6: Columbia Gas of Kentucky, Inc.
A8: Weighted Average Cost of Capital and Fair Rate of Return
A9: Based on 13-Month Average Capital Sturcture through December 31, 2027
C15: Cap. Struct. | G15: Weighted
A16: Form of Capitalization | C16: Ratios | E16: Cost Rate | G16: Cost Rate
A19: Long-Term Debt | C19: =RateSettCapStruc!Q18 -> 0.461351 | E19: ='Embed. Cost of Debt'!I74 -> 0.05041 | G19: =ROUND(C19*E19,5) -> 0.02326
A20: Short-Term Debt | C20: =RateSettCapStruc!Q30 -> 0.012272 | E20: 0.05 | G20: =ROUND(C20*E20,5) -> 0.00061
A23: Total Common Equity | C23: =RateSettCapStruc!Q26 -> 0.526376 | E23: 0.1095 | G23: =ROUND(C23*E23,5) -> 0.05764
A26: Total Capitalization | C26: =C19+C20+C23 -> 0.999999 | G26: =ROUND(G19+G20+G23,5) -> 0.08151

Sheet RateSettCapStruc
Q1: Attachment Rebuttal VVR-5R
Q2: Page 1 of 1
A4: Columbia Gas of Kentucky, Inc.
A6: Ratesetting Capital Structure and Related Ratios
A7: Actual at February 28, 2026 and Actual at August 31, 2026 and December 31, 2027
O9: Thirteen Month Average
C10: Actual at February 28, 2026 | G10: Actual at August 31, 2026 | K10: Projected at December 31, 2027 | O10: December 31, 2027
E11: Capital | I11: Capital | M11: Capital | Q11: Capital
C12: Amount | E12: Structure | G12: Amount | I12: Structure | K12: Amount | M12: Structure | O12: Amount | Q12: Structure
A13: Form of Capitalization | C13: Outstanding | E13: Ratios | G13: Outstanding | I13: Ratios | K13: Outstanding | M13: Ratios | O13: Outstanding | Q13: Ratios
A16: Long-Term Debt | C16: ='Embed. Cost of Debt'!G28 -> 278000000 | E16: =ROUND(C16/C$32,5) -> 0.44015 | G16: ='Embed. Cost of Debt'!G33 -> 288000000 | I16: =ROUND(G16/G$32,5) -> 0.44614 | K16: ='Embed. Cost of Debt'!G39-K17 -> 343000000 | M16: =ROUND(K16/K$32,5) -> 0.4618 | O16: ='Embed. Cost of Debt'!G72-O17 -> 333461538 | Q16: =ROUND(O16/O$32,6) -> 0.461351
A17: Current Maturities - LT Debt | C17: 0 | E17: =ROUND(C17/C$32,5) -> 0 | G17: 0 | I17: =ROUND(G17/G$32,5) -> 0 | K17: 0 | M17: =ROUND(K17/K$32,5) -> 0 | O17: 0
A18: Total Long-Term Debt | C18: =SUM(C16:C17) -> 278000000 | E18: =SUM(E16:E17) -> 0.44015 | G18: =SUM(G16:G17) -> 288000000 | I18: =SUM(I16:I17) -> 0.44614 | K18: =SUM(K16:K17) -> 343000000 | M18: =SUM(M16:M17) -> 0.4618 | O18: =SUM(O16:O17) -> 333461538 | Q18: =SUM(Q16:Q17) -> 0.461351
A21: Common Equity
A22: Common Stock Issued | C22: 23806200 | G22: 23806200 | K22: 23806200 | O22: 23806200
A23: Additional Paid-In Capital | C23: 58018524 | G23: 58018524 | K23: 58018524 | O23: 58018524
A24: OCI | C24: 0 | G24: 0 | K24: 0 | O24: 0
A25: Retained Earnings | C25: 271497255 | G25: =254286635.51+20219454.75 -> 2.7450609e+08 | K25: 3.0905855e+08 | O25: 2.9863645e+08
A26: Total Common Equity | C26: =SUM(C22:C25) -> 3.5332198e+08 | E26: =ROUND(C26/C$32,5) -> 0.5594 | G26: =SUM(G22:G25) -> 3.5633081e+08 | I26: =ROUND(G26/G$32,5) -> 0.55199 | K26: =SUM(K22:K25) -> 3.9088328e+08 | M26: =ROUND(K26/K$32,5) -> 0.52626 | O26: =SUM(O22:O25) -> 3.8046117e+08 | Q26: =ROUND(O26/O$32,6) -> 0.526376
A28: Total Permanent Capital | C28: =C18+C26 -> 6.3132198e+08 | E28: =E18+E26 -> 0.99955 | G28: =G18+G26 -> 6.4433081e+08 | I28: =I18+I26 -> 0.99813 | K28: =K18+K26 -> 7.3388328e+08 | M28: =M18+M26 -> 0.98806 | O28: =O18+O26 -> 7.1392271e+08 | Q28: =Q18+Q26 -> 0.987727
A30: Short-Term Debt (1) | C30: 287984 | E30: =ROUND(C30/C$32,5) -> 0.00046 | G30: 1209760 | I30: =ROUND(G30/G$32,5) -> 0.00187 | K30: 8870145 | M30: =ROUND(K30/K$32,5) -> 0.01194 | O30: 8870145 | Q30: =ROUND(O30/O$32,6) -> 0.012272
A32: Total Capitalization | C32: =C28+C30 -> 6.3160996e+08 | E32: =E28+E30 -> 1.00001 | G32: =G28+G30 -> 6.4554057e+08 | I32: =I28+I30 -> 1 | K32: =K28+K30 -> 7.4275342e+08 | M32: =M28+M30 -> 1 | O32: =O28+O30 -> 7.2279285e+08 | Q32: =Q28+Q30 -> 0.999999
A35: (1) 13-month average short-term debt balance.
A36: Source: Company provided information.

Sheet Embed. Cost of Debt
K1: Attachment Rebuttal VVR-6R
A2: Columbia Gas of Kentucky, Inc. | K2: Page 1 of 1
A4: Actual at February 28, 2026 and Projected at August 31, 2026 and December 31, 2027
I7: Annual
C8: Maturity | E8: Interest | G8: Principal | I8: Interest
A9: Debt Instrument | C9: Date | E9: Rate | G9: Value | I9: Expense
A11: 6.0200% Notes, due December 16, 2030 | C11: 47833 | E11: 0.0602 | G11: 10000000 | I11: =ROUND(G11*E11,5) -> 602000
A12: 5.7700% Notes, due January 7, 2043 | C12: 52238 | E12: 0.0577 | G12: 20000000 | I12: =ROUND(G12*E12,5) -> 1154000
A13: 6.2000% Notes, due December 23, 2043 | C13: 52588 | E13: 0.062 | G13: 20000000 | I13: =ROUND(G13*E13,5) -> 1240000
A14: 4.4300% Notes, due December 16, 2044 | C14: 52947 | E14: 0.0443 | G14: 5000000 | I14: =ROUND(G14*E14,5) -> 221500
A15: 3.8425% Notes, due September 30, 2046 | C15: 53600 | E15: 0.038425 | G15: 31000000 | I15: =ROUND(G15*E15,5) -> 1191175
A16: 4.6436% Notes, due December 31, 2048 | C16: 54423 | E16: 0.046436 | G16: 13000000 | I16: =ROUND(G16*E16,5) -> 603668
A17: 3.7485% Notes, due December 31, 2049 | C17: 54788 | E17: 0.037485 | G17: 15000000 | I17: =ROUND(G17*E17,5) -> 562275
A18: 3.1742% Notes, due June 30, 2050 | C18: 54969 | E18: 0.031742 | G18: 12000000 | I18: =ROUND(G18*E18,5) -> 380904
A19: 3.2720% Notes, due June 30, 2051 | C19: 55334 | E19: 0.03272 | G19: 22000000 | I19: =ROUND(G19*E19,5) -> 719840
A20: 3.2777% Notes, due September 30, 2051 | C20: 55426 | E20: 0.032777 | G20: 22000000 | I20: =ROUND(G20*E20,5) -> 721094
A21: 3.2671% Notes, due December 31, 2051 | C21: 55518 | E21: 0.032671 | G21: 10000000 | I21: =ROUND(G21*E21,5) -> 326710
A22: 4.1243% Notes, due March 31, 2052 | C22: 55609 | E22: 0.041243 | G22: 8000000 | I22: =ROUND(G22*E22,5) -> 329944
... A27: 5.9187% Notes, due December 31, 2054 | C27: 56614 | E27: 0.059187 | G27: 10000000 | I27: =ROUND(G27*E27,5) -> 591870
A28: Long-Term Debt at February 28, 2026 | G28: =SUM(G11:G27) -> 278000000 | I28: =SUM(I11:I27) -> 13211826
E30: Embedded Cost of Long-Term Debt | I30: =ROUND(I28/G28,5) -> 0.04752
A32: 6.5000% Notes, due June 30, 2056 | C32: 57161 | E32: 0.05946 | G32: 10000000 | I32: =ROUND(G32*E32,5) -> 594600
A33: Long-Term Debt at August 31, 2026 | G33: =G28+G32 -> 288000000 | I33: =I28+SUM(I32:I32) -> 13806426
E35: Embedded Cost of Long-Term Debt | I35: =ROUND(I33/G33,5) -> 0.04794
A37: 6.5000% Notes, due September 30, 2056 | C37: 57253 | E37: 0.066995 | G37: 24000000 | I37: =ROUND(G37*E37,5) -> 1607880
A38: 6.5000% Notes, due March 31, 2057 | C38: 57435 | E38: 0.065 | G38: 31000000 | I38: =ROUND(G38*E38,5) -> 2015000
A39: Long-Term Debt at December 31, 2027 | G39: =G33+SUM(G37:G38) -> 343000000 | I39: =I33+SUM(I37:I38) -> 17429306
E41: Embedded Cost of Long-Term Debt | I41: =ROUND(I39/G39,5) -> 0.05081
A44: Columbia Gas of Kentucky, Inc.
A45: Thirteen Month Average through December 31, 2027
I47: Annual
C48: Maturity | E48: Interest | G48: Principal | I48: Interest
A49: Debt Instrument | C49: Date | E49: Rate | G49: Value | I49: Expense
A51: 6.0200% Notes, due December 16, 2030 | C51: 47833 | E51: 0.0602 | G51: 10000000 | I51: =ROUND(G51*E51,5) -> 602000
A52: 5.7700% Notes, due January 7, 2043 | C52: 52238 | E52: 0.0577 | G52: 20000000 | I52: =ROUND(G52*E52,5) -> 1154000
A53: 6.2000% Notes, due December 23, 2043 | C53: 52588 | E53: 0.062 | G53: 20000000 | I53: =ROUND(G53*E53,5) -> 1240000
A54: 4.4300% Notes, due December 16, 2044 | C54: 52947 | E54: 0.0443 | G54: 5000000 | I54: =ROUND(G54*E54,5) -> 221500
A55: 3.8425% Notes, due September 30, 2046 | C55: 53600 | E55: 0.038425 | G55: 31000000 | I55: =ROUND(G55*E55,5) -> 1191175
A56: 4.6436% Notes, due December 31, 2048 | C56: 54423 | E56: 0.046436 | G56: 13000000 | I56: =ROUND(G56*E56,5) -> 603668
A57: 3.7485% Notes, due December 31, 2049 | C57: 54788 | E57: 0.037485 | G57: 15000000 | I57: =ROUND(G57*E57,5) -> 562275
...
