Workbook

Sheet RR Change
A1: Kentucky American Water
A2: Case No. 2026-00094
A3: KAW_R_PSCDR5_NUM010_100126_Attachment
A4: Summary of Revenue Requirement Calculation - Removing Black Mountain
A7: Item | C7: Amount Attributable to Black Mountain | E7: Gross Revenue Conversion Factor | F7: Requested Revenue Increase Change | H7: Requested Revenue Increase | I7: Explanation
A8: Base Period Update | H8: ='BY Update vs Removal of BM'!C24 -> 17669653
A10: Revenues:
A11: Present Rate Revenues | C11: =-'BY Update vs Removal of BM'!D9 -> 1829300.8 | E11: ='BY Update vs Removal of BM'!B23 -> 1.3428906 | F11: =C11*E11 -> 2456550.9 | H11: =H8+F11 -> 20126204 | I11: Removal of revenues associated with Black Mountain
A13: O&M Expense:
A14: Production Costs | C14: -1435723 | E14: =E11 -> 1.3428906 | F14: =C14*E14 -> -1928018.9 | H14: =H11+F14 -> 18198185 | I14: Update to production cost expense related to the removal of Black Mountain acquisition adjustments
A15: Labor & Related Expense | C15: -708537 | E15: =E14 -> 1.3428906 | F15: =C15*E15 -> -951487.69 | H15: =H14+F15 -> 17246697 | I15: Removal of labor & related expense associated with Black Mountain employees
A16: Uncollectible Expense | C16: -11239 | E16: =E15 -> 1.3428906 | F16: =C16*E16 -> -15092.748 | H16: =H15+F16 -> 17231605 | I16: Update to uncollectible expense related to the removal of Black Mountain revenues
A17: Other O&M | C17: -379790.58 | E17: =E16 -> 1.3428906 | F17: =C17*E17 -> -510017.21 | H17: =H16+F17 -> 16721587 | I17: Update to expense levels related to the removal of Black Mountain acquisition adjustments (including contract services, office supplies & services, miscellaneous expense, transportation, customer accounting, and maintenance supplies & services)
A19: General/Income Taxes:
A20: Current State Income Tax | C20: ='BY Update vs Removal of BM'!D13 -> 42512.77 | E20: =E17 -> 1.3428906 | F20: =C20*E20 -> 57089.999 | H20: =H17+F20 -> 16778677 | I20: Revenue requirement update
A21: Current Federal Income Tax | C21: ='BY Update vs Removal of BM'!D14 -> 169625.95 | E21: =E17 -> 1.3428906 | F21: =C21*E21 -> 227789.1 | H21: =H20+F21 -> 17006467 | I21: Revenue requirement update
A22: General Taxes | C22: ='BY Update vs Removal of BM'!D16 -> -55873 | E22: =E21 -> 1.3428906 | F22: =C22*E22 -> -75031.327 | H22: =H21+F22 -> 16931435 | I22: Update to property tax expense related to the adjustment to rate base (UPIS) noted below as well as to payroll tax expense related to the removal of Black Mountain's employees
A24: Depreciation & Amortizations:
A25: Depreciation | C25: ='BY Update vs Removal of BM'!D11 -> -41959.466 | E25: =E22 -> 1.3428906 | F25: =C25*E25 -> -56346.973 | H25: =H22+F25 -> 16875088 | I25: Update to depreciation expense related to the removal of UPIS balances associated with Black Mountain
A26: Amortization | C26: ='BY Update vs Removal of BM'!D12 -> -19116.27 | E26: =E25 -> 1.3428906 | F26: =C26*E26 -> -25671.06 | H26: =H25+F26 -> 16849417 | I26: Update to amortization expense related to the removal of Black Mountain deferred tank painting
A28: Rate Base:
A29: UPIS & other Rate Base items | C29: ='BY Update vs Removal of BM'!D21 -> -96307.935 | E29: =E26 -> 1.3428906 | F29: =C29*E29 -> -129331.02 | H29: =H26+F29 -> 16720086 | I29: Removal of UPIS and other rate base related items associated with Black Mountain
A31: Difference | H31: =H29-H8 -> -949566.97
A33: Revenue Requirement - Excluding Black Mountain | H33: ='BY Update vs Removal of BM'!B24 -> 16720086
A34: Variance | H34: =H29-H33 -> 0

Sheet BY Update vs Removal of BM
A1: Kentucky American Water
A2: Case No. 2026-00094
A3: KAW_R_PSCDR5_NUM010_100126_Attachment
A4: Summary of Revenue Requirement - Base Year Update vs Removal of Black Mountain
B7: Base Period Update
B8: Excluding Black Mountain | C8: Base Period Update | D8: Variance
A9: Revenues (Present Rate) | B9: ='RR - Excluding Black Mtn'!F15 -> 1.6065424e+08 | C9: ='RR - Base Period Update'!F18 -> 1.6248354e+08 | D9: =B9-C9 -> -1829300.8
A10: O&M | B10: ='RR - Excluding Black Mtn'!F18 -> 57175918 | C10: ='RR - Base Period Update'!F21 -> 59711207 | D10: =B10-C10 -> -2535289.6
A11: Depreciation | B11: ='RR - Excluding Black Mtn'!F19 -> 37845102 | C11: ='RR - Base Period Update'!F22 -> 37887061 | D11: =B11-C11 -> -41959.466
A12: Amortization | B12: ='RR - Excluding Black Mtn'!F20+'RR - Excluding Black Mtn'!F21 -> 2562.67 | C12: ='RR - Base Period Update'!F23+'RR - Base Period Update'!F24 -> 21678.94 | D12: =B12-C12 -> -19116.27
A13: State Income Taxes | B13: ='RR - Excluding Black Mtn'!F22 -> 1860616.2 | C13: ='RR - Base Period Update'!F25 -> 1818103.4 | D13: =B13-C13 -> 42512.77
A14: Federal Income Taxes | B14: ='RR - Excluding Black Mtn'!F23 -> 6249243.3 | C14: ='RR - Base Period Update'!F26 -> 6079617.4 | D14: =B14-C14 -> 169625.95
A15: Investment Tax Credits | B15: 0 | C15: 0 | D15: =B15-C15 -> 0
A16: General Taxes | B16: ='RR - Excluding Black Mtn'!F25 -> 11731042 | C16: ='RR - Base Period Update'!F28 -> 11786915 | D16: =B16-C16 -> -55873
A17: Present Rates Operating Income | B17: =B9-SUM(B10:B16) -> 45789758 | C17: 45178959 | D17: =B17-C17 -> 610798.78
A19: Rate Base | B19: ='RR - Excluding Black Mtn'!F34 -> 7.3629046e+08 | C19: ='RR - Base Period Update'!F37 -> 7.37508e+08 | D19: =B19-C19 -> -1217546.6
A20: Rate of Return | B20: ='RR - Excluding Black Mtn'!F35 -> 0.0791 | C20: ='RR - Base Period Update'!F38 -> 0.0791 | D20: =B20-C20 -> 0
A21: Operating Income | B21: =B19*B20 -> 58240575 | C21: =C19*C20 -> 58336883 | D21: =B21-C21 -> -96307.935
A22: Less Present Rates Operating Income | B22: =B21-B17 -> 12450818 | C22: =C21-C17 -> 13157924 | D22: =B22-C22 -> -707106.71
A23: Gross Revenue Conversion Factor | B23: ='RR - Excluding Black Mtn'!F43 -> 1.3428906 | C23: ='RR - Base Period Update'!F46 -> 1.3428906
A24: Revenue Requirement | B24: =B22*B23 -> 16720086 | C24: 17669653 | D24: =B24-C24 -> -949566.97

Sheet RR - Base Period Update
H1: Exhibit 37, Schedule A
H2: =RIGHT(CELL("filename",$A$1),LEN(CELL("filename",$A$1))-SEARCH("\Exhibits",CELL("filename",$A$1),1)) -> #VALUE!
H3: Witness: L. Bridwell
A5: Kentucky American Water Company
A6: Case No. 2026-00094
A7: Jurisdictional Financial Summary for the Base and Forecast Period Detailing Derivation of the Requested Revenue Increase
A8: Base Period Update
H10: Exhibit 37, Schedule A
A11: Data: X Base Period X Forecast Period | H11: Revenue Requirement - Base Period Update
A12: Version: _Original X Updated _Revised | H12: Witness Responsible: John Watkins
D13: Support Schedule | E13: Base Period | F13: Forecast Period | G13: Support Schedule
A14: Line # | D14: Reference | E14: Ending August 31, 2026 | F14: Ending December 31, 2027 | G14: Reference | H14: Excel Reference
A15: 1
A16: 2 | B16: Present Rate Utility Operating Income:
A17: 3
A18: 4 | B18: Operating Revenue at Present Rates: | D18: Exhibit 37 Schedule C-1 | E18: 1.5388124e+08 | F18: 1.6248354e+08 | G18: Exhibit 37 Schedule C-1 | H18: Exhibits - Base Year Update\[KAWC 2026 Rate Case - Income Statement.xlsx]Inc Statment - SCH C.1
A19: 5
A20: 6 | B20: Less: Deductions:
A21: 7 | B21: Operating and Maintenance | D21: Exhibit 37 Schedule C-1 | E21: 52342218 | F21: 59711207 | G21: Exhibit 37 Schedule C-1 | H21: Exhibits - Base Year Update\[KAWC 2026 Rate Case - Income Statement.xlsx]Inc Statment - SCH C.1
A22: 8 | B22: Depreciation | D22: Exhibit 37 Schedule C-1 | E22: 32287592 | F22: 37887061 | G22: Exhibit 37 Schedule C-1 | H22: Exhibits - Base Year Update\[KAWC 2026 Rate Case - Income Statement.xlsx]Inc Statment - SCH C.1
A23: 9 | B23: Amortization of UPAA | D23: Exhibit 37 Schedule C-1 | E23: 14722.89 | F23: -54517.37 | G23: Exhibit 37 Schedule C-1 | H23: Exhibits - Base Year Update\[KAWC 2026 Rate Case - Income Statement.xlsx]Inc Statment - SCH C.1
A24: 10 | B24: Amortization Expense | D24: Exhibit 37 Schedule C-1 | E24: 92437.95 | F24: 76196.31 | G24: Exhibit 37 Schedule C-1 | H24: Exhibits - Base Year Update\[KAWC 2026 Rate Case - Income Statement.xlsx]Inc Statment - SCH C.1
A25: 11 | B25: State Income Taxes | D25: Exhibit 37 Schedule C-1 | E25: 2636274 | F25: 1818103.4 | G25: Exhibit 37 Schedule C-1 | H25: Exhibits - Base Year Update\[KAWC 2026 Rate Case - Income Statement.xlsx]Inc Statment - SCH C.1
A26: 12 | B26: Federal Income Taxes | D26: Exhibit 37 Schedule C-1 | E26: 9834048.4 | F26: 6079617.4 | G26: Exhibit 37 Schedule C-1 | H26: Exhibits - Base Year Update\[KAWC 2026 Rate Case - Income Statement.xlsx]Inc Statment - SCH C.1
A27: 13 | B27: Investment Tax Credits | D27: Exhibit 37 Schedule C-1 | E27: 0 | F27: 0 | G27: Exhibit 37 Schedule C-1 | H27: Exhibits - Base Year Update\[KAWC 2026 Rate Case - Income Statement.xlsx]Inc Statment - SCH C.1
A28: 14 | B28: General Taxes: | D28: Exhibit 37 Schedule C-1 | E28: 1764281.5 | F28: 11786915 | G28: Exhibit 37 Schedule C-1 | H28: Exhibits - Base Year Update\[KAWC 2026 Rate Case - Income Statement.xlsx]Inc Statment - SCH C.1
A29: 15 | B29: Total Deductions (Sum Lines 7 - 14): | E29: =SUM(E21:E28) -> 98971575 | F29: =SUM(F21:F28) -> 1.1730458e+08
A30: 16
A31: 17 | B31: Present Rate Operating Income (Line 4 - Line 15): | E31: =E18-E29 -> 54909670 | F31: =F18-F29 -> 45178959
A32: 18
A33: 19
A34: 20 | D34: Support Schedule | E34: =E13 -> Base Period | F34: =F13 -> Forecast Period | G34: Support Schedule
A35: 21 | B35: Revenue Requirement and Increase Comparison: | D35: Reference | E35: =E14 -> Ending August 31, 2026 | F35: =F14 -> Ending December 31, 2027 | G35: Reference | H35: Excel Reference
A36: 22
A37: 23 | B37: Net Original Cost Rate Base | D37: Exhibit 37 Schedule B-1 | E37: 6.768421e+08 | F37: 7.37508e+08 | G37: Exhibit 37 Schedule B-1 | H37: Rate Base\[KAWC 2026 Rate Case - Exhibit 37 Schedules B1 - B8.xlsx]Sch B-1
A38: 24 | B38: Rate of Return | D38: Exhibit 37 Schedule J-1 | E38: 0.0799 | F38: 0.0791 | G38: Exhibit 37 Schedule J-1.1 | H38: Capital Structure\[KAWC 2026 Rate Case - Capital Structure.xlsx]Sch J-1
A39: 25
A40: 26 | B40: Operating Income Required (Line 23 x Line 24): | E40: =E37*E38 -> 54079684 | F40: =F37*F38 -> 58336883
A41: 27
A42: 28 | B42: Less: Operating Income at Present Rates (Line 17): | E42: =E31 -> 54909670 | F42: =F31 -> 45178959
...

Sheet RR - Excluding Black Mtn
A2: Kentucky American Water Company
A3: Case No. 2026-00094
A4: Jurisdictional Financial Summary for the Base and Forecast Period Detailing Derivation of the Requested Revenue Increase
A5: Removal of Black Mountain
H7: Exhibit 37, Schedule A
A8: Data: X Base Period X Forecast Period | H8: Revenue Requirement - Excluding Black Mountain
A9: Version: _Original X Updated _Revised | H9: Witness Responsible: John Watkins
D10: Support Schedule | E10: Base Period | F10: Forecast Period | G10: Support Schedule
A11: Line # | D11: Reference | E11: Ending August 31, 2026 | F11: Ending December 31, 2027 | G11: Reference | H11: Excel Reference
A12: 1
A13: 2 | B13: Present Rate Utility Operating Income:
A14: 3
A15: 4 | B15: Operating Revenue at Present Rates: | D15: Exhibit 37 Schedule C-1 | E15: 1.5388124e+08 | F15: 1.6065424e+08 | G15: Exhibit 37 Schedule C-1 | H15: Exhibits - Discovery - Black Mountain Exclusion\[KAWC 2026 Rate Case - Income Statement.xlsx]Inc Statment - SCH C.1
A16: 5
A17: 6 | B17: Less: Deductions:
A18: 7 | B18: Operating and Maintenance | D18: Exhibit 37 Schedule C-1 | E18: 52342218 | F18: 57175918 | G18: Exhibit 37 Schedule C-1 | H18: Exhibits - Discovery - Black Mountain Exclusion\[KAWC 2026 Rate Case - Income Statement.xlsx]Inc Statment - SCH C.1
A19: 8 | B19: Depreciation | D19: Exhibit 37 Schedule C-1 | E19: 32287592 | F19: 37845102 | G19: Exhibit 37 Schedule C-1 | H19: Exhibits - Discovery - Black Mountain Exclusion\[KAWC 2026 Rate Case - Income Statement.xlsx]Inc Statment - SCH C.1
A20: 9 | B20: Amortization of UPAA | D20: Exhibit 37 Schedule C-1 | E20: 14722.89 | F20: -54517.37 | G20: Exhibit 37 Schedule C-1 | H20: Exhibits - Discovery - Black Mountain Exclusion\[KAWC 2026 Rate Case - Income Statement.xlsx]Inc Statment - SCH C.1
A21: 10 | B21: Amortization Expense | D21: Exhibit 37 Schedule C-1 | E21: 92437.95 | F21: 57080.04 | G21: Exhibit 37 Schedule C-1 | H21: Exhibits - Discovery - Black Mountain Exclusion\[KAWC 2026 Rate Case - Income Statement.xlsx]Inc Statment - SCH C.1
A22: 11 | B22: State Income Taxes | D22: Exhibit 37 Schedule C-1 | E22: 2634516.2 | F22: 1860616.2 | G22: Exhibit 37 Schedule C-1 | H22: Exhibits - Discovery - Black Mountain Exclusion\[KAWC 2026 Rate Case - Income Statement.xlsx]Inc Statment - SCH C.1
A23: 12 | B23: Federal Income Taxes | D23: Exhibit 37 Schedule C-1 | E23: 9827034.8 | F23: 6249243.3 | G23: Exhibit 37 Schedule C-1 | H23: Exhibits - Discovery - Black Mountain Exclusion\[KAWC 2026 Rate Case - Income Statement.xlsx]Inc Statment - SCH C.1
A24: 13 | B24: Investment Tax Credits | D24: Exhibit 37 Schedule C-1 | E24: 0 | F24: 0 | G24: Exhibit 37 Schedule C-1 | H24: Exhibits - Discovery - Black Mountain Exclusion\[KAWC 2026 Rate Case - Income Statement.xlsx]Inc Statment - SCH C.1
A25: 14 | B25: General Taxes: | D25: Exhibit 37 Schedule C-1 | E25: 1764281.5 | F25: 11731042 | G25: Exhibit 37 Schedule C-1 | H25: Exhibits - Discovery - Black Mountain Exclusion\[KAWC 2026 Rate Case - Income Statement.xlsx]Inc Statment - SCH C.1
A26: 15 | B26: Total Deductions (Sum Lines 7 - 14): | E26: =SUM(E18:E25) -> 98962803 | F26: =SUM(F18:F25) -> 1.1486448e+08
A27: 16
A28: 17 | B28: Present Rate Operating Income (Line 4 - Line 15): | E28: =E15-E26 -> 54918441 | F28: =F15-F26 -> 45789758
A29: 18
A30: 19
A31: 20 | D31: Support Schedule | E31: =E10 -> Base Period | F31: =F10 -> Forecast Period | G31: Support Schedule
A32: 21 | B32: Revenue Requirement and Increase Comparison: | D32: Reference | E32: =E11 -> Ending August 31, 2026 | F32: =F11 -> Ending December 31, 2027 | G32: Reference | H32: Excel Reference
A33: 22
A34: 23 | B34: Net Original Cost Rate Base | D34: Exhibit 37 Schedule B-1 | E34: 6.7846218e+08 | F34: 7.3629046e+08 | G34: Exhibit 37 Schedule B-1 | H34: Rate Base\[KAWC 2026 Rate Case - Exhibit 37 Schedules B1 - B8.xlsx]Sch B-1
A35: 24 | B35: Rate of Return | D35: Exhibit 37 Schedule J-1 | E35: 0.0799 | F35: 0.0791 | G35: Exhibit 37 Schedule J-1.1 | H35: Capital Structure\[KAWC 2026 Rate Case - Capital Structure.xlsx]Sch J-1
A36: 25
A37: 26 | B37: Operating Income Required (Line 23 x Line 24): | E37: =E34*E35 -> 54209128 | F37: =F34*F35 -> 58240575
A38: 27
A39: 28 | B39: Less: Operating Income at Present Rates (Line 17): | E39: =E28 -> 54918441 | F39: =F28 -> 45789758
A40: 29
A41: 30 | B41: Increase in Operating Income Required (Line 26 - Line 28) | E41: =E37-E39 -> -709312.82 | F41: =F37-F39 -> 12450818
A42: 31
...
